Workbook
Name Excel_BuiltIn_Print_Titles_1_1: #REF!
Name Excel_BuiltIn_Print_Titles_1_1_1: #REF!
Name Excel_BuiltIn_Print_Titles_1_1_1_1: #REF!
Name Excel_BuiltIn_Print_Titles_1_1_1_1_1: #REF!

Sheet total TARA
AJ1: ANEXA nr. 24
B2: TOTAL TARA
B3: Perioada: 2015
H5: SITUAŢIA PRIVIND EXECUŢIA VENITURILOR ŞI CHELTUIELILOR BUGETELOR LOCALE PE UNITĂŢI ADMINISTRATIV-TERITORIALE
C8: ='1'!D14+'2'!D14+'3'!D14+'4'!D14+'5'!D14+'6'!D14+'7'!D14+'8'!D14+'9'!D14+'10'!D14+'11'!D14+'12'!D14+'13'!D14+'14'!D14+'15'!D14+'16'!D14+'17'!D14+'18'!D14+'19'!D14+'20'!D14+'21'!D14+'22'!D14+'23'!D14+'24'!D14+'25'!D14+'26'!D14+'27'!D14+'28'!D14+'29'!D14+'30'!D14+'31'!D14+'32'!D14+'33'!D14+'34'!D14+'35'!D14+'36'!D14+'37'!D14+'38'!D14+'39'!D14+'40'!D14+'41'!D14+'42'!D14 -> 61462942941 | D8: ='1'!E14+'2'!E14+'3'!E14+'4'!E14+'5'!E14+'6'!E14+'7'!E14+'8'!E14+'9'!E14+'10'!E14+'11'!E14+'12'!E14+'13'!E14+'14'!E14+'15'!E14+'16'!E14+'17'!E14+'18'!E14+'19'!E14+'20'!E14+'21'!E14+'22'!E14+'23'!E14+'24'!E14+'25'!E14+'26'!E14+'27'!E14+'28'!E14+'29'!E14+'30'!E14+'31'!E14+'32'!E14+'33'!E14+'34'!E14+'35'!E14+'36'!E14+'37'!E14+'38'!E14+'39'!E14+'40'!E14+'41'!E14+'42'!E14 -> 26582371600 | E8: ='1'!F14+'2'!F14+'3'!F14+'4'!F14+'5'!F14+'6'!F14+'7'!F14+'8'!F14+'9'!F14+'10'!F14+'11'!F14+'12'!F14+'13'!F14+'14'!F14+'15'!F14+'16'!F14+'17'!F14+'18'!F14+'19'!F14+'20'!F14+'21'!F14+'22'!F14+'23'!F14+'24'!F14+'25'!F14+'26'!F14+'27'!F14+'28'!F14+'29'!F14+'30'!F14+'31'!F14+'32'!F14+'33'!F14+'34'!F14+'35'!F14+'36'!F14+'37'!F14+'38'!F14+'39'!F14+'40'!F14+'41'!F14+'42'!F14 -> 13502178535 | F8: ='1'!G14+'2'!G14+'3'!G14+'4'!G14+'5'!G14+'6'!G14+'7'!G14+'8'!G14+'9'!G14+'10'!G14+'11'!G14+'12'!G14+'13'!G14+'14'!G14+'15'!G14+'16'!G14+'17'!G14+'18'!G14+'19'!G14+'20'!G14+'21'!G14+'22'!G14+'23'!G14+'24'!G14+'25'!G14+'26'!G14+'27'!G14+'28'!G14+'29'!G14+'30'!G14+'31'!G14+'32'!G14+'33'!G14+'34'!G14+'35'!G14+'36'!G14+'37'!G14+'38'!G14+'39'!G14+'40'!G14+'41'!G14+'42'!G14 -> 3611249859 | G8: ='1'!H14+'2'!H14+'3'!H14+'4'!H14+'5'!H14+'6'!H14+'7'!H14+'8'!H14+'9'!H14+'10'!H14+'11'!H14+'12'!H14+'13'!H14+'14'!H14+'15'!H14+'16'!H14+'17'!H14+'18'!H14+'19'!H14+'20'!H14+'21'!H14+'22'!H14+'23'!H14+'24'!H14+'25'!H14+'26'!H14+'27'!H14+'28'!H14+'29'!H14+'30'!H14+'31'!H14+'32'!H14+'33'!H14+'34'!H14+'35'!H14+'36'!H14+'37'!H14+'38'!H14+'39'!H14+'40'!H14+'41'!H14+'42'!H14 -> 2315038722 | H8: ='1'!I14+'2'!I14+'3'!I14+'4'!I14+'5'!I14+'6'!I14+'7'!I14+'8'!I14+'9'!I14+'10'!I14+'11'!I14+'12'!I14+'13'!I14+'14'!I14+'15'!I14+'16'!I14+'17'!I14+'18'!I14+'19'!I14+'20'!I14+'21'!I14+'22'!I14+'23'!I14+'24'!I14+'25'!I14+'26'!I14+'27'!I14+'28'!I14+'29'!I14+'30'!I14+'31'!I14+'32'!I14+'33'!I14+'34'!I14+'35'!I14+'36'!I14+'37'!I14+'38'!I14+'39'!I14+'40'!I14+'41'!I14+'42'!I14 -> 13547800716 | I8: ='1'!J14+'2'!J14+'3'!J14+'4'!J14+'5'!J14+'6'!J14+'7'!J14+'8'!J14+'9'!J14+'10'!J14+'11'!J14+'12'!J14+'13'!J14+'14'!J14+'15'!J14+'16'!J14+'17'!J14+'18'!J14+'19'!J14+'20'!J14+'21'!J14+'22'!J14+'23'!J14+'24'!J14+'25'!J14+'26'!J14+'27'!J14+'28'!J14+'29'!J14+'30'!J14+'31'!J14+'32'!J14+'33'!J14+'34'!J14+'35'!J14+'36'!J14+'37'!J14+'38'!J14+'39'!J14+'40'!J14+'41'!J14+'42'!J14 -> 787374414 | J8: ='1'!K14+'2'!K14+'3'!K14+'4'!K14+'5'!K14+'6'!K14+'7'!K14+'8'!K14+'9'!K14+'10'!K14+'11'!K14+'12'!K14+'13'!K14+'14'!K14+'15'!K14+'16'!K14+'17'!K14+'18'!K14+'19'!K14+'20'!K14+'21'!K14+'22'!K14+'23'!K14+'24'!K14+'25'!K14+'26'!K14+'27'!K14+'28'!K14+'29'!K14+'30'!K14+'31'!K14+'32'!K14+'33'!K14+'34'!K14+'35'!K14+'36'!K14+'37'!K14+'38'!K14+'39'!K14+'40'!K14+'41'!K14+'42'!K14 -> 4575819330 | ... AK8: ='1'!AL14+'2'!AL14+'3'!AL14+'4'!AL14+'5'!AL14+'6'!AL14+'7'!AL14+'8'!AL14+'9'!AL14+'10'!AL14+'11'!AL14+'12'!AL14+'13'!AL14+'14'!AL14+'15'!AL14+'16'!AL14+'17'!AL14+'18'!AL14+'19'!AL14+'20'!AL14+'21'!AL14+'22'!AL14+'23'!AL14+'24'!AL14+'25'!AL14+'26'!AL14+'27'!AL14+'28'!AL14+'29'!AL14+'30'!AL14+'31'!AL14+'32'!AL14+'33'!AL14+'34'!AL14+'35'!AL14+'36'!AL14+'37'!AL14+'38'!AL14+'39'!AL14+'40'!AL14+'41'!AL14+'42'!AL14 -> 10527951899 | AL8: - lei -
A9: DENUMIREA UNITĂŢILOR ADMINISTRATIV-TERITORIALE (în ordine alfabetică) | C9: VENITURI | D9: VENITURI PROPRII | G9: Sume defalcate din TVA pentru finanţarea cheltuielilor descentralizate la nivelul judeţelor | H9: Sume defalcate din TVA pentru finanţarea cheltuielilor descentralizate la nivelul comunelor, oraşelor, municipiilor, sectoarelor şi municipiului Bucureşti | I9: Sume defalcate din TVA pentru drumuri | J9: Sume defalcate din TVA pentru echilibrarea bugetelor locale | K9: Sume defalcate din TVA pentru finanţarea Programului de dezvoltare a infrastructurii şi a bazelor sportive din spaţiul rural | L9: Subvenţii | M9: Sume primite de la Ue/alti donatori in contul platilor efectuate si prefinantari | N9: Alte venituri | O9: CHELTUIELI | P9: d i n c a r e: pe titluri de cheltuieli | AB9: d i n c a r e: pe parti si capitole de cheltuieli
C10: TOTALE | E10: din care: | O10: TOTALE
C11: (col.2+5+...+11) | D11: TOTAL | E11: Cote defalcate din impozitul pe venit | F11: Sume alocate din cotele defalcate din impozitul pe venit pentru echilibrarea bugetelor locale | O11: (col.14+...+24 - 25) (col.26+...+34) | P11: Cheltuieli de personal | Q11: Bunuri şi servicii | R11: Dobânzi | S11: Subvenţii | T11: Transferuri între unităţi ale administraţiei publice | U11: Alte transferuri | V11: Proiecte cu finanţare din fonduri externe nerambursabile | W11: Asistenţă socială | X11: Alte cheltuieli | Y11: Cheltuieli de capital | Z11: Operatiuni financiare | AA11: Plăţi efectuate în anii precedenţi şi recuperate în anul curent | AB11: Servicii publice generale | AC11: Apărare, ordine publică şi siguranţă naţională | AD11: Învăţământ | AE11: Sănătate | AF11: Cultură, recreere şi religie | AG11: Asigurări şi asistenţă socială | AH11: Servicii şi dezvoltare publică, locuinţe | AI11: Protectia mediului | AJ11: Combustibili şi energie | AK11: Transporturi | AL11: Alte cheltuieli
C12: 00.01.02 | D12: 48.02 | E12: 04.02.01 | F12: 04.02.04 | G12: 11.02.01 | H12: 11.02.02 | I12: 11.02.05 | J12: 11.02.06 | K12: 11.02.07 | L12: 42.02 | M12: 45.02 | O12: 50.02 | P12: 10 | Q12: 20 | R12: 30 | S12: 40 | T12: 51 | U12: 55 | V12: 56 | W12: 57 | X12: 59 | Y12: 70 | Z12: 79 | AA12: 84 | AB12: 50.02 | AC12: 59.02 | AD12: 65.02 | AE12: 66.02 | AF12: 67.02 | AG12: 68.02 | AH12: 70.02 | AI12: 74.02 | AJ12: 81.02 | AK12: 84.02
A13: A | C13: 1 | D13: 2 | E13: 3 | F13: 4 | G13: 5 | H13: 6 | I13: 7 | J13: 8 | K13: 9 | L13: 10 | M13: 11 | N13: 12 | O13: 13 | P13: 14 | Q13: 15 | R13: 16 | S13: 17 | T13: 18 | U13: 19 | V13: 20 | W13: 21 | X13: 22 | Y13: 23 | Z13: 24 | AA13: 25 | AB13: 26 | AC13: 27 | AD13: 28 | AE13: 29 | AF13: 30 | AG13: 31 | AH13: 32 | AI13: 33 | AJ13: 34 | AK13: 35 | AL13: 36
A14: TOTAL | C14: =SUM(C15:C56) -> 61462942941 | D14: =SUM(D15:D56) -> 26582371600 | E14: =SUM(E15:E56) -> 13502178535 | F14: =SUM(F15:F56) -> 3611249859 | G14: =SUM(G15:G56) -> 2315038722 | H14: =SUM(H15:H56) -> 13547800716 | I14: =SUM(I15:I56) -> 787374414 | J14: =SUM(J15:J56) -> 4575819330 | ... AL14: =SUM(AL15:AL56) -> 996237961
A15: 1 | B15: Alba | C15: ='total COMUNE'!C15+totalORASE!C15+'total MUNICIPII'!C15+totalCJ!C15 -> 1102402336 | D15: ='total COMUNE'!D15+totalORASE!D15+'total MUNICIPII'!D15+totalCJ!D15 -> 375405646 | E15: ='total COMUNE'!E15+totalORASE!E15+'total MUNICIPII'!E15+totalCJ!E15 -> 177401610 | F15: ='total COMUNE'!F15+totalORASE!F15+'total MUNICIPII'!F15+totalCJ!F15 -> 61923211 | G15: ='total COMUNE'!G15+totalORASE!G15+'total MUNICIPII'!G15+totalCJ!G15 -> 52542986 | H15: ='total COMUNE'!H15+totalORASE!H15+'total MUNICIPII'!H15+totalCJ!H15 -> 243100169 | I15: ='total COMUNE'!I15+totalORASE!I15+'total MUNICIPII'!I15+totalCJ!I15 -> 19539351 | J15: ='total COMUNE'!J15+totalORASE!J15+'total MUNICIPII'!J15+totalCJ!J15 -> 107805550 | ... AL15: ='total COMUNE'!AL15+totalORASE!AL15+'total MUNICIPII'!AL15+totalCJ!AL15 -> 8731532
A16: 2 | B16: Arad | C16: ='total COMUNE'!C16+totalORASE!C16+'total MUNICIPII'!C16+totalCJ!C16 -> 1241554023 | D16: ='total COMUNE'!D16+totalORASE!D16+'total MUNICIPII'!D16+totalCJ!D16 -> 619259913 | E16: ='total COMUNE'!E16+totalORASE!E16+'total MUNICIPII'!E16+totalCJ!E16 -> 267332363 | F16: ='total COMUNE'!F16+totalORASE!F16+'total MUNICIPII'!F16+totalCJ!F16 -> 93314118 | G16: ='total COMUNE'!G16+totalORASE!G16+'total MUNICIPII'!G16+totalCJ!G16 -> 50529390 | H16: ='total COMUNE'!H16+totalORASE!H16+'total MUNICIPII'!H16+totalCJ!H16 -> 260826959 | I16: ='total COMUNE'!I16+totalORASE!I16+'total MUNICIPII'!I16+totalCJ!I16 -> 18190479 | J16: ='total COMUNE'!J16+totalORASE!J16+'total MUNICIPII'!J16+totalCJ!J16 -> 64882860 | ... AL16: ='total COMUNE'!AL16+totalORASE!AL16+'total MUNICIPII'!AL16+totalCJ!AL16 -> 5583532
A17: 3 | B17: Argeş | C17: ='total COMUNE'!C17+totalORASE!C17+'total MUNICIPII'!C17+totalCJ!C17 -> 1751840131 | D17: ='total COMUNE'!D17+totalORASE!D17+'total MUNICIPII'!D17+totalCJ!D17 -> 757702615 | E17: ='total COMUNE'!E17+totalORASE!E17+'total MUNICIPII'!E17+totalCJ!E17 -> 377996666 | F17: ='total COMUNE'!F17+totalORASE!F17+'total MUNICIPII'!F17+totalCJ!F17 -> 131942244 | G17: ='total COMUNE'!G17+totalORASE!G17+'total MUNICIPII'!G17+totalCJ!G17 -> 71929898 | H17: ='total COMUNE'!H17+totalORASE!H17+'total MUNICIPII'!H17+totalCJ!H17 -> 512264612 | I17: ='total COMUNE'!I17+totalORASE!I17+'total MUNICIPII'!I17+totalCJ!I17 -> 20105655 | J17: ='total COMUNE'!J17+totalORASE!J17+'total MUNICIPII'!J17+totalCJ!J17 -> 70033300 | ... AL17: ='total COMUNE'!AL17+totalORASE!AL17+'total MUNICIPII'!AL17+totalCJ!AL17 -> 13944551
A18: 4 | B18: Bacău | C18: ='total COMUNE'!C18+totalORASE!C18+'total MUNICIPII'!C18+totalCJ!C18 -> 1543215676 | D18: ='total COMUNE'!D18+totalORASE!D18+'total MUNICIPII'!D18+totalCJ!D18 -> 491187174 | E18: ='total COMUNE'!E18+totalORASE!E18+'total MUNICIPII'!E18+totalCJ!E18 -> 212119132 | F18: ='total COMUNE'!F18+totalORASE!F18+'total MUNICIPII'!F18+totalCJ!F18 -> 74295097 | G18: ='total COMUNE'!G18+totalORASE!G18+'total MUNICIPII'!G18+totalCJ!G18 -> 77844748 | H18: ='total COMUNE'!H18+totalORASE!H18+'total MUNICIPII'!H18+totalCJ!H18 -> 427331412 | I18: ='total COMUNE'!I18+totalORASE!I18+'total MUNICIPII'!I18+totalCJ!I18 -> 21041276 | J18: ='total COMUNE'!J18+totalORASE!J18+'total MUNICIPII'!J18+totalCJ!J18 -> 114487990 | ... AL18: ='total COMUNE'!AL18+totalORASE!AL18+'total MUNICIPII'!AL18+totalCJ!AL18 -> 20611935
A19: 5 | B19: Bihor | C19: ='total COMUNE'!C19+totalORASE!C19+'total MUNICIPII'!C19+totalCJ!C19 -> 2014900419 | D19: ='total COMUNE'!D19+totalORASE!D19+'total MUNICIPII'!D19+totalCJ!D19 -> 643135317 | E19: ='total COMUNE'!E19+totalORASE!E19+'total MUNICIPII'!E19+totalCJ!E19 -> 287158823 | F19: ='total COMUNE'!F19+totalORASE!F19+'total MUNICIPII'!F19+totalCJ!F19 -> 100232000 | G19: ='total COMUNE'!G19+totalORASE!G19+'total MUNICIPII'!G19+totalCJ!G19 -> 86730000 | H19: ='total COMUNE'!H19+totalORASE!H19+'total MUNICIPII'!H19+totalCJ!H19 -> 417978620 | I19: ='total COMUNE'!I19+totalORASE!I19+'total MUNICIPII'!I19+totalCJ!I19 -> 20088725 | J19: ='total COMUNE'!J19+totalORASE!J19+'total MUNICIPII'!J19+totalCJ!J19 -> 116833437 | ... AL19: ='total COMUNE'!AL19+totalORASE!AL19+'total MUNICIPII'!AL19+totalCJ!AL19 -> 57005797
A20: 6 | B20: Bistriţa - Năsăud | C20: ='total COMUNE'!C20+totalORASE!C20+'total MUNICIPII'!C20+totalCJ!C20 -> 1035216123 | D20: ='total COMUNE'!D20+totalORASE!D20+'total MUNICIPII'!D20+totalCJ!D20 -> 280576276 | E20: ='total COMUNE'!E20+totalORASE!E20+'total MUNICIPII'!E20+totalCJ!E20 -> 112432450 | F20: ='total COMUNE'!F20+totalORASE!F20+'total MUNICIPII'!F20+totalCJ!F20 -> 38982819 | G20: ='total COMUNE'!G20+totalORASE!G20+'total MUNICIPII'!G20+totalCJ!G20 -> 47609419 | H20: ='total COMUNE'!H20+totalORASE!H20+'total MUNICIPII'!H20+totalCJ!H20 -> 228741572 | I20: ='total COMUNE'!I20+totalORASE!I20+'total MUNICIPII'!I20+totalCJ!I20 -> 18791957 | J20: ='total COMUNE'!J20+totalORASE!J20+'total MUNICIPII'!J20+totalCJ!J20 -> 97921630 | ... AL20: ='total COMUNE'!AL20+totalORASE!AL20+'total MUNICIPII'!AL20+totalCJ!AL20 -> 86244506
A21: 7 | B21: Botoşani | C21: ='total COMUNE'!C21+totalORASE!C21+'total MUNICIPII'!C21+totalCJ!C21 -> 1019440341 | D21: ='total COMUNE'!D21+totalORASE!D21+'total MUNICIPII'!D21+totalCJ!D21 -> 239703885 | E21: ='total COMUNE'!E21+totalORASE!E21+'total MUNICIPII'!E21+totalCJ!E21 -> 99189444 | F21: ='total COMUNE'!F21+totalORASE!F21+'total MUNICIPII'!F21+totalCJ!F21 -> 34865671 | G21: ='total COMUNE'!G21+totalORASE!G21+'total MUNICIPII'!G21+totalCJ!G21 -> 50674778 | H21: ='total COMUNE'!H21+totalORASE!H21+'total MUNICIPII'!H21+totalCJ!H21 -> 287337687 | I21: ='total COMUNE'!I21+totalORASE!I21+'total MUNICIPII'!I21+totalCJ!I21 -> 22032212 | J21: ='total COMUNE'!J21+totalORASE!J21+'total MUNICIPII'!J21+totalCJ!J21 -> 155256890 | ... AL21: ='total COMUNE'!AL21+totalORASE!AL21+'total MUNICIPII'!AL21+totalCJ!AL21 -> 6572500
A22: 8 | B22: Braşov | C22: ='total COMUNE'!C22+totalORASE!C22+'total MUNICIPII'!C22+totalCJ!C22 -> 1616622775 | D22: ='total COMUNE'!D22+totalORASE!D22+'total MUNICIPII'!D22+totalCJ!D22 -> 906583763 | E22: ='total COMUNE'!E22+totalORASE!E22+'total MUNICIPII'!E22+totalCJ!E22 -> 403340078 | F22: ='total COMUNE'!F22+totalORASE!F22+'total MUNICIPII'!F22+totalCJ!F22 -> 141002168 | G22: ='total COMUNE'!G22+totalORASE!G22+'total MUNICIPII'!G22+totalCJ!G22 -> 60319094 | H22: ='total COMUNE'!H22+totalORASE!H22+'total MUNICIPII'!H22+totalCJ!H22 -> 323910686 | I22: ='total COMUNE'!I22+totalORASE!I22+'total MUNICIPII'!I22+totalCJ!I22 -> 16971300 | J22: ='total COMUNE'!J22+totalORASE!J22+'total MUNICIPII'!J22+totalCJ!J22 -> 74741700 | ... AL22: ='total COMUNE'!AL22+totalORASE!AL22+'total MUNICIPII'!AL22+totalCJ!AL22 -> 63082930
A23: 9 | B23: Brăila | C23: ='total COMUNE'!C23+totalORASE!C23+'total MUNICIPII'!C23+totalCJ!C23 -> 849534277 | D23: ='total COMUNE'!D23+totalORASE!D23+'total MUNICIPII'!D23+totalCJ!D23 -> 316339546 | E23: ='total COMUNE'!E23+totalORASE!E23+'total MUNICIPII'!E23+totalCJ!E23 -> 130602536 | F23: ='total COMUNE'!F23+totalORASE!F23+'total MUNICIPII'!F23+totalCJ!F23 -> 45587671 | G23: ='total COMUNE'!G23+totalORASE!G23+'total MUNICIPII'!G23+totalCJ!G23 -> 29212614 | H23: ='total COMUNE'!H23+totalORASE!H23+'total MUNICIPII'!H23+totalCJ!H23 -> 216322233 | I23: ='total COMUNE'!I23+totalORASE!I23+'total MUNICIPII'!I23+totalCJ!I23 -> 16273140 | J23: ='total COMUNE'!J23+totalORASE!J23+'total MUNICIPII'!J23+totalCJ!J23 -> 75395600 | ... AL23: ='total COMUNE'!AL23+totalORASE!AL23+'total MUNICIPII'!AL23+totalCJ!AL23 -> 7853183
A24: 10 | B24: Buzău | C24: ='total COMUNE'!C24+totalORASE!C24+'total MUNICIPII'!C24+totalCJ!C24 -> 1093429758 | D24: ='total COMUNE'!D24+totalORASE!D24+'total MUNICIPII'!D24+totalCJ!D24 -> 351193680 | E24: ='total COMUNE'!E24+totalORASE!E24+'total MUNICIPII'!E24+totalCJ!E24 -> 167421003 | F24: ='total COMUNE'!F24+totalORASE!F24+'total MUNICIPII'!F24+totalCJ!F24 -> 58439418 | G24: ='total COMUNE'!G24+totalORASE!G24+'total MUNICIPII'!G24+totalCJ!G24 -> 55499368 | H24: ='total COMUNE'!H24+totalORASE!H24+'total MUNICIPII'!H24+totalCJ!H24 -> 286642783 | I24: ='total COMUNE'!I24+totalORASE!I24+'total MUNICIPII'!I24+totalCJ!I24 -> 21437734 | J24: ='total COMUNE'!J24+totalORASE!J24+'total MUNICIPII'!J24+totalCJ!J24 -> 117599610 | ... AL24: ='total COMUNE'!AL24+totalORASE!AL24+'total MUNICIPII'!AL24+totalCJ!AL24 -> 7803603
A25: 11 | B25: Caraş - Severin | C25: ='total COMUNE'!C25+totalORASE!C25+'total MUNICIPII'!C25+totalCJ!C25 -> 904161945 | D25: ='total COMUNE'!D25+totalORASE!D25+'total MUNICIPII'!D25+totalCJ!D25 -> 246982766 | E25: ='total COMUNE'!E25+totalORASE!E25+'total MUNICIPII'!E25+totalCJ!E25 -> 101335116 | F25: ='total COMUNE'!F25+totalORASE!F25+'total MUNICIPII'!F25+totalCJ!F25 -> 35371850 | G25: ='total COMUNE'!G25+totalORASE!G25+'total MUNICIPII'!G25+totalCJ!G25 -> 46062946 | H25: ='total COMUNE'!H25+totalORASE!H25+'total MUNICIPII'!H25+totalCJ!H25 -> 214204686 | I25: ='total COMUNE'!I25+totalORASE!I25+'total MUNICIPII'!I25+totalCJ!I25 -> 19698000 | J25: ='total COMUNE'!J25+totalORASE!J25+'total MUNICIPII'!J25+totalCJ!J25 -> 138845140 | ... AL25: ='total COMUNE'!AL25+totalORASE!AL25+'total MUNICIPII'!AL25+totalCJ!AL25 -> 34287779
A26: 12 | B26: Călăraşi | C26: ='total COMUNE'!C26+totalORASE!C26+'total MUNICIPII'!C26+totalCJ!C26 -> 832733181 | D26: ='total COMUNE'!D26+totalORASE!D26+'total MUNICIPII'!D26+totalCJ!D26 -> 239852053 | E26: ='total COMUNE'!E26+totalORASE!E26+'total MUNICIPII'!E26+totalCJ!E26 -> 99795265 | F26: ='total COMUNE'!F26+totalORASE!F26+'total MUNICIPII'!F26+totalCJ!F26 -> 35498230 | G26: ='total COMUNE'!G26+totalORASE!G26+'total MUNICIPII'!G26+totalCJ!G26 -> 32847347 | H26: ='total COMUNE'!H26+totalORASE!H26+'total MUNICIPII'!H26+totalCJ!H26 -> 193760408 | I26: ='total COMUNE'!I26+totalORASE!I26+'total MUNICIPII'!I26+totalCJ!I26 -> 17063400 | J26: ='total COMUNE'!J26+totalORASE!J26+'total MUNICIPII'!J26+totalCJ!J26 -> 108528410 | ... AL26: ='total COMUNE'!AL26+totalORASE!AL26+'total MUNICIPII'!AL26+totalCJ!AL26 -> 13102745
... A56: 42 | B56: Mun. Bucureşti | C56: ='total COMUNE'!C56+totalORASE!C56+'total MUNICIPII'!C56+totalCJ!C56 -> 8068359583 | D56: ='total COMUNE'!D56+totalORASE!D56+'total MUNICIPII'!D56+totalCJ!D56 -> 6543603955 | E56: ='total COMUNE'!E56+totalORASE!E56+'total MUNICIPII'!E56+totalCJ!E56 -> 4528503614 | F56: ='total COMUNE'!F56+totalORASE!F56+'total MUNICIPII'!F56+totalCJ!F56 -> 491462803 | G56: ='total COMUNE'!G56+totalORASE!G56+'total MUNICIPII'!G56+totalCJ!G56 -> 0 | H56: ='total COMUNE'!H56+totalORASE!H56+'total MUNICIPII'!H56+totalCJ!H56 -> 1139191746 | I56: ='total COMUNE'!I56+totalORASE!I56+'total MUNICIPII'!I56+totalCJ!I56 -> 0 | J56: ='total COMUNE'!J56+totalORASE!J56+'total MUNICIPII'!J56+totalCJ!J56 -> 31549080 | ... AL56: ='total COMUNE'!AL56+totalORASE!AL56+'total MUNICIPII'!AL56+totalCJ!AL56 -> 3633626
Q65: =Q60-Q61 -> 0

Sheet total COMUNE
AJ1: ANEXA nr. 24
B2: TOTAL COMUNE
B3: Perioada: 2015
H5: SITUAŢIA PRIVIND EXECUŢIA VENITURILOR ŞI CHELTUIELILOR BUGETELOR LOCALE PE UNITĂŢI ADMINISTRATIV-TERITORIALE
AL8: - lei -
A9: DENUMIREA UNITĂŢILOR ADMINISTRATIV-TERITORIALE (în ordine alfabetică) | C9: VENITURI | D9: VENITURI PROPRII | G9: Sume defalcate din TVA pentru finanţarea cheltuielilor descentralizate la nivelul judeţelor | H9: Sume defalcate din TVA pentru finanţarea cheltuielilor descentralizate la nivelul comunelor, oraşelor, municipiilor, sectoarelor şi municipiului Bucureşti | I9: Sume defalcate din TVA pentru drumuri | J9: Sume defalcate din TVA pentru echilibrarea bugetelor locale | K9: Sume defalcate din TVA pentru finanţarea Programului de dezvoltare a infrastructurii şi a bazelor sportive din spaţiul rural | L9: Subvenţii | M9: Sume primite de la Ue/alti donatori in contul platilor efectuate si prefinantari | N9: Alte venituri | O9: CHELTUIELI | P9: d i n c a r e: pe titluri de cheltuieli | AB9: d i n c a r e: pe parti si capitole de cheltuieli
C10: TOTALE | E10: din care: | O10: TOTALE
C11: (col.2+5+...+11) | D11: TOTAL | E11: Cote defalcate din impozitul pe venit | F11: Sume alocate din cotele defalcate din impozitul pe venit pentru echilibrarea bugetelor locale | O11: (col.14+...+24 - 25) (col.26+...+34) | P11: Cheltuieli de personal | Q11: Bunuri şi servicii | R11: Dobânzi | S11: Subvenţii | T11: Transferuri între unităţi ale administraţiei publice | U11: Alte transferuri | V11: Proiecte cu finanţare din fonduri externe nerambursabile | W11: Asistenţă socială | X11: Alte cheltuieli | Y11: Cheltuieli de capital | Z11: Operatiuni financiare | AA11: Plăţi efectuate în anii precedenţi şi recuperate în anul curent | AB11: Servicii publice generale | AC11: Apărare, ordine publică şi siguranţă naţională | AD11: Învăţământ | AE11: Sănătate | AF11: Cultură, recreere şi religie | AG11: Asigurări şi asistenţă socială | AH11: Servicii şi dezvoltare publică, locuinţe | AI11: Protectia mediului | AJ11: Combustibili şi energie | AK11: Transporturi | AL11: Alte cheltuieli
C12: 00.01.02 | D12: 48.02 | E12: 04.02.01 | F12: 04.02.04 | G12: 11.02.01 | H12: 11.02.02 | I12: 11.02.05 | J12: 11.02.06 | K12: 11.02.07 | L12: 42.02 | M12: 45.02 | O12: 50.02 | P12: 10 | Q12: 20 | R12: 30 | S12: 40 | T12: 51 | U12: 55 | V12: 56 | W12: 57 | X12: 59 | Y12: 70 | Z12: 79 | AA12: 84 | AB12: 50.02 | AC12: 59.02 | AD12: 65.02 | AE12: 66.02 | AF12: 67.02 | AG12: 68.02 | AH12: 70.02 | AI12: 74.02 | AJ12: 81.02 | AK12: 84.02
A13: A | C13: 1 | D13: 2 | E13: 3 | F13: 4 | G13: 5 | H13: 6 | I13: 7 | J13: 8 | K13: 9 | L13: 10 | M13: 11 | N13: 12 | O13: 13 | P13: 14 | Q13: 15 | R13: 16 | S13: 17 | T13: 18 | U13: 19 | V13: 20 | W13: 21 | X13: 22 | Y13: 23 | Z13: 24 | AA13: 25 | AB13: 26 | AC13: 27 | AD13: 28 | AE13: 29 | AF13: 30 | AG13: 31 | AH13: 32 | AI13: 33 | AJ13: 34 | AK13: 35 | AL13: 36
A14: TOTAL | C14: =SUM(C15:C56) -> 18051697207 | D14: =SUM(D15:D56) -> 5451045938 | E14: =SUM(E15:E56) -> 1338784722 | F14: =SUM(F15:F56) -> 1519331339 | G14: =SUM(G15:G56) -> 0 | H14: =SUM(H15:H56) -> 5031171236 | I14: =SUM(I15:I56) -> 324538081 | J14: =SUM(J15:J56) -> 2464723409 | ... AL14: =SUM(AL15:AL56) -> 368683663
A15: 1 | B15: Alba | C15: ='1'!D54 -> 332634770 | D15: ='1'!E54 -> 92110496 | E15: ='1'!F54 -> 23884928 | F15: ='1'!G54 -> 26936900 | G15: ='1'!H54 -> 0 | H15: ='1'!I54 -> 84683781 | I15: ='1'!J54 -> 2224351 | J15: ='1'!K54 -> 56325310 | ... AL15: ='1'!AM54 -> 4655354
A16: 2 | B16: Arad | C16: ='2'!D54 -> 389661214 | D16: ='2'!E54 -> 152691137 | E16: ='2'!F54 -> 24249009 | F16: ='2'!G54 -> 58811220 | G16: ='2'!H54 -> 0 | H16: ='2'!I54 -> 97797190 | I16: ='2'!J54 -> 11663479 | J16: ='2'!K54 -> 37359610 | ... AL16: ='2'!AM54 -> 3116286
A17: 3 | B17: Argeş | C17: ='3'!D54 -> 612443002 | D17: ='3'!E54 -> 235229196 | E17: ='3'!F54 -> 61521619 | F17: ='3'!G54 -> 86068918 | G17: ='3'!H54 -> 0 | H17: ='3'!I54 -> 205553687 | I17: ='3'!J54 -> 17379655 | J17: ='3'!K54 -> 41557880 | ... AL17: ='3'!AM54 -> 4216253
A18: 4 | B18: Bacău | C18: ='4'!D54 -> 581274816 | D18: ='4'!E54 -> 134929756 | E18: ='4'!F54 -> 30538823 | F18: ='4'!G54 -> 41123275 | G18: ='4'!H54 -> 0 | H18: ='4'!I54 -> 190510919 | I18: ='4'!J54 -> 10482276 | J18: ='4'!K54 -> 80757670 | ... AL18: ='4'!AM54 -> 2344018
A19: 5 | B19: Bihor | C19: ='5'!D54 -> 580948517 | D19: ='5'!E54 -> 177119387 | E19: ='5'!F54 -> 49426180 | F19: ='5'!G54 -> 46781869 | G19: ='5'!H54 -> 0 | H19: ='5'!I54 -> 170627156 | I19: ='5'!J54 -> 6846725 | J19: ='5'!K54 -> 70829667 | ... AL19: ='5'!AM54 -> 14451085
A20: 6 | B20: Bistriţa - Năsăud | C20: ='6'!D54 -> 465609334 | D20: ='6'!E54 -> 104346708 | E20: ='6'!F54 -> 17208251 | F20: ='6'!G54 -> 16794845 | G20: ='6'!H54 -> 0 | H20: ='6'!I54 -> 119504690 | I20: ='6'!J54 -> 2613567 | J20: ='6'!K54 -> 50880630 | ... AL20: ='6'!AM54 -> 77051556
A21: 7 | B21: Botoşani | C21: ='7'!D54 -> 408204650 | D21: ='7'!E54 -> 74435523 | E21: ='7'!F54 -> 16535750 | F21: ='7'!G54 -> 16972995 | G21: ='7'!H54 -> 0 | H21: ='7'!I54 -> 140685842 | I21: ='7'!J54 -> 13551000 | J21: ='7'!K54 -> 77713530 | ... AL21: ='7'!AM54 -> 577038
A22: 8 | B22: Braşov | C22: ='8'!D54 -> 355396270 | D22: ='8'!E54 -> 177450321 | E22: ='8'!F54 -> 44056893 | F22: ='8'!G54 -> 55788741 | G22: ='8'!H54 -> 0 | H22: ='8'!I54 -> 81433187 | I22: ='8'!J54 -> 2813100 | J22: ='8'!K54 -> 36223700 | ... AL22: ='8'!AM54 -> 8277574
A23: 9 | B23: Brăila | C23: ='9'!D54 -> 242571469 | D23: ='9'!E54 -> 70226875 | E23: ='9'!F54 -> 16336822 | F23: ='9'!G54 -> 15223484 | G23: ='9'!H54 -> 0 | H23: ='9'!I54 -> 66181160 | I23: ='9'!J54 -> 8373000 | J23: ='9'!K54 -> 35826600 | ... AL23: ='9'!AM54 -> 4485604
A24: 10 | B24: Buzău | C24: ='10'!D54 -> 428104405 | D24: ='10'!E54 -> 108282837 | E24: ='10'!F54 -> 28530946 | F24: ='10'!G54 -> 29424665 | G24: ='10'!H54 -> 0 | H24: ='10'!I54 -> 134001113 | I24: ='10'!J54 -> 14094734 | J24: ='10'!K54 -> 71474330 | ... AL24: ='10'!AM54 -> 2678943
A25: 11 | B25: Caraş - Severin | C25: ='11'!D54 -> 306792039 | D25: ='11'!E54 -> 68034137 | E25: ='11'!F54 -> 15090287 | F25: ='11'!G54 -> 13024438 | G25: ='11'!H54 -> 0 | H25: ='11'!I54 -> 79174706 | I25: ='11'!J54 -> 7295000 | J25: ='11'!K54 -> 66398220 | ... AL25: ='11'!AM54 -> 5982265
A26: 12 | B26: Călăraşi | C26: ='12'!D54 -> 347042398 | D26: ='12'!E54 -> 88886271 | E26: ='12'!F54 -> 26899358 | F26: ='12'!G54 -> 13907876 | G26: ='12'!H54 -> 0 | H26: ='12'!I54 -> 95297970 | I26: ='12'!J54 -> 4553770 | J26: ='12'!K54 -> 46907000 | ... AL26: ='12'!AM54 -> 6003081
A27: 13 | B27: Cluj | C27: ='13'!D54 -> 542451217 | D27: ='13'!E54 -> 244963371 | E27: ='13'!F54 -> 48303571 | F27: ='13'!G54 -> 109253227 | G27: ='13'!H54 -> 0 | H27: ='13'!I54 -> 106486639 | I27: ='13'!J54 -> 8387285 | J27: ='13'!K54 -> 51965894 | ... AL27: ='13'!AM54 -> 23075740
A28: 14 | B28: Constanţa | C28: ='14'!D54 -> 533687495 | D28: ='14'!E54 -> 235003908 | E28: ='14'!F54 -> 39135179 | F28: ='14'!G54 -> 67552400 | G28: ='14'!H54 -> 0 | H28: ='14'!I54 -> 107578424 | I28: ='14'!J54 -> 15954249 | J28: ='14'!K54 -> 31746164 | ... AL28: ='14'!AM54 -> 11962679
A29: 15 | B29: Covasna | C29: ='15'!D54 -> 207997861 | D29: ='15'!E54 -> 54562846 | E29: ='15'!F54 -> 12103374 | F29: ='15'!G54 -> 10657907 | G29: ='15'!H54 -> 0 | H29: ='15'!I54 -> 63208923 | I29: ='15'!J54 -> 8232983 | J29: ='15'!K54 -> 34298210 | ... AL29: ='15'!AM54 -> 4024521
A30: 16 | B30: Dâmboviţa | C30: ='16'!D54 -> 552564892 | D30: ='16'!E54 -> 133436617 | E30: ='16'!F54 -> 39504213 | F30: ='16'!G54 -> 27401791 | G30: ='16'!H54 -> 0 | H30: ='16'!I54 -> 174211323 | I30: ='16'!J54 -> 1899872 | J30: ='16'!K54 -> 74290176 | ... AL30: ='16'!AM54 -> 5726684
A31: 17 | B31: Dolj | C31: ='17'!D54 -> 582749866 | D31: ='17'!E54 -> 161141524 | E31: ='17'!F54 -> 36027551 | F31: ='17'!G54 -> 57512036 | G31: ='17'!H54 -> 0 | H31: ='17'!I54 -> 157476854 | I31: ='17'!J54 -> 8478161 | J31: ='17'!K54 -> 73297110 | ... AL31: ='17'!AM54 -> 3815978
A32: 18 | B32: Galaţi | C32: ='18'!D54 -> 440521301 | D32: ='18'!E54 -> 124654209 | E32: ='18'!F54 -> 20566783 | F32: ='18'!G54 -> 44541123 | G32: ='18'!H54 -> 0 | H32: ='18'!I54 -> 123490458 | I32: ='18'!J54 -> 9184955 | J32: ='18'!K54 -> 54870800 | ... AL32: ='18'!AM54 -> 2680804
A33: 19 | B33: Giurgiu | C33: ='19'!D54 -> 390348956 | D33: ='19'!E54 -> 74788023 | E33: ='19'!F54 -> 25001044 | F33: ='19'!G54 -> 9650219 | G33: ='19'!H54 -> 0 | H33: ='19'!I54 -> 89010117 | I33: ='19'!J54 -> 13791719 | J33: ='19'!K54 -> 58416662 | ... AL33: ='19'!AM54 -> 2283972
A34: 20 | B34: Gorj | C34: ='20'!D54 -> 335385905 | D34: ='20'!E54 -> 94685640 | E34: ='20'!F54 -> 34288279 | F34: ='20'!G54 -> 22786179 | G34: ='20'!H54 -> 0 | H34: ='20'!I54 -> 103986684 | I34: ='20'!J54 -> 7770998 | J34: ='20'!K54 -> 51165115 | ... AL34: ='20'!AM54 -> 2400819
A35: 21 | B35: Harghita | C35: ='21'!D54 -> 391486171 | D35: ='21'!E54 -> 83569034 | E35: ='21'!F54 -> 21235859 | F35: ='21'!G54 -> 13900869 | G35: ='21'!H54 -> 0 | H35: ='21'!I54 -> 120958733 | I35: ='21'!J54 -> 14247485 | J35: ='21'!K54 -> 54250622 | ... AL35: ='21'!AM54 -> 6832256
A36: 22 | B36: Hunedoara | C36: ='22'!D54 -> 289948061 | D36: ='22'!E54 -> 75956601 | E36: ='22'!F54 -> 20346339 | F36: ='22'!G54 -> 24869238 | G36: ='22'!H54 -> 0 | H36: ='22'!I54 -> 62008869 | I36: ='22'!J54 -> 8296604 | J36: ='22'!K54 -> 49685900 | ... AL36: ='22'!AM54 -> 13841095
A37: 23 | B37: Ialomiţa | C37: ='23'!D54 -> 253831871 | D37: ='23'!E54 -> 74738425 | E37: ='23'!F54 -> 19108021 | F37: ='23'!G54 -> 9438949 | G37: ='23'!H54 -> 0 | H37: ='23'!I54 -> 71580267 | I37: ='23'!J54 -> 13485226 | J37: ='23'!K54 -> 49277000 | ... AL37: ='23'!AM54 -> 1566382
A38: 24 | B38: Iaşi | C38: ='24'!D54 -> 709220192 | D38: ='24'!E54 -> 216603654 | E38: ='24'!F54 -> 38955809 | F38: ='24'!G54 -> 80143584 | G38: ='24'!H54 -> 0 | H38: ='24'!I54 -> 243086672 | I38: ='24'!J54 -> 3199919 | J38: ='24'!K54 -> 68900500 | ... AL38: ='24'!AM54 -> 5109323
A39: 25 | B39: Ilfov | C39: ='25'!D54 -> 586879769 | D39: ='25'!E54 -> 358033407 | E39: ='25'!F54 -> 136421557 | F39: ='25'!G54 -> 82781712 | G39: ='25'!H54 -> 0 | H39: ='25'!I54 -> 99515205 | I39: ='25'!J54 -> 12882000 | J39: ='25'!K54 -> 13054120 | ... AL39: ='25'!AM54 -> 1747708
A40: 26 | B40: Maramureş | C40: ='26'!D54 -> 407207559 | D40: ='26'!E54 -> 94451186 | E40: ='26'!F54 -> 20066790 | F40: ='26'!G54 -> 26428951 | G40: ='26'!H54 -> 0 | H40: ='26'!I54 -> 123651937 | I40: ='26'!J54 -> 0 | J40: ='26'!K54 -> 62221010 | ... AL40: ='26'!AM54 -> 10057674
A41: 27 | B41: Mehedinţi | C41: ='27'!D54 -> 327601092 | D41: ='27'!E54 -> 49847785 | E41: ='27'!F54 -> 14155994 | F41: ='27'!G54 -> 10357865 | G41: ='27'!H54 -> 0 | H41: ='27'!I54 -> 85483323 | I41: ='27'!J54 -> 16759849 | J41: ='27'!K54 -> 67769446 | ... AL41: ='27'!AM54 -> 10019796
A42: 28 | B42: Mureş | C42: ='28'!D54 -> 483455341 | D42: ='28'!E54 -> 181726142 | E42: ='28'!F54 -> 40984925 | F42: ='28'!G54 -> 53338700 | G42: ='28'!H54 -> 0 | H42: ='28'!I54 -> 134590450 | I42: ='28'!J54 -> 9878862 | J42: ='28'!K54 -> 60072160 | ... AL42: ='28'!AM54 -> 6396934
A43: 29 | B43: Neamţ | C43: ='29'!D54 -> 551194447 | D43: ='29'!E54 -> 124523978 | E43: ='29'!F54 -> 36208405 | F43: ='29'!G54 -> 25160299 | G43: ='29'!H54 -> 0 | H43: ='29'!I54 -> 170516575 | I43: ='29'!J54 -> 14574232 | J43: ='29'!K54 -> 85944040 | ... AL43: ='29'!AM54 -> 4687633
...

Sheet totalORASE
AJ1: ANEXA nr. 24
B2: TOTAL ORASE
B3: Perioada: 2015
H5: SITUAŢIA PRIVIND EXECUŢIA VENITURILOR ŞI CHELTUIELILOR BUGETELOR LOCALE PE UNITĂŢI ADMINISTRATIV-TERITORIALE
AL8: - lei -
A9: DENUMIREA UNITĂŢILOR ADMINISTRATIV-TERITORIALE (în ordine alfabetică) | C9: VENITURI | D9: VENITURI PROPRII | G9: Sume defalcate din TVA pentru finanţarea cheltuielilor descentralizate la nivelul judeţelor | H9: Sume defalcate din TVA pentru finanţarea cheltuielilor descentralizate la nivelul comunelor, oraşelor, municipiilor, sectoarelor şi municipiului Bucureşti | I9: Sume defalcate din TVA pentru drumuri | J9: Sume defalcate din TVA pentru echilibrarea bugetelor locale | K9: Sume defalcate din TVA pentru finanţarea Programului de dezvoltare a infrastructurii şi a bazelor sportive din spaţiul rural | L9: Subvenţii | M9: Sume primite de la Ue/alti donatori in contul platilor efectuate si prefinantari | N9: Alte venituri | O9: CHELTUIELI | P9: d i n c a r e: pe titluri de cheltuieli | AB9: d i n c a r e: pe parti si capitole de cheltuieli
C10: TOTALE | E10: din care: | O10: TOTALE
C11: (col.2+5+...+11) | D11: TOTAL | E11: Cote defalcate din impozitul pe venit | F11: Sume alocate din cotele defalcate din impozitul pe venit pentru echilibrarea bugetelor locale | O11: (col.14+...+24 - 25) (col.26+...+34) | P11: Cheltuieli de personal | Q11: Bunuri şi servicii | R11: Dobânzi | S11: Subvenţii | T11: Transferuri între unităţi ale administraţiei publice | U11: Alte transferuri | V11: Proiecte cu finanţare din fonduri externe nerambursabile | W11: Asistenţă socială | X11: Alte cheltuieli | Y11: Cheltuieli de capital | Z11: Operatiuni financiare | AA11: Plăţi efectuate în anii precedenţi şi recuperate în anul curent | AB11: Servicii publice generale | AC11: Apărare, ordine publică şi siguranţă naţională | AD11: Învăţământ | AE11: Sănătate | AF11: Cultură, recreere şi religie | AG11: Asigurări şi asistenţă socială | AH11: Servicii şi dezvoltare publică, locuinţe | AI11: Protectia mediului | AJ11: Combustibili şi energie | AK11: Transporturi | AL11: Alte cheltuieli
C12: 00.01.02 | D12: 48.02 | E12: 04.02.01 | F12: 04.02.04 | G12: 11.02.01 | H12: 11.02.02 | I12: 11.02.05 | J12: 11.02.06 | K12: 11.02.07 | L12: 42.02 | M12: 45.02 | O12: 50.02 | P12: 10 | Q12: 20 | R12: 30 | S12: 40 | T12: 51 | U12: 55 | V12: 56 | W12: 57 | X12: 59 | Y12: 70 | Z12: 79 | AA12: 84 | AB12: 50.02 | AC12: 59.02 | AD12: 65.02 | AE12: 66.02 | AF12: 67.02 | AG12: 68.02 | AH12: 70.02 | AI12: 74.02 | AJ12: 81.02 | AK12: 84.02
A13: A | C13: 1 | D13: 2 | E13: 3 | F13: 4 | G13: 5 | H13: 6 | I13: 7 | J13: 8 | K13: 9 | L13: 10 | M13: 11 | N13: 12 | O13: 13 | P13: 14 | Q13: 15 | R13: 16 | S13: 17 | T13: 18 | U13: 19 | V13: 20 | W13: 21 | X13: 22 | Y13: 23 | Z13: 24 | AA13: 25 | AB13: 26 | AC13: 27 | AD13: 28 | AE13: 29 | AF13: 30 | AG13: 31 | AH13: 32 | AI13: 33 | AJ13: 34 | AK13: 35 | AL13: 36
A14: TOTAL | C14: =SUM(C15:C56) -> 5370153622 | D14: =SUM(D15:D56) -> 2330230033 | E14: =SUM(E15:E56) -> 931100284 | F14: =SUM(F15:F56) -> 268234479 | G14: =SUM(G15:G56) -> 0 | H14: =SUM(H15:H56) -> 1538137972 | I14: =SUM(I15:I56) -> 35320875 | J14: =SUM(J15:J56) -> 385344494 | ... AL14: =SUM(AL15:AL56) -> 113184686
A15: 1 | B15: Alba | C15: ='1'!D33 -> 164990416 | D15: ='1'!E33 -> 47515395 | E15: ='1'!F33 -> 21666811 | F15: ='1'!G33 -> 7134720 | G15: ='1'!H33 -> 0 | H15: ='1'!I33 -> 47356184 | I15: ='1'!J33 -> 450000 | J15: ='1'!K33 -> 13379110 | ... AL15: ='1'!AM33 -> 1680495
A16: 2 | B16: Arad | C16: ='2'!D33 -> 203204621 | D16: ='2'!E33 -> 93755209 | E16: ='2'!F33 -> 43372619 | F16: ='2'!G33 -> 6220896 | G16: ='2'!H33 -> 0 | H16: ='2'!I33 -> 54096658 | I16: ='2'!J33 -> 1758000 | J16: ='2'!K33 -> 9953250 | ... AL16: ='2'!AM33 -> 1251857
A17: 3 | B17: Argeş | C17: ='3'!D33 -> 187111937 | D17: ='3'!E33 -> 123892970 | E17: ='3'!F33 -> 78758560 | F17: ='3'!G33 -> 3268132 | G17: ='3'!H33 -> 0 | H17: ='3'!I33 -> 52867760 | I17: ='3'!J33 -> 0 | J17: ='3'!K33 -> 2779280 | ... AL17: ='3'!AM33 -> 840018
A18: 4 | B18: Bacău | C18: ='4'!D33 -> 164563485 | D18: ='4'!E33 -> 42241145 | E18: ='4'!F33 -> 16408927 | F18: ='4'!G33 -> 3595641 | G18: ='4'!H33 -> 0 | H18: ='4'!I33 -> 45822946 | I18: ='4'!J33 -> 0 | J18: ='4'!K33 -> 8035320 | ... AL18: ='4'!AM33 -> 14020701
A19: 5 | B19: Bihor | C19: ='5'!D33 -> 92882548 | D19: ='5'!E33 -> 37037045 | E19: ='5'!F33 -> 14589428 | F19: ='5'!G33 -> 8951823 | G19: ='5'!H33 -> 0 | H19: ='5'!I33 -> 39162176 | I19: ='5'!J33 -> 300000 | J19: ='5'!K33 -> 8522440 | ... AL19: ='5'!AM33 -> 2633856
A20: 6 | B20: Bistriţa - Năsăud | C20: ='6'!D33 -> 83389741 | D20: ='6'!E33 -> 22932491 | E20: ='6'!F33 -> 10304737 | F20: ='6'!G33 -> 1088064 | G20: ='6'!H33 -> 0 | H20: ='6'!I33 -> 35364354 | I20: ='6'!J33 -> 700000 | J20: ='6'!K33 -> 3437000 | ... AL20: ='6'!AM33 -> 163113
A21: 7 | B21: Botoşani | C21: ='7'!D33 -> 84205979 | D21: ='7'!E33 -> 16917978 | E21: ='7'!F33 -> 5545148 | F21: ='7'!G33 -> 2457800 | G21: ='7'!H33 -> 0 | H21: ='7'!I33 -> 29433326 | I21: ='7'!J33 -> 1835878 | J21: ='7'!K33 -> 17620000 | ... AL21: ='7'!AM33 -> 0
A22: 8 | B22: Braşov | C22: ='8'!D33 -> 179710676 | D22: ='8'!E33 -> 94205887 | E22: ='8'!F33 -> 33595100 | F22: ='8'!G33 -> 14591920 | G22: ='8'!H33 -> 0 | H22: ='8'!I33 -> 37445030 | I22: ='8'!J33 -> 0 | J22: ='8'!K33 -> 12344310 | ... AL22: ='8'!AM33 -> 6571087
A23: 9 | B23: Brăila | C23: ='9'!D33 -> 48796417 | D23: ='9'!E33 -> 16709095 | E23: ='9'!F33 -> 5414406 | F23: ='9'!G33 -> 2392658 | G23: ='9'!H33 -> 0 | H23: ='9'!I33 -> 15945000 | I23: ='9'!J33 -> 1450000 | J23: ='9'!K33 -> 6463000 | ... AL23: ='9'!AM33 -> 218815
A24: 10 | B24: Buzău | C24: ='10'!D33 -> 43265320 | D24: ='10'!E33 -> 13627208 | E24: ='10'!F33 -> 5017128 | F24: ='10'!G33 -> 2718067 | G24: ='10'!H33 -> 0 | H24: ='10'!I33 -> 16709365 | I24: ='10'!J33 -> 600000 | J24: ='10'!K33 -> 7308290 | ... AL24: ='10'!AM33 -> 102801
A25: 11 | B25: Caraş - Severin | C25: ='11'!D33 -> 147585083 | D25: ='11'!E33 -> 37582942 | E25: ='11'!F33 -> 16828060 | F25: ='11'!G33 -> 2341149 | G25: ='11'!H33 -> 0 | H25: ='11'!I33 -> 50462162 | I25: ='11'!J33 -> 100000 | J25: ='11'!K33 -> 15193790 | ... AL25: ='11'!AM33 -> 1872708
A26: 12 | B26: Călăraşi | C26: ='12'!D33 -> 60348964 | D26: ='12'!E33 -> 16591665 | E26: ='12'!F33 -> 6269249 | F26: ='12'!G33 -> 1015008 | G26: ='12'!H33 -> 0 | H26: ='12'!I33 -> 15092890 | I26: ='12'!J33 -> 480000 | J26: ='12'!K33 -> 4391560 | ... AL26: ='12'!AM33 -> 0
A27: 13 | B27: Cluj | C27: ='13'!D33 -> 19148676 | D27: ='13'!E33 -> 8720995 | E27: ='13'!F33 -> 3278948 | F27: ='13'!G33 -> 1794138 | G27: ='13'!H33 -> 0 | H27: ='13'!I33 -> 8011895 | I27: ='13'!J33 -> 0 | J27: ='13'!K33 -> 2088000 | ... AL27: ='13'!AM33 -> 21416
A28: 14 | B28: Constanţa | C28: ='14'!D33 -> 359132948 | D28: ='14'!E33 -> 192411535 | E28: ='14'!F33 -> 52365423 | F28: ='14'!G33 -> 30277410 | G28: ='14'!H33 -> 0 | H28: ='14'!I33 -> 61584143 | I28: ='14'!J33 -> 1306020 | J28: ='14'!K33 -> 6226145 | ... AL28: ='14'!AM33 -> 1154131
A29: 15 | B29: Covasna | C29: ='15'!D33 -> 67290734 | D29: ='15'!E33 -> 18985760 | E29: ='15'!F33 -> 7532583 | F29: ='15'!G33 -> 1072647 | G29: ='15'!H33 -> 0 | H29: ='15'!I33 -> 24059584 | I29: ='15'!J33 -> 998443 | J29: ='15'!K33 -> 4852650 | ... AL29: ='15'!AM33 -> 744611
A30: 16 | B30: Dâmboviţa | C30: ='16'!D33 -> 137898555 | D30: ='16'!E33 -> 55446979 | E30: ='16'!F33 -> 25332483 | F30: ='16'!G33 -> 1943878 | G30: ='16'!H33 -> 0 | H30: ='16'!I33 -> 48230550 | I30: ='16'!J33 -> 0 | J30: ='16'!K33 -> 5249150 | ... AL30: ='16'!AM33 -> 503358
A31: 17 | B31: Dolj | C31: ='17'!D33 -> 84128113 | D31: ='17'!E33 -> 24953690 | E31: ='17'!F33 -> 8062781 | F31: ='17'!G33 -> 4979318 | G31: ='17'!H33 -> 0 | H31: ='17'!I33 -> 27533688 | I31: ='17'!J33 -> 374476 | J31: ='17'!K33 -> 6869710 | ... AL31: ='17'!AM33 -> 161250
A32: 18 | B32: Galaţi | C32: ='18'!D33 -> 23561838 | D32: ='18'!E33 -> 10948338 | E32: ='18'!F33 -> 1811619 | F32: ='18'!G33 -> 6570354 | G32: ='18'!H33 -> 0 | H32: ='18'!I33 -> 7543224 | I32: ='18'!J33 -> 1223053 | J32: ='18'!K33 -> 2169320 | ... AL32: ='18'!AM33 -> 48388
A33: 19 | B33: Giurgiu | C33: ='19'!D33 -> 30933035 | D33: ='19'!E33 -> 13681862 | E33: ='19'!F33 -> 5852997 | F33: ='19'!G33 -> 417795 | G33: ='19'!H33 -> 0 | H33: ='19'!I33 -> 13013863 | I33: ='19'!J33 -> 23587 | J33: ='19'!K33 -> 2138100 | ... AL33: ='19'!AM33 -> 66099
A34: 20 | B34: Gorj | C34: ='20'!D33 -> 122992621 | D34: ='20'!E33 -> 54739268 | E34: ='20'!F33 -> 28630821 | F34: ='20'!G33 -> 4156268 | G34: ='20'!H33 -> 0 | H34: ='20'!I33 -> 40905390 | I34: ='20'!J33 -> 916000 | J34: ='20'!K33 -> 8732800 | ... AL34: ='20'!AM33 -> 590227
A35: 21 | B35: Harghita | C35: ='21'!D33 -> 78608366 | D35: ='21'!E33 -> 21936397 | E35: ='21'!F33 -> 7909189 | F35: ='21'!G33 -> 3192180 | G35: ='21'!H33 -> 0 | H35: ='21'!I33 -> 26061177 | I35: ='21'!J33 -> 850000 | J35: ='21'!K33 -> 11006880 | ... AL35: ='21'!AM33 -> 2896151
A36: 22 | B36: Hunedoara | C36: ='22'!D33 -> 180109591 | D36: ='22'!E33 -> 50944813 | E36: ='22'!F33 -> 22830619 | F36: ='22'!G33 -> 6154331 | G36: ='22'!H33 -> 0 | H36: ='22'!I33 -> 57073829 | I36: ='22'!J33 -> 1130777 | J36: ='22'!K33 -> 13785080 | ... AL36: ='22'!AM33 -> 1038847
A37: 23 | B37: Ialomiţa | C37: ='23'!D33 -> 59171025 | D37: ='23'!E33 -> 19404632 | E37: ='23'!F33 -> 5708104 | F37: ='23'!G33 -> 2198157 | G37: ='23'!H33 -> 0 | H37: ='23'!I33 -> 16581339 | I37: ='23'!J33 -> 950000 | J37: ='23'!K33 -> 13599101 | ... AL37: ='23'!AM33 -> 3470346
A38: 24 | B38: Iaşi | C38: ='24'!D33 -> 68271751 | D38: ='24'!E33 -> 19474193 | E38: ='24'!F33 -> 7146633 | F38: ='24'!G33 -> 4620463 | G38: ='24'!H33 -> 0 | H38: ='24'!I33 -> 32910242 | I38: ='24'!J33 -> 200000 | J38: ='24'!K33 -> 2790090 | ... AL38: ='24'!AM33 -> 59967
A39: 25 | B39: Ilfov | C39: ='25'!D33 -> 694700750 | D39: ='25'!E33 -> 509421652 | E39: ='25'!F33 -> 229899629 | F39: ='25'!G33 -> 40442285 | G39: ='25'!H33 -> 0 | H39: ='25'!I33 -> 64733533 | I39: ='25'!J33 -> 0 | J39: ='25'!K33 -> 2836150 | ... AL39: ='25'!AM33 -> 2123347
A40: 26 | B40: Maramureş | C40: ='26'!D33 -> 229069782 | D40: ='26'!E33 -> 84406414 | E40: ='26'!F33 -> 23504244 | F40: ='26'!G33 -> 11862601 | G40: ='26'!H33 -> 0 | H40: ='26'!I33 -> 77625563 | I40: ='26'!J33 -> 0 | J40: ='26'!K33 -> 24414710 | ... AL40: ='26'!AM33 -> 2837783
A41: 27 | B41: Mehedinţi | C41: ='27'!D33 -> 51638954 | D41: ='27'!E33 -> 10193382 | E41: ='27'!F33 -> 3741928 | F41: ='27'!G33 -> 1360809 | G41: ='27'!H33 -> 0 | H41: ='27'!I33 -> 18995203 | I41: ='27'!J33 -> 1210000 | J41: ='27'!K33 -> 9918390 | ... AL41: ='27'!AM33 -> 170745
A42: 28 | B42: Mureş | C42: ='28'!D33 -> 120135364 | D42: ='28'!E33 -> 56367934 | E42: ='28'!F33 -> 20388574 | F42: ='28'!G33 -> 9278431 | G42: ='28'!H33 -> 0 | H42: ='28'!I33 -> 39719760 | I42: ='28'!J33 -> 1499531 | J42: ='28'!K33 -> 11134050 | ... AL42: ='28'!AM33 -> 3373889
A43: 29 | B43: Neamţ | C43: ='29'!D33 -> 76716005 | D43: ='29'!E33 -> 23984475 | E43: ='29'!F33 -> 9665545 | F43: ='29'!G33 -> 2081138 | G43: ='29'!H33 -> 0 | H43: ='29'!I33 -> 34982773 | I43: ='29'!J33 -> 1950000 | J43: ='29'!K33 -> 6289650 | ... AL43: ='29'!AM33 -> 108330
...

Sheet total MUNICIPII
AJ1: ANEXA nr. 24
B2: TOTAL MUNICIPII
B3: Perioada: 2015
H5: SITUAŢIA PRIVIND EXECUŢIA VENITURILOR ŞI CHELTUIELILOR BUGETELOR LOCALE PE UNITĂŢI ADMINISTRATIV-TERITORIALE
AL8: - lei -
A9: DENUMIREA UNITĂŢILOR ADMINISTRATIV-TERITORIALE (în ordine alfabetică) | C9: VENITURI | D9: VENITURI PROPRII | G9: Sume defalcate din TVA pentru finanţarea cheltuielilor descentralizate la nivelul judeţelor | H9: Sume defalcate din TVA pentru finanţarea cheltuielilor descentralizate la nivelul comunelor, oraşelor, municipiilor, sectoarelor şi municipiului Bucureşti | I9: Sume defalcate din TVA pentru drumuri | J9: Sume defalcate din TVA pentru echilibrarea bugetelor locale | K9: Sume defalcate din TVA pentru finanţarea Programului de dezvoltare a infrastructurii şi a bazelor sportive din spaţiul rural | L9: Subvenţii | M9: Sume primite de la Ue/alti donatori in contul platilor efectuate si prefinantari | N9: Alte venituri | O9: CHELTUIELI | P9: d i n c a r e: pe titluri de cheltuieli | AB9: d i n c a r e: pe parti si capitole de cheltuieli
C10: TOTALE | E10: din care: | O10: TOTALE
C11: (col.2+5+...+11) | D11: TOTAL | E11: Cote defalcate din impozitul pe venit | F11: Sume alocate din cotele defalcate din impozitul pe venit pentru echilibrarea bugetelor locale | O11: (col.14+...+24 - 25) (col.26+...+34) | P11: Cheltuieli de personal | Q11: Bunuri şi servicii | R11: Dobânzi | S11: Subvenţii | T11: Transferuri între unităţi ale administraţiei publice | U11: Alte transferuri | V11: Proiecte cu finanţare din fonduri externe nerambursabile | W11: Asistenţă socială | X11: Alte cheltuieli | Y11: Cheltuieli de capital | Z11: Operatiuni financiare | AA11: Plăţi efectuate în anii precedenţi şi recuperate în anul curent | AB11: Servicii publice generale | AC11: Apărare, ordine publică şi siguranţă naţională | AD11: Învăţământ | AE11: Sănătate | AF11: Cultură, recreere şi religie | AG11: Asigurări şi asistenţă socială | AH11: Servicii şi dezvoltare publică, locuinţe | AI11: Protectia mediului | AJ11: Combustibili şi energie | AK11: Transporturi | AL11: Alte cheltuieli
C12: 00.01.02 | D12: 48.02 | E12: 04.02.01 | F12: 04.02.04 | G12: 11.02.01 | H12: 11.02.02 | I12: 11.02.05 | J12: 11.02.06 | K12: 11.02.07 | L12: 42.02 | M12: 45.02 | O12: 50.02 | P12: 10 | Q12: 20 | R12: 30 | S12: 40 | T12: 51 | U12: 55 | V12: 56 | W12: 57 | X12: 59 | Y12: 70 | Z12: 79 | AA12: 84 | AB12: 50.02 | AC12: 59.02 | AD12: 65.02 | AE12: 66.02 | AF12: 67.02 | AG12: 68.02 | AH12: 70.02 | AI12: 74.02 | AJ12: 81.02 | AK12: 84.02
A13: A | C13: 1 | D13: 2 | E13: 3 | F13: 4 | G13: 5 | H13: 6 | I13: 7 | J13: 8 | K13: 9 | L13: 10 | M13: 11 | N13: 12 | O13: 13 | P13: 14 | Q13: 15 | R13: 16 | S13: 17 | T13: 18 | U13: 19 | V13: 20 | W13: 21 | X13: 22 | Y13: 23 | Z13: 24 | AA13: 25 | AB13: 26 | AC13: 27 | AD13: 28 | AE13: 29 | AF13: 30 | AG13: 31 | AH13: 32 | AI13: 33 | AJ13: 34 | AK13: 35 | AL13: 36
A14: TOTAL | C14: =SUM(C15:C56) -> 25593170287 | D14: =SUM(D15:D56) -> 15518984563 | E14: =SUM(E15:E56) -> 9325872018 | F14: =SUM(F15:F56) -> 737974057 | G14: =SUM(G15:G56) -> 0 | H14: =SUM(H15:H56) -> 6978491508 | I14: =SUM(I15:I56) -> 6783037 | J14: =SUM(J15:J56) -> 353657641 | ... AL14: =SUM(AL15:AL56) -> 179220625
A15: 1 | B15: Alba | C15: ='1'!D16 -> 310795387 | D15: ='1'!E16 -> 170483957 | E15: ='1'!F16 -> 94193865 | F15: ='1'!G16 -> 3780591 | G15: ='1'!H16 -> 0 | H15: ='1'!I16 -> 111060204 | I15: ='1'!J16 -> 0 | J15: ='1'!K16 -> 9923000 | ... AL15: ='1'!AM16 -> 351868
A16: 2 | B16: Arad | C16: ='2'!D16 -> 398449936 | D16: ='2'!E16 -> 279585701 | E16: ='2'!F16 -> 142965654 | F16: ='2'!G16 -> 3458091 | G16: ='2'!H16 -> 0 | H16: ='2'!I16 -> 108933111 | I16: ='2'!J16 -> 0 | J16: ='2'!K16 -> 1201000 | ... AL16: ='2'!AM16 -> 37389
A17: 3 | B17: Argeş | C17: ='3'!D16 -> 612535493 | D17: ='3'!E16 -> 270776642 | E17: ='3'!F16 -> 157481340 | F17: ='3'!G16 -> 5318899 | G17: ='3'!H16 -> 0 | H17: ='3'!I16 -> 253843165 | I17: ='3'!J16 -> 200000 | J17: ='3'!K16 -> 4231310 | ... AL17: ='3'!AM16 -> 551667
A18: 4 | B18: Bacău | C18: ='4'!D16 -> 521222347 | D18: ='4'!E16 -> 237043885 | E18: ='4'!F16 -> 120145205 | F18: ='4'!G16 -> 1267181 | G18: ='4'!H16 -> 0 | H18: ='4'!I16 -> 190997547 | I18: ='4'!J16 -> 0 | J18: ='4'!K16 -> 3506000 | ... AL18: ='4'!AM16 -> 97266
A19: 5 | B19: Bihor | C19: ='5'!D16 -> 921207655 | D19: ='5'!E16 -> 333555105 | E19: ='5'!F16 -> 162191325 | F19: ='5'!G16 -> 13331852 | G19: ='5'!H16 -> 0 | H19: ='5'!I16 -> 208189288 | I19: ='5'!J16 -> 300000 | J19: ='5'!K16 -> 11969700 | ... AL19: ='5'!AM16 -> 27810716
A20: 6 | B20: Bistriţa - Năsăud | C20: ='6'!D16 -> 207607786 | D20: ='6'!E16 -> 101532670 | E20: ='6'!F16 -> 61054080 | F20: ='6'!G16 -> 302139 | G20: ='6'!H16 -> 0 | H20: ='6'!I16 -> 73872528 | I20: ='6'!J16 -> 0 | J20: ='6'!K16 -> 981000 | ... AL20: ='6'!AM16 -> 149723
A21: 7 | B21: Botoşani | C21: ='7'!D16 -> 259532609 | D21: ='7'!E16 -> 109001814 | E21: ='7'!F16 -> 55825948 | F21: ='7'!G16 -> 1237054 | G21: ='7'!H16 -> 0 | H21: ='7'!I16 -> 117218519 | I21: ='7'!J16 -> 295334 | J21: ='7'!K16 -> 4454360 | ... AL21: ='7'!AM16 -> 0
A22: 8 | B22: Braşov | C22: ='8'!D16 -> 804198804 | D22: ='8'!E16 -> 507682032 | E22: ='8'!F16 -> 240073442 | F22: ='8'!G16 -> 33772358 | G22: ='8'!H16 -> 0 | H22: ='8'!I16 -> 205032469 | I22: ='8'!J16 -> 0 | J22: ='8'!K16 -> 11063980 | ... AL22: ='8'!AM16 -> 43367951
A23: 9 | B23: Brăila | C23: ='9'!D16 -> 342500426 | D23: ='9'!E16 -> 167727840 | E23: ='9'!F16 -> 81129076 | F23: ='9'!G16 -> 1986073 | G23: ='9'!H16 -> 0 | H23: ='9'!I16 -> 134196073 | I23: ='9'!J16 -> 0 | J23: ='9'!K16 -> 5522000 | ... AL23: ='9'!AM16 -> 1503553
A24: 10 | B24: Buzău | C24: ='10'!D16 -> 334272624 | D24: ='10'!E16 -> 167294051 | E24: ='10'!F16 -> 98335447 | F24: ='10'!G16 -> 2361730 | G24: ='10'!H16 -> 0 | H24: ='10'!I16 -> 135932305 | I24: ='10'!J16 -> 0 | J24: ='10'!K16 -> 5909990 | ... AL24: ='10'!AM16 -> 3252830
A25: 11 | B25: Caraş - Severin | C25: ='11'!D16 -> 207117146 | D25: ='11'!E16 -> 100285105 | E25: ='11'!F16 -> 47906953 | F25: ='11'!G16 -> 2000263 | G25: ='11'!H16 -> 0 | H25: ='11'!I16 -> 84567818 | I25: ='11'!J16 -> 150000 | J25: ='11'!K16 -> 8025130 | ... AL25: ='11'!AM16 -> 0
A26: 12 | B26: Călăraşi | C26: ='12'!D16 -> 191037942 | D26: ='12'!E16 -> 92350347 | E26: ='12'!F16 -> 45443829 | F26: ='12'!G16 -> 1746346 | G26: ='12'!H16 -> 0 | H26: ='12'!I16 -> 83369548 | I26: ='12'!J16 -> 0 | J26: ='12'!K16 -> 5674000 | ... AL26: ='12'!AM16 -> 901728
A27: 13 | B27: Cluj | C27: ='13'!D16 -> 1112590739 | D27: ='13'!E16 -> 732801812 | E27: ='13'!F16 -> 415054042 | F27: ='13'!G16 -> 41363304 | G27: ='13'!H16 -> 0 | H27: ='13'!I16 -> 290938068 | I27: ='13'!J16 -> 0 | J27: ='13'!K16 -> 16811000 | ... AL27: ='13'!AM16 -> 896024
A28: 14 | B28: Constanţa | C28: ='14'!D16 -> 927885414 | D28: ='14'!E16 -> 662671260 | E28: ='14'!F16 -> 356770507 | F28: ='14'!G16 -> 28856357 | G28: ='14'!H16 -> 0 | H28: ='14'!I16 -> 222334147 | I28: ='14'!J16 -> 500000 | J28: ='14'!K16 -> 6336429 | ... AL28: ='14'!AM16 -> 1133864
A29: 15 | B29: Covasna | C29: ='15'!D16 -> 231700581 | D29: ='15'!E16 -> 89228682 | E29: ='15'!F16 -> 49817832 | F29: ='15'!G16 -> 661443 | G29: ='15'!H16 -> 0 | H29: ='15'!I16 -> 78941183 | I29: ='15'!J16 -> 0 | J29: ='15'!K16 -> 3697140 | ... AL29: ='15'!AM16 -> 3171857
A30: 16 | B30: Dâmboviţa | C30: ='16'!D16 -> 302640826 | D30: ='16'!E16 -> 127559970 | E30: ='16'!F16 -> 64512914 | F30: ='16'!G16 -> 3689068 | G30: ='16'!H16 -> 0 | H30: ='16'!I16 -> 99115134 | I30: ='16'!J16 -> 0 | J30: ='16'!K16 -> 7343750 | ... AL30: ='16'!AM16 -> 0
A31: 17 | B31: Dolj | C31: ='17'!D16 -> 725306057 | D31: ='17'!E16 -> 354979798 | E31: ='17'!F16 -> 190781593 | F31: ='17'!G16 -> 12502609 | G31: ='17'!H16 -> 0 | H31: ='17'!I16 -> 231798808 | I31: ='17'!J16 -> 89000 | J31: ='17'!K16 -> 12352000 | ... AL31: ='17'!AM16 -> 5217677
A32: 18 | B32: Galaţi | C32: ='18'!D16 -> 572779667 | D32: ='18'!E16 -> 324962314 | E32: ='18'!F16 -> 164294558 | F32: ='18'!G16 -> 1037062 | G32: ='18'!H16 -> 0 | H32: ='18'!I16 -> 218333372 | I32: ='18'!J16 -> 145500 | J32: ='18'!K16 -> 4777680 | ... AL32: ='18'!AM16 -> 65630
A33: 19 | B33: Giurgiu | C33: ='19'!D16 -> 127627188 | D33: ='19'!E16 -> 64173783 | E33: ='19'!F16 -> 31557499 | F33: ='19'!G16 -> 428591 | G33: ='19'!H16 -> 0 | H33: ='19'!I16 -> 44349839 | I33: ='19'!J16 -> 0 | J33: ='19'!K16 -> 3152750 | ... AL33: ='19'!AM16 -> 0
A34: 20 | B34: Gorj | C34: ='20'!D16 -> 250316186 | D34: ='20'!E16 -> 118133189 | E34: ='20'!F16 -> 63888176 | F34: ='20'!G16 -> 2079526 | G34: ='20'!H16 -> 0 | H34: ='20'!I16 -> 112201766 | I34: ='20'!J16 -> 174000 | J34: ='20'!K16 -> 7697654 | ... AL34: ='20'!AM16 -> 0
A35: 21 | B35: Harghita | C35: ='21'!D16 -> 301129366 | D35: ='21'!E16 -> 122062539 | E35: ='21'!F16 -> 65924740 | F35: ='21'!G16 -> 4535700 | G35: ='21'!H16 -> 0 | H35: ='21'!I16 -> 124399359 | I35: ='21'!J16 -> 0 | J35: ='21'!K16 -> 15949220 | ... AL35: ='21'!AM16 -> 1865257
A36: 22 | B36: Hunedoara | C36: ='22'!D16 -> 572948912 | D36: ='22'!E16 -> 229024382 | E36: ='22'!F16 -> 119428177 | F36: ='22'!G16 -> 13289348 | G36: ='22'!H16 -> 0 | H36: ='22'!I16 -> 207394356 | I36: ='22'!J16 -> 1871903 | J36: ='22'!K16 -> 35013270 | ... AL36: ='22'!AM16 -> 13679293
A37: 23 | B37: Ialomiţa | C37: ='23'!D16 -> 222074475 | D37: ='23'!E16 -> 110986945 | E37: ='23'!F16 -> 45537162 | F37: ='23'!G16 -> 2613579 | G37: ='23'!H16 -> 0 | H37: ='23'!I16 -> 81552157 | I37: ='23'!J16 -> 120000 | J37: ='23'!K16 -> 12854980 | ... AL37: ='23'!AM16 -> 1230463
A38: 24 | B38: Iaşi | C38: ='24'!D16 -> 892423377 | D38: ='24'!E16 -> 387213219 | E38: ='24'!F16 -> 221271223 | F38: ='24'!G16 -> 2872072 | G38: ='24'!H16 -> 0 | H38: ='24'!I16 -> 258213486 | I38: ='24'!J16 -> 0 | J38: ='24'!K16 -> 8557150 | ... AL38: ='24'!AM16 -> 26678310
A39: 25 | B39: Ilfov | C39: ='25'!D16 -> 0 | D39: ='25'!E16 -> 0 | E39: ='25'!F16 -> 0 | F39: ='25'!G16 -> 0 | G39: ='25'!H16 -> 0 | H39: ='25'!I16 -> 0 | I39: ='25'!J16 -> 0 | J39: ='25'!K16 -> 0 | ... AL39: ='25'!AM16 -> 0
A40: 26 | B40: Maramureş | C40: ='26'!D16 -> 392424444 | D40: ='26'!E16 -> 177880941 | E40: ='26'!F16 -> 95605292 | F40: ='26'!G16 -> 244960 | G40: ='26'!H16 -> 0 | H40: ='26'!I16 -> 164187808 | I40: ='26'!J16 -> 0 | J40: ='26'!K16 -> 1780180 | ... AL40: ='26'!AM16 -> 1033689
A41: 27 | B41: Mehedinţi | C41: ='27'!D16 -> 237005366 | D41: ='27'!E16 -> 94347069 | E41: ='27'!F16 -> 45828682 | F41: ='27'!G16 -> 1954308 | G41: ='27'!H16 -> 0 | H41: ='27'!I16 -> 97897058 | I41: ='27'!J16 -> 0 | J41: ='27'!K16 -> 34874860 | ... AL41: ='27'!AM16 -> 15901
A42: 28 | B42: Mureş | C42: ='28'!D16 -> 549948688 | D42: ='28'!E16 -> 292226497 | E42: ='28'!F16 -> 157707435 | F42: ='28'!G16 -> 5161914 | G42: ='28'!H16 -> 0 | H42: ='28'!I16 -> 181167111 | I42: ='28'!J16 -> 266000 | J42: ='28'!K16 -> 5397410 | ... AL42: ='28'!AM16 -> 4797396
A43: 29 | B43: Neamţ | C43: ='29'!D16 -> 296801196 | D43: ='29'!E16 -> 140820418 | E43: ='29'!F16 -> 72580453 | F43: ='29'!G16 -> 1511366 | G43: ='29'!H16 -> 0 | H43: ='29'!I16 -> 142928176 | I43: ='29'!J16 -> 650000 | J43: ='29'!K16 -> 3403410 | ... AL43: ='29'!AM16 -> 934844
...

Sheet totalCJ
AJ1: ANEXA nr. 24
B2: TOTAL CONSILII JUDETENE
B3: Perioada: 2015
H5: SITUAŢIA PRIVIND EXECUŢIA VENITURILOR ŞI CHELTUIELILOR BUGETELOR LOCALE PE UNITĂŢI ADMINISTRATIV-TERITORIALE
AL8: - lei -
A9: DENUMIREA UNITĂŢILOR ADMINISTRATIV-TERITORIALE (în ordine alfabetică) | C9: VENITURI | D9: VENITURI PROPRII | G9: Sume defalcate din TVA pentru finanţarea cheltuielilor descentralizate la nivelul judeţelor | H9: Sume defalcate din TVA pentru finanţarea cheltuielilor descentralizate la nivelul comunelor, oraşelor, municipiilor, sectoarelor şi municipiului Bucureşti | I9: Sume defalcate din TVA pentru drumuri | J9: Sume defalcate din TVA pentru echilibrarea bugetelor locale | K9: Sume defalcate din TVA pentru finanţarea Programului de dezvoltare a infrastructurii şi a bazelor sportive din spaţiul rural | L9: Subvenţii | M9: Sume primite de la Ue/alti donatori in contul platilor efectuate si prefinantari | N9: Alte venituri | O9: CHELTUIELI | P9: d i n c a r e: pe titluri de cheltuieli | AB9: d i n c a r e: pe parti si capitole de cheltuieli
C10: TOTALE | E10: din care: | O10: TOTALE
C11: (col.2+5+...+11) | D11: TOTAL | E11: Cote defalcate din impozitul pe venit | F11: Sume alocate din cotele defalcate din impozitul pe venit pentru echilibrarea bugetelor locale | O11: (col.14+...+24 - 25) (col.26+...+34) | P11: Cheltuieli de personal | Q11: Bunuri şi servicii | R11: Dobânzi | S11: Subvenţii | T11: Transferuri între unităţi ale administraţiei publice | U11: Alte transferuri | V11: Proiecte cu finanţare din fonduri externe nerambursabile | W11: Asistenţă socială | X11: Alte cheltuieli | Y11: Cheltuieli de capital | Z11: Operatiuni financiare | AA11: Plăţi efectuate în anii precedenţi şi recuperate în anul curent | AB11: Servicii publice generale | AC11: Apărare, ordine publică şi siguranţă naţională | AD11: Învăţământ | AE11: Sănătate | AF11: Cultură, recreere şi religie | AG11: Asigurări şi asistenţă socială | AH11: Servicii şi dezvoltare publică, locuinţe | AI11: Protectia mediului | AJ11: Combustibili şi energie | AK11: Transporturi | AL11: Alte cheltuieli
C12: 00.01.02 | D12: 48.02 | E12: 04.02.01 | F12: 04.02.04 | G12: 11.02.01 | H12: 11.02.02 | I12: 11.02.05 | J12: 11.02.06 | K12: 11.02.07 | L12: 42.02 | M12: 45.02 | O12: 50.02 | P12: 10 | Q12: 20 | R12: 30 | S12: 40 | T12: 51 | U12: 55 | V12: 56 | W12: 57 | X12: 59 | Y12: 70 | Z12: 79 | AA12: 84 | AB12: 50.02 | AC12: 59.02 | AD12: 65.02 | AE12: 66.02 | AF12: 67.02 | AG12: 68.02 | AH12: 70.02 | AI12: 74.02 | AJ12: 81.02 | AK12: 84.02
A13: A | C13: 1 | D13: 2 | E13: 3 | F13: 4 | G13: 5 | H13: 6 | I13: 7 | J13: 8 | K13: 9 | L13: 10 | M13: 11 | N13: 12 | O13: 13 | P13: 14 | Q13: 15 | R13: 16 | S13: 17 | T13: 18 | U13: 19 | V13: 20 | W13: 21 | X13: 22 | Y13: 23 | Z13: 24 | AA13: 25 | AB13: 26 | AC13: 27 | AD13: 28 | AE13: 29 | AF13: 30 | AG13: 31 | AH13: 32 | AI13: 33 | AJ13: 34 | AK13: 35 | AL13: 36
A14: TOTAL | C14: =SUM(C15:C56) -> 12447921825 | D14: =SUM(D15:D56) -> 3282111066 | E14: =SUM(E15:E56) -> 1906421511 | F14: =SUM(F15:F56) -> 1085709984 | G14: =SUM(G15:G56) -> 2315038722 | H14: =SUM(H15:H56) -> 0 | I14: =SUM(I15:I56) -> 420732421 | J14: =SUM(J15:J56) -> 1372093786 | ... AL14: =SUM(AL15:AL56) -> 335148987
A15: 1 | B15: Alba | C15: ='1'!D15 -> 293981763 | D15: ='1'!E15 -> 65295798 | E15: ='1'!F15 -> 37656006 | F15: ='1'!G15 -> 24071000 | G15: ='1'!H15 -> 52542986 | H15: ='1'!I15 -> 0 | I15: ='1'!J15 -> 16865000 | J15: ='1'!K15 -> 28178130 | ... AL15: ='1'!AM15 -> 2043815
A16: 2 | B16: Arad | C16: ='2'!D15 -> 250238252 | D16: ='2'!E15 -> 93227866 | E16: ='2'!F15 -> 56745081 | F16: ='2'!G15 -> 24823911 | G16: ='2'!H15 -> 50529390 | H16: ='2'!I15 -> 0 | I16: ='2'!J15 -> 4769000 | J16: ='2'!K15 -> 16369000 | ... AL16: ='2'!AM15 -> 1178000
A17: 3 | B17: Argeş | C17: ='3'!D15 -> 339749699 | D17: ='3'!E15 -> 127803807 | E17: ='3'!F15 -> 80235147 | F17: ='3'!G15 -> 37286295 | G17: ='3'!H15 -> 71929898 | H17: ='3'!I15 -> 0 | I17: ='3'!J15 -> 2526000 | J17: ='3'!K15 -> 21464830 | ... AL17: ='3'!AM15 -> 8336613
A18: 4 | B18: Bacău | C18: ='4'!D15 -> 276155028 | D18: ='4'!E15 -> 76972388 | E18: ='4'!F15 -> 45026177 | F18: ='4'!G15 -> 28309000 | G18: ='4'!H15 -> 77844748 | H18: ='4'!I15 -> 0 | I18: ='4'!J15 -> 10559000 | J18: ='4'!K15 -> 22189000 | ... AL18: ='4'!AM15 -> 4149950
A19: 5 | B19: Bihor | C19: ='5'!D15 -> 419861699 | D19: ='5'!E15 -> 95423780 | E19: ='5'!F15 -> 60951890 | F19: ='5'!G15 -> 31166456 | G19: ='5'!H15 -> 86730000 | H19: ='5'!I15 -> 0 | I19: ='5'!J15 -> 12642000 | J19: ='5'!K15 -> 25511630 | ... AL19: ='5'!AM15 -> 12110140
A20: 6 | B20: Bistriţa - Năsăud | C20: ='6'!D15 -> 278609262 | D20: ='6'!E15 -> 51764407 | E20: ='6'!F15 -> 23865382 | F20: ='6'!G15 -> 20797771 | G20: ='6'!H15 -> 47609419 | H20: ='6'!I15 -> 0 | I20: ='6'!J15 -> 15478390 | J20: ='6'!K15 -> 42623000 | ... AL20: ='6'!AM15 -> 8880114
A21: 7 | B21: Botoşani | C21: ='7'!D15 -> 267497103 | D21: ='7'!E15 -> 39348570 | E21: ='7'!F15 -> 21282598 | F21: ='7'!G15 -> 14197822 | G21: ='7'!H15 -> 50674778 | H21: ='7'!I15 -> 0 | I21: ='7'!J15 -> 6350000 | J21: ='7'!K15 -> 55469000 | ... AL21: ='7'!AM15 -> 5995462
A22: 8 | B22: Braşov | C22: ='8'!D15 -> 277317025 | D22: ='8'!E15 -> 127245523 | E22: ='8'!F15 -> 85614643 | F22: ='8'!G15 -> 36849149 | G22: ='8'!H15 -> 60319094 | H22: ='8'!I15 -> 0 | I22: ='8'!J15 -> 14158200 | J22: ='8'!K15 -> 15109710 | ... AL22: ='8'!AM15 -> 4866318
A23: 9 | B23: Brăila | C23: ='9'!D15 -> 215665965 | D23: ='9'!E15 -> 61675736 | E23: ='9'!F15 -> 27722232 | F23: ='9'!G15 -> 25985456 | G23: ='9'!H15 -> 29212614 | H23: ='9'!I15 -> 0 | I23: ='9'!J15 -> 6450140 | J23: ='9'!K15 -> 27584000 | ... AL23: ='9'!AM15 -> 1645211
A24: 10 | B24: Buzău | C24: ='10'!D15 -> 287787409 | D24: ='10'!E15 -> 61989584 | E24: ='10'!F15 -> 35537482 | F24: ='10'!G15 -> 23934956 | G24: ='10'!H15 -> 55499368 | H24: ='10'!I15 -> 0 | I24: ='10'!J15 -> 6743000 | J24: ='10'!K15 -> 32907000 | ... AL24: ='10'!AM15 -> 1769029
A25: 11 | B25: Caraş - Severin | C25: ='11'!D15 -> 242667677 | D25: ='11'!E15 -> 41080582 | E25: ='11'!F15 -> 21509816 | F25: ='11'!G15 -> 18006000 | G25: ='11'!H15 -> 46062946 | H25: ='11'!I15 -> 0 | I25: ='11'!J15 -> 12153000 | J25: ='11'!K15 -> 49228000 | ... AL25: ='11'!AM15 -> 26432806
A26: 12 | B26: Călăraşi | C26: ='12'!D15 -> 234303877 | D26: ='12'!E15 -> 42023770 | E26: ='12'!F15 -> 21182829 | F26: ='12'!G15 -> 18829000 | G26: ='12'!H15 -> 32847347 | H26: ='12'!I15 -> 0 | I26: ='12'!J15 -> 12029630 | J26: ='12'!K15 -> 51555850 | ... AL26: ='12'!AM15 -> 6197936
A27: 13 | B27: Cluj | C27: ='13'!D15 -> 446465948 | D27: ='13'!E15 -> 203757651 | E27: ='13'!F15 -> 125740400 | F27: ='13'!G15 -> 55170000 | G27: ='13'!H15 -> 86810937 | H27: ='13'!I15 -> 0 | I27: ='13'!J15 -> 10712440 | J27: ='13'!K15 -> 19041000 | ... AL27: ='13'!AM15 -> 31498110
A28: 14 | B28: Constanţa | C28: ='14'!D15 -> 484924542 | D28: ='14'!E15 -> 175010394 | E28: ='14'!F15 -> 110010649 | F28: ='14'!G15 -> 54448550 | G28: ='14'!H15 -> 72941014 | H28: ='14'!I15 -> 0 | I28: ='14'!J15 -> 0 | J28: ='14'!K15 -> 8919000 | ... AL28: ='14'!AM15 -> 9078596
A29: 15 | B29: Covasna | C29: ='15'!D15 -> 209007509 | D29: ='15'!E15 -> 39948857 | E29: ='15'!F15 -> 18715097 | F29: ='15'!G15 -> 18383940 | G29: ='15'!H15 -> 27658722 | H29: ='15'!I15 -> 0 | I29: ='15'!J15 -> 8202000 | J29: ='15'!K15 -> 45302000 | ... AL29: ='15'!AM15 -> 2712543
A30: 16 | B30: Dâmboviţa | C30: ='16'!D15 -> 260221042 | D30: ='16'!E15 -> 67190896 | E30: ='16'!F15 -> 34865213 | F30: ='16'!G15 -> 24283004 | G30: ='16'!H15 -> 45049000 | H30: ='16'!I15 -> 0 | I30: ='16'!J15 -> 17509000 | J30: ='16'!K15 -> 27638000 | ... AL30: ='16'!AM15 -> 5878102
A31: 17 | B31: Dolj | C31: ='17'!D15 -> 310359978 | D31: ='17'!E15 -> 95931491 | E31: ='17'!F15 -> 63288363 | F31: ='17'!G15 -> 29080237 | G31: ='17'!H15 -> 63302589 | H31: ='17'!I15 -> 0 | I31: ='17'!J15 -> 10647000 | J31: ='17'!K15 -> 18410000 | ... AL31: ='17'!AM15 -> 1280150
A32: 18 | B32: Galaţi | C32: ='18'!D15 -> 215585654 | D32: ='18'!E15 -> 82907892 | E32: ='18'!F15 -> 50301482 | F32: ='18'!G15 -> 30568959 | G32: ='18'!H15 -> 55655852 | H32: ='18'!I15 -> 0 | I32: ='18'!J15 -> 8000000 | J32: ='18'!K15 -> 11590000 | ... AL32: ='18'!AM15 -> 2288610
A33: 19 | B33: Giurgiu | C33: ='19'!D15 -> 187691915 | D33: ='19'!E15 -> 39125064 | E33: ='19'!F15 -> 16817485 | F33: ='19'!G15 -> 17158816 | G33: ='19'!H15 -> 20792599 | H33: ='19'!I15 -> 0 | I33: ='19'!J15 -> 4885000 | J33: ='19'!K15 -> 53268070 | ... AL33: ='19'!AM15 -> 2951621
