Workbook
Name Excel_BuiltIn_Print_Titles_1_1: #REF!
Name Excel_BuiltIn_Print_Titles_1_1_1: #REF!
Name Excel_BuiltIn_Print_Titles_1_1_1_1: #REF!
Name Excel_BuiltIn_Print_Titles_1_1_1_1_1: #REF!

Sheet total TARA
AJ1: ANEXA nr. 24
B2: TOTAL TARA
B3: Perioada: 2015
H5: SITUAŢIA PRIVIND EXECUŢIA VENITURILOR ŞI CHELTUIELILOR BUGETELOR LOCALE PE UNITĂŢI ADMINISTRATIV-TERITORIALE
C8: ='1'!D14+'2'!D14+'3'!D14+'4'!D14+'5'!D14+'6'!D14+'7'!D14+'8'!D14+'9'!D14+'10'!D14+'11'!D14+'12'!D14+'13'!D14+'14'!D14+'15'!D14+'16'!D14+'17'!D14+'18'!D14+'19'!D14+'20'!D14+'21'!D14+'22'!D14+'23'!D14+'24'!D14+'25'!D14+'26'!D14+'27'!D14+'28'!D14+'29'!D14+'30'!D14+'31'!D14+'32'!D14+'33'!D14+'34'!D14+'35'!D14+'36'!D14+'37'!D14+'38'!D14+'39'!D14+'40'!D14+'41'!D14+'42'!D14 -> 61462942941 | D8: ='1'!E14+'2'!E14+'3'!E14+'4'!E14+'5'!E14+'6'!E14+'7'!E14+'8'!E14+'9'!E14+'10'!E14+'11'!E14+'12'!E14+'13'!E14+'14'!E14+'15'!E14+'16'!E14+'17'!E14+'18'!E14+'19'!E14+'20'!E14+'21'!E14+'22'!E14+'23'!E14+'24'!E14+'25'!E14+'26'!E14+'27'!E14+'28'!E14+'29'!E14+'30'!E14+'31'!E14+'32'!E14+'33'!E14+'34'!E14+'35'!E14+'36'!E14+'37'!E14+'38'!E14+'39'!E14+'40'!E14+'41'!E14+'42'!E14 -> 26582371600 | E8: ='1'!F14+'2'!F14+'3'!F14+'4'!F14+'5'!F14+'6'!F14+'7'!F14+'8'!F14+'9'!F14+'10'!F14+'11'!F14+'12'!F14+'13'!F14+'14'!F14+'15'!F14+'16'!F14+'17'!F14+'18'!F14+'19'!F14+'20'!F14+'21'!F14+'22'!F14+'23'!F14+'24'!F14+'25'!F14+'26'!F14+'27'!F14+'28'!F14+'29'!F14+'30'!F14+'31'!F14+'32'!F14+'33'!F14+'34'!F14+'35'!F14+'36'!F14+'37'!F14+'38'!F14+'39'!F14+'40'!F14+'41'!F14+'42'!F14 -> 13502178535 | F8: ='1'!G14+'2'!G14+'3'!G14+'4'!G14+'5'!G14+'6'!G14+'7'!G14+'8'!G14+'9'!G14+'10'!G14+'11'!G14+'12'!G14+'13'!G14+'14'!G14+'15'!G14+'16'!G14+'17'!G14+'18'!G14+'19'!G14+'20'!G14+'21'!G14+'22'!G14+'23'!G14+'24'!G14+'25'!G14+'26'!G14+'27'!G14+'28'!G14+'29'!G14+'30'!G14+'31'!G14+'32'!G14+'33'!G14+'34'!G14+'35'!G14+'36'!G14+'37'!G14+'38'!G14+'39'!G14+'40'!G14+'41'!G14+'42'!G14 -> 3611249859 | G8: ='1'!H14+'2'!H14+'3'!H14+'4'!H14+'5'!H14+'6'!H14+'7'!H14+'8'!H14+'9'!H14+'10'!H14+'11'!H14+'12'!H14+'13'!H14+'14'!H14+'15'!H14+'16'!H14+'17'!H14+'18'!H14+'19'!H14+'20'!H14+'21'!H14+'22'!H14+'23'!H14+'24'!H14+'25'!H14+'26'!H14+'27'!H14+'28'!H14+'29'!H14+'30'!H14+'31'!H14+'32'!H14+'33'!H14+'34'!H14+'35'!H14+'36'!H14+'37'!H14+'38'!H14+'39'!H14+'40'!H14+'41'!H14+'42'!H14 -> 2315038722 | H8: ='1'!I14+'2'!I14+'3'!I14+'4'!I14+'5'!I14+'6'!I14+'7'!I14+'8'!I14+'9'!I14+'10'!I14+'11'!I14+'12'!I14+'13'!I14+'14'!I14+'15'!I14+'16'!I14+'17'!I14+'18'!I14+'19'!I14+'20'!I14+'21'!I14+'22'!I14+'23'!I14+'24'!I14+'25'!I14+'26'!I14+'27'!I14+'28'!I14+'29'!I14+'30'!I14+'31'!I14+'32'!I14+'33'!I14+'34'!I14+'35'!I14+'36'!I14+'37'!I14+'38'!I14+'39'!I14+'40'!I14+'41'!I14+'42'!I14 -> 13547800716 | I8: ='1'!J14+'2'!J14+'3'!J14+'4'!J14+'5'!J14+'6'!J14+'7'!J14+'8'!J14+'9'!J14+'10'!J14+'11'!J14+'12'!J14+'13'!J14+'14'!J14+'15'!J14+'16'!J14+'17'!J14+'18'!J14+'19'!J14+'20'!J14+'21'!J14+'22'!J14+'23'!J14+'24'!J14+'25'!J14+'26'!J14+'27'!J14+'28'!J14+'29'!J14+'30'!J14+'31'!J14+'32'!J14+'33'!J14+'34'!J14+'35'!J14+'36'!J14+'37'!J14+'38'!J14+'39'!J14+'40'!J14+'41'!J14+'42'!J14 -> 787374414 | J8: ='1'!K14+'2'!K14+'3'!K14+'4'!K14+'5'!K14+'6'!K14+'7'!K14+'8'!K14+'9'!K14+'10'!K14+'11'!K14+'12'!K14+'13'!K14+'14'!K14+'15'!K14+'16'!K14+'17'!K14+'18'!K14+'19'!K14+'20'!K14+'21'!K14+'22'!K14+'23'!K14+'24'!K14+'25'!K14+'26'!K14+'27'!K14+'28'!K14+'29'!K14+'30'!K14+'31'!K14+'32'!K14+'33'!K14+'34'!K14+'35'!K14+'36'!K14+'37'!K14+'38'!K14+'39'!K14+'40'!K14+'41'!K14+'42'!K14 -> 4575819330 | ... AK8: ='1'!AL14+'2'!AL14+'3'!AL14+'4'!AL14+'5'!AL14+'6'!AL14+'7'!AL14+'8'!AL14+'9'!AL14+'10'!AL14+'11'!AL14+'12'!AL14+'13'!AL14+'14'!AL14+'15'!AL14+'16'!AL14+'17'!AL14+'18'!AL14+'19'!AL14+'20'!AL14+'21'!AL14+'22'!AL14+'23'!AL14+'24'!AL14+'25'!AL14+'26'!AL14+'27'!AL14+'28'!AL14+'29'!AL14+'30'!AL14+'31'!AL14+'32'!AL14+'33'!AL14+'34'!AL14+'35'!AL14+'36'!AL14+'37'!AL14+'38'!AL14+'39'!AL14+'40'!AL14+'41'!AL14+'42'!AL14 -> 10527951899 | AL8: - lei -
A9: DENUMIREA UNITĂŢILOR ADMINISTRATIV-TERITORIALE (în ordine alfabetică) | C9: VENITURI | D9: VENITURI PROPRII | G9: Sume defalcate din TVA pentru finanţarea cheltuielilor descentralizate la nivelul judeţelor | H9: Sume defalcate din TVA pentru finanţarea cheltuielilor descentralizate la nivelul comunelor, oraşelor, municipiilor, sectoarelor şi municipiului Bucureşti | I9: Sume defalcate din TVA pentru drumuri | J9: Sume defalcate din TVA pentru echilibrarea bugetelor locale | K9: Sume defalcate din TVA pentru finanţarea Programului de dezvoltare a infrastructurii şi a bazelor sportive din spaţiul rural | L9: Subvenţii | M9: Sume primite de la Ue/alti donatori in contul platilor efectuate si prefinantari | N9: Alte venituri | O9: CHELTUIELI | P9: d i n c a r e: pe titluri de cheltuieli | AB9: d i n c a r e: pe parti si capitole de cheltuieli
C10: TOTALE | E10: din care: | O10: TOTALE
C11: (col.2+5+...+11) | D11: TOTAL | E11: Cote defalcate din impozitul pe venit | F11: Sume alocate din cotele defalcate din impozitul pe venit pentru echilibrarea bugetelor locale | O11: (col.14+...+24 - 25) (col.26+...+34) | P11: Cheltuieli de personal | Q11: Bunuri şi servicii | R11: Dobânzi | S11: Subvenţii | T11: Transferuri între unităţi ale administraţiei publice | U11: Alte transferuri | V11: Proiecte cu finanţare din fonduri externe nerambursabile | W11: Asistenţă socială | X11: Alte cheltuieli | Y11: Cheltuieli de capital | Z11: Operatiuni financiare | AA11: Plăţi efectuate în anii precedenţi şi recuperate în anul curent | AB11: Servicii publice generale | AC11: Apărare, ordine publică şi siguranţă naţională | AD11: Învăţământ | AE11: Sănătate | AF11: Cultură, recreere şi religie | AG11: Asigurări şi asistenţă socială | AH11: Servicii şi dezvoltare publică, locuinţe | AI11: Protectia mediului | AJ11: Combustibili şi energie | AK11: Transporturi | AL11: Alte cheltuieli
C12: 00.01.02 | D12: 48.02 | E12: 04.02.01 | F12: 04.02.04 | G12: 11.02.01 | H12: 11.02.02 | I12: 11.02.05 | J12: 11.02.06 | K12: 11.02.07 | L12: 42.02 | M12: 45.02 | O12: 50.02 | P12: 10 | Q12: 20 | R12: 30 | S12: 40 | T12: 51 | U12: 55 | V12: 56 | W12: 57 | X12: 59 | Y12: 70 | Z12: 79 | AA12: 84 | AB12: 50.02 | AC12: 59.02 | AD12: 65.02 | AE12: 66.02 | AF12: 67.02 | AG12: 68.02 | AH12: 70.02 | AI12: 74.02 | AJ12: 81.02 | AK12: 84.02
A13: A | C13: 1 | D13: 2 | E13: 3 | F13: 4 | G13: 5 | H13: 6 | I13: 7 | J13: 8 | K13: 9 | L13: 10 | M13: 11 | N13: 12 | O13: 13 | P13: 14 | Q13: 15 | R13: 16 | S13: 17 | T13: 18 | U13: 19 | V13: 20 | W13: 21 | X13: 22 | Y13: 23 | Z13: 24 | AA13: 25 | AB13: 26 | AC13: 27 | AD13: 28 | AE13: 29 | AF13: 30 | AG13: 31 | AH13: 32 | AI13: 33 | AJ13: 34 | AK13: 35 | AL13: 36
A14: TOTAL | C14: =SUM(C15:C56) -> 61462942941 | D14: =SUM(D15:D56) -> 26582371600 | E14: =SUM(E15:E56) -> 13502178535 | F14: =SUM(F15:F56) -> 3611249859 | G14: =SUM(G15:G56) -> 2315038722 | H14: =SUM(H15:H56) -> 13547800716 | I14: =SUM(I15:I56) -> 787374414 | J14: =SUM(J15:J56) -> 4575819330 | ... AL14: =SUM(AL15:AL56) -> 996237961
A15: 1 | B15: Alba | C15: ='total COMUNE'!C15+totalORASE!C15+'total MUNICIPII'!C15+totalCJ!C15 -> 1102402336 | D15: ='total COMUNE'!D15+totalORASE!D15+'total MUNICIPII'!D15+totalCJ!D15 -> 375405646 | E15: ='total COMUNE'!E15+totalORASE!E15+'total MUNICIPII'!E15+totalCJ!E15 -> 177401610 | F15: ='total COMUNE'!F15+totalORASE!F15+'total MUNICIPII'!F15+totalCJ!F15 -> 61923211 | G15: ='total COMUNE'!G15+totalORASE!G15+'total MUNICIPII'!G15+totalCJ!G15 -> 52542986 | H15: ='total COMUNE'!H15+totalORASE!H15+'total MUNICIPII'!H15+totalCJ!H15 -> 243100169 | I15: ='total COMUNE'!I15+totalORASE!I15+'total MUNICIPII'!I15+totalCJ!I15 -> 19539351 | J15: ='total COMUNE'!J15+totalORASE!J15+'total MUNICIPII'!J15+totalCJ!J15 -> 107805550 | ... AL15: ='total COMUNE'!AL15+totalORASE!AL15+'total MUNICIPII'!AL15+totalCJ!AL15 -> 8731532
A16: 2 | B16: Arad | C16: ='total COMUNE'!C16+totalORASE!C16+'total MUNICIPII'!C16+totalCJ!C16 -> 1241554023 | D16: ='total COMUNE'!D16+totalORASE!D16+'total MUNICIPII'!D16+totalCJ!D16 -> 619259913 | E16: ='total COMUNE'!E16+totalORASE!E16+'total MUNICIPII'!E16+totalCJ!E16 -> 267332363 | F16: ='total COMUNE'!F16+totalORASE!F16+'total MUNICIPII'!F16+totalCJ!F16 -> 93314118 | G16: ='total COMUNE'!G16+totalORASE!G16+'total MUNICIPII'!G16+totalCJ!G16 -> 50529390 | H16: ='total COMUNE'!H16+totalORASE!H16+'total MUNICIPII'!H16+totalCJ!H16 -> 260826959 | I16: ='total COMUNE'!I16+totalORASE!I16+'total MUNICIPII'!I16+totalCJ!I16 -> 18190479 | J16: ='total COMUNE'!J16+totalORASE!J16+'total MUNICIPII'!J16+totalCJ!J16 -> 64882860 | ... AL16: ='total COMUNE'!AL16+totalORASE!AL16+'total MUNICIPII'!AL16+totalCJ!AL16 -> 5583532
A17: 3 | B17: Argeş | C17: ='total COMUNE'!C17+totalORASE!C17+'total MUNICIPII'!C17+totalCJ!C17 -> 1751840131 | D17: ='total COMUNE'!D17+totalORASE!D17+'total MUNICIPII'!D17+totalCJ!D17 -> 757702615 | E17: ='total COMUNE'!E17+totalORASE!E17+'total MUNICIPII'!E17+totalCJ!E17 -> 377996666 | F17: ='total COMUNE'!F17+totalORASE!F17+'total MUNICIPII'!F17+totalCJ!F17 -> 131942244 | G17: ='total COMUNE'!G17+totalORASE!G17+'total MUNICIPII'!G17+totalCJ!G17 -> 71929898 | H17: ='total COMUNE'!H17+totalORASE!H17+'total MUNICIPII'!H17+totalCJ!H17 -> 512264612 | I17: ='total COMUNE'!I17+totalORASE!I17+'total MUNICIPII'!I17+totalCJ!I17 -> 20105655 | J17: ='total COMUNE'!J17+totalORASE!J17+'total MUNICIPII'!J17+totalCJ!J17 -> 70033300 | ... AL17: ='total COMUNE'!AL17+totalORASE!AL17+'total MUNICIPII'!AL17+totalCJ!AL17 -> 13944551
A18: 4 | B18: Bacău | C18: ='total COMUNE'!C18+totalORASE!C18+'total MUNICIPII'!C18+totalCJ!C18 -> 1543215676 | D18: ='total COMUNE'!D18+totalORASE!D18+'total MUNICIPII'!D18+totalCJ!D18 -> 491187174 | E18: ='total COMUNE'!E18+totalORASE!E18+'total MUNICIPII'!E18+totalCJ!E18 -> 212119132 | F18: ='total COMUNE'!F18+totalORASE!F18+'total MUNICIPII'!F18+totalCJ!F18 -> 74295097 | G18: ='total COMUNE'!G18+totalORASE!G18+'total MUNICIPII'!G18+totalCJ!G18 -> 77844748 | H18: ='total COMUNE'!H18+totalORASE!H18+'total MUNICIPII'!H18+totalCJ!H18 -> 427331412 | I18: ='total COMUNE'!I18+totalORASE!I18+'total MUNICIPII'!I18+totalCJ!I18 -> 21041276 | J18: ='total COMUNE'!J18+totalORASE!J18+'total MUNICIPII'!J18+totalCJ!J18 -> 114487990 | ... AL18: ='total COMUNE'!AL18+totalORASE!AL18+'total MUNICIPII'!AL18+totalCJ!AL18 -> 20611935
A19: 5 | B19: Bihor | C19: ='total COMUNE'!C19+totalORASE!C19+'total MUNICIPII'!C19+totalCJ!C19 -> 2014900419 | D19: ='total COMUNE'!D19+totalORASE!D19+'total MUNICIPII'!D19+totalCJ!D19 -> 643135317 | E19: ='total COMUNE'!E19+totalORASE!E19+'total MUNICIPII'!E19+totalCJ!E19 -> 287158823 | F19: ='total COMUNE'!F19+totalORASE!F19+'total MUNICIPII'!F19+totalCJ!F19 -> 100232000 | G19: ='total COMUNE'!G19+totalORASE!G19+'total MUNICIPII'!G19+totalCJ!G19 -> 86730000 | H19: ='total COMUNE'!H19+totalORASE!H19+'total MUNICIPII'!H19+totalCJ!H19 -> 417978620 | I19: ='total COMUNE'!I19+totalORASE!I19+'total MUNICIPII'!I19+totalCJ!I19 -> 20088725 | J19: ='total COMUNE'!J19+totalORASE!J19+'total MUNICIPII'!J19+totalCJ!J19 -> 116833437 | ... AL19: ='total COMUNE'!AL19+totalORASE!AL19+'total MUNICIPII'!AL19+totalCJ!AL19 -> 57005797
A20: 6 | B20: Bistriţa - Năsăud | C20: ='total COMUNE'!C20+totalORASE!C20+'total MUNICIPII'!C20+totalCJ!C20 -> 1035216123 | D20: ='total COMUNE'!D20+totalORASE!D20+'total MUNICIPII'!D20+totalCJ!D20 -> 280576276 | E20: ='total COMUNE'!E20+totalORASE!E20+'total MUNICIPII'!E20+totalCJ!E20 -> 112432450 | F20: ='total COMUNE'!F20+totalORASE!F20+'total MUNICIPII'!F20+totalCJ!F20 -> 38982819 | G20: ='total COMUNE'!G20+totalORASE!G20+'total MUNICIPII'!G20+totalCJ!G20 -> 47609419 | H20: ='total COMUNE'!H20+totalORASE!H20+'total MUNICIPII'!H20+totalCJ!H20 -> 228741572 | I20: ='total COMUNE'!I20+totalORASE!I20+'total MUNICIPII'!I20+totalCJ!I20 -> 18791957 | J20: ='total COMUNE'!J20+totalORASE!J20+'total MUNICIPII'!J20+totalCJ!J20 -> 97921630 | ... AL20: ='total COMUNE'!AL20+totalORASE!AL20+'total MUNICIPII'!AL20+totalCJ!AL20 -> 86244506
A21: 7 | B21: Botoşani | C21: ='total COMUNE'!C21+totalORASE!C21+'total MUNICIPII'!C21+totalCJ!C21 -> 1019440341 | D21: ='total COMUNE'!D21+totalORASE!D21+'total MUNICIPII'!D21+totalCJ!D21 -> 239703885 | E21: ='total COMUNE'!E21+totalORASE!E21+'total MUNICIPII'!E21+totalCJ!E21 -> 99189444 | F21: ='total COMUNE'!F21+totalORASE!F21+'total MUNICIPII'!F21+totalCJ!F21 -> 34865671 | G21: ='total COMUNE'!G21+totalORASE!G21+'total MUNICIPII'!G21+totalCJ!G21 -> 50674778 | H21: ='total COMUNE'!H21+totalORASE!H21+'total MUNICIPII'!H21+totalCJ!H21 -> 287337687 | I21: ='total COMUNE'!I21+totalORASE!I21+'total MUNICIPII'!I21+totalCJ!I21 -> 22032212 | J21: ='total COMUNE'!J21+totalORASE!J21+'total MUNICIPII'!J21+totalCJ!J21 -> 155256890 | ... AL21: ='total COMUNE'!AL21+totalORASE!AL21+'total MUNICIPII'!AL21+totalCJ!AL21 -> 6572500
A22: 8 | B22: Braşov | C22: ='total COMUNE'!C22+totalORASE!C22+'total MUNICIPII'!C22+totalCJ!C22 -> 1616622775 | D22: ='total COMUNE'!D22+totalORASE!D22+'total MUNICIPII'!D22+totalCJ!D22 -> 906583763 | E22: ='total COMUNE'!E22+totalORASE!E22+'total MUNICIPII'!E22+totalCJ!E22 -> 403340078 | F22: ='total COMUNE'!F22+totalORASE!F22+'total MUNICIPII'!F22+totalCJ!F22 -> 141002168 | G22: ='total COMUNE'!G22+totalORASE!G22+'total MUNICIPII'!G22+totalCJ!G22 -> 60319094 | H22: ='total COMUNE'!H22+totalORASE!H22+'total MUNICIPII'!H22+totalCJ!H22 -> 323910686 | I22: ='total COMUNE'!I22+totalORASE!I22+'total MUNICIPII'!I22+totalCJ!I22 -> 16971300 | J22: ='total COMUNE'!J22+totalORASE!J22+'total MUNICIPII'!J22+totalCJ!J22 -> 74741700 | ... AL22: ='total COMUNE'!AL22+totalORASE!AL22+'total MUNICIPII'!AL22+totalCJ!AL22 -> 63082930
A23: 9 | B23: Brăila | C23: ='total COMUNE'!C23+totalORASE!C23+'total MUNICIPII'!C23+totalCJ!C23 -> 849534277 | D23: ='total COMUNE'!D23+totalORASE!D23+'total MUNICIPII'!D23+totalCJ!D23 -> 316339546 | E23: ='total COMUNE'!E23+totalORASE!E23+'total MUNICIPII'!E23+totalCJ!E23 -> 130602536 | F23: ='total COMUNE'!F23+totalORASE!F23+'total MUNICIPII'!F23+totalCJ!F23 -> 45587671 | G23: ='total COMUNE'!G23+totalORASE!G23+'total MUNICIPII'!G23+totalCJ!G23 -> 29212614 | H23: ='total COMUNE'!H23+totalORASE!H23+'total MUNICIPII'!H23+totalCJ!H23 -> 216322233 | I23: ='total COMUNE'!I23+totalORASE!I23+'total MUNICIPII'!I23+totalCJ!I23 -> 16273140 | J23: ='total COMUNE'!J23+totalORASE!J23+'total MUNICIPII'!J23+totalCJ!J23 -> 75395600 | ... AL23: ='total COMUNE'!AL23+totalORASE!AL23+'total MUNICIPII'!AL23+totalCJ!AL23 -> 7853183
A24: 10 | B24: Buzău | C24: ='total COMUNE'!C24+totalORASE!C24+'total MUNICIPII'!C24+totalCJ!C24 -> 1093429758 | D24: ='total COMUNE'!D24+totalORASE!D24+'total MUNICIPII'!D24+totalCJ!D24 -> 351193680 | E24: ='total COMUNE'!E24+totalORASE!E24+'total MUNICIPII'!E24+totalCJ!E24 -> 167421003 | F24: ='total COMUNE'!F24+totalORASE!F24+'total MUNICIPII'!F24+totalCJ!F24 -> 58439418 | G24: ='total COMUNE'!G24+totalORASE!G24+'total MUNICIPII'!G24+totalCJ!G24 -> 55499368 | H24: ='total COMUNE'!H24+totalORASE!H24+'total MUNICIPII'!H24+totalCJ!H24 -> 286642783 | I24: ='total COMUNE'!I24+totalORASE!I24+'total MUNICIPII'!I24+totalCJ!I24 -> 21437734 | J24: ='total COMUNE'!J24+totalORASE!J24+'total MUNICIPII'!J24+totalCJ!J24 -> 117599610 | ... AL24: ='total COMUNE'!AL24+totalORASE!AL24+'total MUNICIPII'!AL24+totalCJ!AL24 -> 7803603
A25: 11 | B25: Caraş - Severin | C25: ='total COMUNE'!C25+totalORASE!C25+'total MUNICIPII'!C25+totalCJ!C25 -> 904161945 | D25: ='total COMUNE'!D25+totalORASE!D25+'total MUNICIPII'!D25+totalCJ!D25 -> 246982766 | E25: ='total COMUNE'!E25+totalORASE!E25+'total MUNICIPII'!E25+totalCJ!E25 -> 101335116 | F25: ='total COMUNE'!F25+totalORASE!F25+'total MUNICIPII'!F25+totalCJ!F25 -> 35371850 | G25: ='total COMUNE'!G25+totalORASE!G25+'total MUNICIPII'!G25+totalCJ!G25 -> 46062946 | H25: ='total COMUNE'!H25+totalORASE!H25+'total MUNICIPII'!H25+totalCJ!H25 -> 214204686 | I25: ='total COMUNE'!I25+totalORASE!I25+'total MUNICIPII'!I25+totalCJ!I25 -> 19698000 | J25: ='total COMUNE'!J25+totalORASE!J25+'total MUNICIPII'!J25+totalCJ!J25 -> 138845140 | ... AL25: ='total COMUNE'!AL25+totalORASE!AL25+'total MUNICIPII'!AL25+totalCJ!AL25 -> 34287779
A26: 12 | B26: Călăraşi | C26: ='total COMUNE'!C26+totalORASE!C26+'total MUNICIPII'!C26+totalCJ!C26 -> 832733181 | D26: ='total COMUNE'!D26+totalORASE!D26+'total MUNICIPII'!D26+totalCJ!D26 -> 239852053 | E26: ='total COMUNE'!E26+totalORASE!E26+'total MUNICIPII'!E26+totalCJ!E26 -> 99795265 | F26: ='total COMUNE'!F26+totalORASE!F26+'total MUNICIPII'!F26+totalCJ!F26 -> 35498230 | G26: ='total COMUNE'!G26+totalORASE!G26+'total MUNICIPII'!G26+totalCJ!G26 -> 32847347 | H26: ='total COMUNE'!H26+totalORASE!H26+'total MUNICIPII'!H26+totalCJ!H26 -> 193760408 | I26: ='total COMUNE'!I26+totalORASE!I26+'total MUNICIPII'!I26+totalCJ!I26 -> 17063400 | J26: ='total COMUNE'!J26+totalORASE!J26+'total MUNICIPII'!J26+totalCJ!J26 -> 108528410 | ... AL26: ='total COMUNE'!AL26+totalORASE!AL26+'total MUNICIPII'!AL26+totalCJ!AL26 -> 13102745
... A56: 42 | B56: Mun. Bucureşti | C56: ='total COMUNE'!C56+totalORASE!C56+'total MUNICIPII'!C56+totalCJ!C56 -> 8068359583 | D56: ='total COMUNE'!D56+totalORASE!D56+'total MUNICIPII'!D56+totalCJ!D56 -> 6543603955 | E56: ='total COMUNE'!E56+totalORASE!E56+'total MUNICIPII'!E56+totalCJ!E56 -> 4528503614 | F56: ='total COMUNE'!F56+totalORASE!F56+'total MUNICIPII'!F56+totalCJ!F56 -> 491462803 | G56: ='total COMUNE'!G56+totalORASE!G56+'total MUNICIPII'!G56+totalCJ!G56 -> 0 | H56: ='total COMUNE'!H56+totalORASE!H56+'total MUNICIPII'!H56+totalCJ!H56 -> 1139191746 | I56: ='total COMUNE'!I56+totalORASE!I56+'total MUNICIPII'!I56+totalCJ!I56 -> 0 | J56: ='total COMUNE'!J56+totalORASE!J56+'total MUNICIPII'!J56+totalCJ!J56 -> 31549080 | ... AL56: ='total COMUNE'!AL56+totalORASE!AL56+'total MUNICIPII'!AL56+totalCJ!AL56 -> 3633626
Q65: =Q60-Q61 -> 0

Sheet total COMUNE
AJ1: ANEXA nr. 24
B2: TOTAL COMUNE
B3: Perioada: 2015
H5: SITUAŢIA PRIVIND EXECUŢIA VENITURILOR ŞI CHELTUIELILOR BUGETELOR LOCALE PE UNITĂŢI ADMINISTRATIV-TERITORIALE
AL8: - lei -
A9: DENUMIREA UNITĂŢILOR ADMINISTRATIV-TERITORIALE (în ordine alfabetică) | C9: VENITURI | D9: VENITURI PROPRII | G9: Sume defalcate din TVA pentru finanţarea cheltuielilor descentralizate la nivelul judeţelor | H9: Sume defalcate din TVA pentru finanţarea cheltuielilor descentralizate la nivelul comunelor, oraşelor, municipiilor, sectoarelor şi municipiului Bucureşti | I9: Sume defalcate din TVA pentru drumuri | J9: Sume defalcate din TVA pentru echilibrarea bugetelor locale | K9: Sume defalcate din TVA pentru finanţarea Programului de dezvoltare a infrastructurii şi a bazelor sportive din spaţiul rural | L9: Subvenţii | M9: Sume primite de la Ue/alti donatori in contul platilor efectuate si prefinantari | N9: Alte venituri | O9: CHELTUIELI | P9: d i n c a r e: pe titluri de cheltuieli | AB9: d i n c a r e: pe parti si capitole de cheltuieli
C10: TOTALE | E10: din care: | O10: TOTALE
C11: (col.2+5+...+11) | D11: TOTAL | E11: Cote defalcate din impozitul pe venit | F11: Sume alocate din cotele defalcate din impozitul pe venit pentru echilibrarea bugetelor locale | O11: (col.14+...+24 - 25) (col.26+...+34) | P11: Cheltuieli de personal | Q11: Bunuri şi servicii | R11: Dobânzi | S11: Subvenţii | T11: Transferuri între unităţi ale administraţiei publice | U11: Alte transferuri | V11: Proiecte cu finanţare din fonduri externe nerambursabile | W11: Asistenţă socială | X11: Alte cheltuieli | Y11: Cheltuieli de capital | Z11: Operatiuni financiare | AA11: Plăţi efectuate în anii precedenţi şi recuperate în anul curent | AB11: Servicii publice generale | AC11: Apărare, ordine publică şi siguranţă naţională | AD11: Învăţământ | AE11: Sănătate | AF11: Cultură, recreere şi religie | AG11: Asigurări şi asistenţă socială | AH11: Servicii şi dezvoltare publică, locuinţe | AI11: Protectia mediului | AJ11: Combustibili şi energie | AK11: Transporturi | AL11: Alte cheltuieli
C12: 00.01.02 | D12: 48.02 | E12: 04.02.01 | F12: 04.02.04 | G12: 11.02.01 | H12: 11.02.02 | I12: 11.02.05 | J12: 11.02.06 | K12: 11.02.07 | L12: 42.02 | M12: 45.02 | O12: 50.02 | P12: 10 | Q12: 20 | R12: 30 | S12: 40 | T12: 51 | U12: 55 | V12: 56 | W12: 57 | X12: 59 | Y12: 70 | Z12: 79 | AA12: 84 | AB12: 50.02 | AC12: 59.02 | AD12: 65.02 | AE12: 66.02 | AF12: 67.02 | AG12: 68.02 | AH12: 70.02 | AI12: 74.02 | AJ12: 81.02 | AK12: 84.02
A13: A | C13: 1 | D13: 2 | E13: 3 | F13: 4 | G13: 5 | H13: 6 | I13: 7 | J13: 8 | K13: 9 | L13: 10 | M13: 11 | N13: 12 | O13: 13 | P13: 14 | Q13: 15 | R13: 16 | S13: 17 | T13: 18 | U13: 19 | V13: 20 | W13: 21 | X13: 22 | Y13: 23 | Z13: 24 | AA13: 25 | AB13: 26 | AC13: 27 | AD13: 28 | AE13: 29 | AF13: 30 | AG13: 31 | AH13: 32 | AI13: 33 | AJ13: 34 | AK13: 35 | AL13: 36
A14: TOTAL | C14: =SUM(C15:C56) -> 18051697207 | D14: =SUM(D15:D56) -> 5451045938 | E14: =SUM(E15:E56) -> 1338784722 | F14: =SUM(F15:F56) -> 1519331339 | G14: =SUM(G15:G56) -> 0 | H14: =SUM(H15:H56) -> 5031171236 | I14: =SUM(I15:I56) -> 324538081 | J14: =SUM(J15:J56) -> 2464723409 | ... AL14: =SUM(AL15:AL56) -> 368683663
A15: 1 | B15: Alba | C15: ='1'!D54 -> 332634770 | D15: ='1'!E54 -> 92110496 | E15: ='1'!F54 -> 23884928 | F15: ='1'!G54 -> 26936900 | G15: ='1'!H54 -> 0 | H15: ='1'!I54 -> 84683781 | I15: ='1'!J54 -> 2224351 | J15: ='1'!K54 -> 56325310 | ... AL15: ='1'!AM54 -> 4655354
A16: 2 | B16: Arad | C16: ='2'!D54 -> 389661214 | D16: ='2'!E54 -> 152691137 | E16: ='2'!F54 -> 24249009 | F16: ='2'!G54 -> 58811220 | G16: ='2'!H54 -> 0 | H16: ='2'!I54 -> 97797190 | I16: ='2'!J54 -> 11663479 | J16: ='2'!K54 -> 37359610 | ... AL16: ='2'!AM54 -> 3116286
A17: 3 | B17: Argeş | C17: ='3'!D54 -> 612443002 | D17: ='3'!E54 -> 235229196 | E17: ='3'!F54 -> 61521619 | F17: ='3'!G54 -> 86068918 | G17: ='3'!H54 -> 0 | H17: ='3'!I54 -> 205553687 | I17: ='3'!J54 -> 17379655 | J17: ='3'!K54 -> 41557880 | ... AL17: ='3'!AM54 -> 4216253
A18: 4 | B18: Bacău | C18: ='4'!D54 -> 581274816 | D18: ='4'!E54 -> 134929756 | E18: ='4'!F54 -> 30538823 | F18: ='4'!G54 -> 41123275 | G18: ='4'!H54 -> 0 | H18: ='4'!I54 -> 190510919 | I18: ='4'!J54 -> 10482276 | J18: ='4'!K54 -> 80757670 | ... AL18: ='4'!AM54 -> 2344018
A19: 5 | B19: Bihor | C19: ='5'!D54 -> 580948517 | D19: ='5'!E54 -> 177119387 | E19: ='5'!F54 -> 49426180 | F19: ='5'!G54 -> 46781869 | G19: ='5'!H54 -> 0 | H19: ='5'!I54 -> 170627156 | I19: ='5'!J54 -> 6846725 | J19: ='5'!K54 -> 70829667 | ... AL19: ='5'!AM54 -> 14451085
A20: 6 | B20: Bistriţa - Năsăud | C20: ='6'!D54 -> 465609334 | D20: ='6'!E54 -> 104346708 | E20: ='6'!F54 -> 17208251 | F20: ='6'!G54 -> 16794845 | G20: ='6'!H54 -> 0 | H20: ='6'!I54 -> 119504690 | I20: ='6'!J54 -> 2613567 | J20: ='6'!K54 -> 50880630 | ... AL20: ='6'!AM54 -> 77051556
A21: 7 | B21: Botoşani | C21: ='7'!D54 -> 408204650 | D21: ='7'!E54 -> 74435523 | E21: ='7'!F54 -> 16535750 | F21: ='7'!G54 -> 16972995 | G21: ='7'!H54 -> 0 | H21: ='7'!I54 -> 140685842 | I21: ='7'!J54 -> 13551000 | J21: ='7'!K54 -> 77713530 | ... AL21: ='7'!AM54 -> 577038
A22: 8 | B22: Braşov | C22: ='8'!D54 -> 355396270 | D22: ='8'!E54 -> 177450321 | E22: ='8'!F54 -> 44056893 | F22: ='8'!G54 -> 55788741 | G22: ='8'!H54 -> 0 | H22: ='8'!I54 -> 81433187 | I22: ='8'!J54 -> 2813100 | J22: ='8'!K54 -> 36223700 | ... AL22: ='8'!AM54 -> 8277574
A23: 9 | B23: Brăila | C23: ='9'!D54 -> 242571469 | D23: ='9'!E54 -> 70226875 | E23: ='9'!F54 -> 16336822 | F23: ='9'!G54 -> 15223484 | G23: ='9'!H54 -> 0 | H23: ='9'!I54 -> 66181160 | I23: ='9'!J54 -> 8373000 | J23: ='9'!K54 -> 35826600 | ... AL23: ='9'!AM54 -> 4485604
A24: 10 | B24: Buzău | C24: ='10'!D54 -> 428104405 | D24: ='10'!E54 -> 108282837 | E24: ='10'!F54 -> 28530946 | F24: ='10'!G54 -> 29424665 | G24: ='10'!H54 -> 0 | H24: ='10'!I54 -> 134001113 | I24: ='10'!J54 -> 14094734 | J24: ='10'!K54 -> 71474330 | ... AL24: ='10'!AM54 -> 2678943
A25: 11 | B25: Caraş - Severin | C25: ='11'!D54 -> 306792039 | D25: ='11'!E54 -> 68034137 | E25: ='11'!F54 -> 15090287 | F25: ='11'!G54 -> 13024438 | G25: ='11'!H54 -> 0 | H25: ='11'!I54 -> 79174706 | I25: ='11'!J54 -> 7295000 | J25: ='11'!K54 -> 66398220 | ... AL25: ='11'!AM54 -> 5982265
A26: 12 | B26: Călăraşi | C26: ='12'!D54 -> 347042398 | D26: ='12'!E54 -> 88886271 | E26: ='12'!F54 -> 26899358 | F26: ='12'!G54 -> 13907876 | G26: ='12'!H54 -> 0 | H26: ='12'!I54 -> 95297970 | I26: ='12'!J54 -> 4553770 | J26: ='12'!K54 -> 46907000 | ... AL26: ='12'!AM54 -> 6003081
A27: 13 | B27: Cluj | C27: ='13'!D54 -> 542451217 | D27: ='13'!E54 -> 244963371 | E27: ='13'!F54 -> 48303571 | F27: ='13'!G54 -> 109253227 | G27: ='13'!H54 -> 0 | H27: ='13'!I54 -> 106486639 | I27: ='13'!J54 -> 8387285 | J27: ='13'!K54 -> 51965894 | ... AL27: ='13'!AM54 -> 23075740
A28: 14 | B28: Constanţa | C28: ='14'!D54 -> 533687495 | D28: ='14'!E54 -> 235003908 | E28: ='14'!F54 -> 39135179 | F28: ='14'!G54 -> 67552400 | G28: ='14'!H54 -> 0 | H28: ='14'!I54 -> 107578424 | I28: ='14'!J54 -> 15954249 | J28: ='14'!K54 -> 31746164 | ... AL28: ='14'!AM54 -> 11962679
A29: 15 | B29: Covasna | C29: ='15'!D54 -> 207997861 | D29: ='15'!E54 -> 54562846 | E29: ='15'!F54 -> 12103374 | F29: ='15'!G54 -> 10657907 | G29: ='15'!H54 -> 0 | H29: ='15'!I54 -> 63208923 | I29: ='15'!J54 -> 8232983 | J29: ='15'!K54 -> 34298210 | ... AL29: ='15'!AM54 -> 4024521
A30: 16 | B30: Dâmboviţa | C30: ='16'!D54 -> 552564892 | D30: ='16'!E54 -> 133436617 | E30: ='16'!F54 -> 39504213 | F30: ='16'!G54 -> 27401791 | G30: ='16'!H54 -> 0 | H30: ='16'!I54 -> 174211323 | I30: ='16'!J54 -> 1899872 | J30: ='16'!K54 -> 74290176 | ... AL30: ='16'!AM54 -> 5726684
A31: 17 | B31: Dolj | C31: ='17'!D54 -> 582749866 | D31: ='17'!E54 -> 161141524 | E31: ='17'!F54 -> 36027551 | F31: ='17'!G54 -> 57512036 | G31: ='17'!H54 -> 0 | H31: ='17'!I54 -> 157476854 | I31: ='17'!J54 -> 8478161 | J31: ='17'!K54 -> 73297110 | ... AL31: ='17'!AM54 -> 3815978
A32: 18 | B32: Galaţi | C32: ='18'!D54 -> 440521301 | D32: ='18'!E54 -> 124654209 | E32: ='18'!F54 -> 20566783 | F32: ='18'!G54 -> 44541123 | G32: ='18'!H54 -> 0 | H32: ='18'!I54 -> 123490458 | I32: ='18'!J54 -> 9184955 | J32: ='18'!K54 -> 54870800 | ... AL32: ='18'!AM54 -> 2680804
A33: 19 | B33: Giurgiu | C33: ='19'!D54 -> 390348956 | D33: ='19'!E54 -> 74788023 | E33: ='19'!F54 -> 25001044 | F33: ='19'!G54 -> 9650219 | G33: ='19'!H54 -> 0 | H33: ='19'!I54 -> 89010117 | I33: ='19'!J54 -> 13791719 | J33: ='19'!K54 -> 58416662 | ... AL33: ='19'!AM54 -> 2283972
A34: 20 | B34: Gorj | C34: ='20'!D54 -> 335385905 | D34: ='20'!E54 -> 94685640 | E34: ='20'!F54 -> 34288279 | F34: ='20'!G54 -> 22786179 | G34: ='20'!H54 -> 0 | H34: ='20'!I54 -> 103986684 | I34: ='20'!J54 -> 7770998 | J34: ='20'!K54 -> 51165115 | ... AL34: ='20'!AM54 -> 2400819
A35: 21 | B35: Harghita | C35: ='21'!D54 -> 391486171 | D35: ='21'!E54 -> 83569034 | E35: ='21'!F54 -> 21235859 | F35: ='21'!G54 -> 13900869 | G35: ='21'!H54 -> 0 | H35: ='21'!I54 -> 120958733 | I35: ='21'!J54 -> 14247485 | J35: ='21'!K54 -> 54250622 | ... AL35: ='21'!AM54 -> 6832256
A36: 22 | B36: Hunedoara | C36: ='22'!D54 -> 289948061 | D36: ='22'!E54 -> 75956601 | E36: ='22'!F54 -> 20346339 | F36: ='22'!G54 -> 24869238 | G36: ='22'!H54 -> 0 | H36: ='22'!I54 -> 62008869 | I36: ='22'!J54 -> 8296604 | J36: ='22'!K54 -> 49685900 | ... AL36: ='22'!AM54 -> 13841095
A37: 23 | B37: Ialomiţa | C37: ='23'!D54 -> 253831871 | D37: ='23'!E54 -> 74738425 | E37: ='23'!F54 -> 19108021 | F37: ='23'!G54 -> 9438949 | G37: ='23'!H54 -> 0 | H37: ='23'!I54 -> 71580267 | I37: ='23'!J54 -> 13485226 | J37: ='23'!K54 -> 49277000 | ... AL37: ='23'!AM54 -> 1566382
A38: 24 | B38: Iaşi | C38: ='24'!D54 -> 709220192 | D38: ='24'!E54 -> 216603654 | E38: ='24'!F54 -> 38955809 | F38: ='24'!G54 -> 80143584 | G38: ='24'!H54 -> 0 | H38: ='24'!I54 -> 243086672 | I38: ='24'!J54 -> 3199919 | J38: ='24'!K54 -> 68900500 | ... AL38: ='24'!AM54 -> 5109323
A39: 25 | B39: Ilfov | C39: ='25'!D54 -> 586879769 | D39: ='25'!E54 -> 358033407 | E39: ='25'!F54 -> 136421557 | F39: ='25'!G54 -> 82781712 | G39: ='25'!H54 -> 0 | H39: ='25'!I54 -> 99515205 | I39: ='25'!J54 -> 12882000 | J39: ='25'!K54 -> 13054120 | ... AL39: ='25'!AM54 -> 1747708
A40: 26 | B40: Maramureş | C40: ='26'!D54 -> 407207559 | D40: ='26'!E54 -> 94451186 | E40: ='26'!F54 -> 20066790 | F40: ='26'!G54 -> 26428951 | G40: ='26'!H54 -> 0 | H40: ='26'!I54 -> 123651937 | I40: ='26'!J54 -> 0 | J40: ='26'!K54 -> 62221010 | ... AL40: ='26'!AM54 -> 10057674
A41: 27 | B41: Mehedinţi | C41: ='27'!D54 -> 327601092 | D41: ='27'!E54 -> 49847785 | E41: ='27'!F54 -> 14155994 | F41: ='27'!G54 -> 10357865 | G41: ='27'!H54 -> 0 | H41: ='27'!I54 -> 85483323 | I41: ='27'!J54 -> 16759849 | J41: ='27'!K54 -> 67769446 | ... AL41: ='27'!AM54 -> 10019796
A42: 28 | B42: Mureş | C42: ='28'!D54 -> 483455341 | D42: ='28'!E54 -> 181726142 | E42: ='28'!F54 -> 40984925 | F42: ='28'!G54 -> 53338700 | G42: ='28'!H54 -> 0 | H42: ='28'!I54 -> 134590450 | I42: ='28'!J54 -> 9878862 | J42: ='28'!K54 -> 60072160 | ... AL42: ='28'!AM54 -> 6396934
A43: 29 | B43: Neamţ | C43: ='29'!D54 -> 551194447 | D43: ='29'!E54 -> 124523978 | E43: ='29'!F54 -> 36208405 | F43: ='29'!G54 -> 25160299 | G43: ='29'!H54 -> 0 | H43: ='29'!I54 -> 170516575 | I43: ='29'!J54 -> 14574232 | J43: ='29'!K54 -> 85944040 | ... AL43: ='29'!AM54 -> 4687633
A44: 30 | B44: Olt | C44: ='30'!D54 -> 481414635 | D44: ='30'!E54 -> 89717144 | E44: ='30'!F54 -> 20851340 | F44: ='30'!G54 -> 26727683 | G44: ='30'!H54 -> 0 | H44: ='30'!I54 -> 140099005 | I44: ='30'!J54 -> 4998998 | J44: ='30'!K54 -> 107022070 | ... AL44: ='30'!AM54 -> 9215954
A45: 31 | B45: Prahova | C45: ='31'!D54 -> 632866155 | D45: ='31'!E54 -> 304500846 | E45: ='31'!F54 -> 86350787 | F45: ='31'!G54 -> 85571153 | G45: ='31'!H54 -> 0 | H45: ='31'!I54 -> 189382740 | I45: ='31'!J54 -> 9960631 | J45: ='31'!K54 -> 57206170 | ... AL45: ='31'!AM54 -> 4664177
A46: 32 | B46: Satu Mare | C46: ='32'!D54 -> 359801458 | D46: ='32'!E54 -> 98685810 | E46: ='32'!F54 -> 24590618 | F46: ='32'!G54 -> 24572053 | G46: ='32'!H54 -> 0 | H46: ='32'!I54 -> 111057398 | I46: ='32'!J54 -> 0 | J46: ='32'!K54 -> 44268380 | ... AL46: ='32'!AM54 -> 13438668
A47: 33 | B47: Sălaj | C47: ='33'!D54 -> 373032470 | D47: ='33'!E54 -> 65158782 | E47: ='33'!F54 -> 15980076 | F47: ='33'!G54 -> 13261296 | G47: ='33'!H54 -> 0 | H47: ='33'!I54 -> 96881031 | I47: ='33'!J54 -> 10241905 | J47: ='33'!K54 -> 51165162 | ... AL47: ='33'!AM54 -> 36442406
A48: 34 | B48: Sibiu | C48: ='34'!D54 -> 329925989 | D48: ='34'!E54 -> 140920214 | E48: ='34'!F54 -> 25790505 | F48: ='34'!G54 -> 51442313 | G48: ='34'!H54 -> 0 | H48: ='34'!I54 -> 73834129 | I48: ='34'!J54 -> 0 | J48: ='34'!K54 -> 25769290 | ... AL48: ='34'!AM54 -> 15542524
A49: 35 | B49: Suceava | C49: ='35'!D54 -> 641632635 | D49: ='35'!E54 -> 166508120 | E49: ='35'!F54 -> 39101071 | F49: ='35'!G54 -> 27764618 | G49: ='35'!H54 -> 0 | H49: ='35'!I54 -> 225789398 | I49: ='35'!J54 -> 0 | J49: ='35'!K54 -> 92630834 | ... AL49: ='35'!AM54 -> 7683914
A50: 36 | B50: Teleorman | C50: ='36'!D54 -> 357259158 | D50: ='36'!E54 -> 87354960 | E50: ='36'!F54 -> 24124449 | F50: ='36'!G54 -> 18157835 | G50: ='36'!H54 -> 0 | H50: ='36'!I54 -> 113932354 | I50: ='36'!J54 -> 0 | J50: ='36'!K54 -> 88131630 | ... AL50: ='36'!AM54 -> 6709314
A51: 37 | B51: Timiş | C51: ='37'!D54 -> 698795574 | D51: ='37'!E54 -> 332762805 | E51: ='37'!F54 -> 77385029 | F51: ='37'!G54 -> 107801964 | G51: ='37'!H54 -> 0 | H51: ='37'!I54 -> 140241773 | I51: ='37'!J54 -> 10818704 | J51: ='37'!K54 -> 56866167 | ... AL51: ='37'!AM54 -> 4912860
A52: 38 | B52: Tulcea | C52: ='38'!D54 -> 267242928 | D52: ='38'!E54 -> 72303925 | E52: ='38'!F54 -> 15519504 | F52: ='38'!G54 -> 12409551 | G52: ='38'!H54 -> 0 | H52: ='38'!I54 -> 61117275 | I52: ='38'!J54 -> 0 | J52: ='38'!K54 -> 47321650 | ... AL52: ='38'!AM54 -> 6887345
A53: 39 | B53: Vaslui | C53: ='39'!D54 -> 428305012 | D53: ='39'!E54 -> 64545108 | E53: ='39'!F54 -> 15301411 | F53: ='39'!G54 -> 14326820 | G53: ='39'!H54 -> 0 | H53: ='39'!I54 -> 140977085 | I53: ='39'!J54 -> 6197000 | J53: ='39'!K54 -> 97467600 | ... AL53: ='39'!AM54 -> 2777024
A54: 40 | B54: Vâlcea | C54: ='40'!D54 -> 464739099 | D54: ='40'!E54 -> 81489608 | E54: ='40'!F54 -> 19883336 | F54: ='40'!G54 -> 24001827 | G54: ='40'!H54 -> 0 | H54: ='40'!I54 -> 112994911 | I54: ='40'!J54 -> 5164787 | J54: ='40'!K54 -> 113272240 | ... AL54: ='40'!AM54 -> 7704861
A55: 41 | B55: Vrancea | C55: ='41'!D54 -> 379467214 | D55: ='41'!E54 -> 80669622 | E55: ='41'!F54 -> 17214037 | F55: ='41'!G54 -> 16659951 | G55: ='41'!H54 -> 0 | H55: ='41'!I54 -> 122571283 | I55: ='41'!J54 -> 8241000 | J55: ='41'!K54 -> 70123140 | ... AL55: ='41'!AM54 -> 2635561
A56: 42 | B56: Mun. Bucureşti | C56: ='42'!D54 -> 0 | D56: ='42'!E54 -> 0 | E56: ='42'!F54 -> 0 | F56: ='42'!G54 -> 0 | G56: ='42'!H54 -> 0 | H56: ='42'!I54 -> 0 | I56: ='42'!J54 -> 0 | J56: ='42'!K54 -> 0 | ... AL56: ='42'!AM54 -> 0

Sheet totalORASE
AJ1: ANEXA nr. 24
B2: TOTAL ORASE
B3: Perioada: 2015
H5: SITUAŢIA PRIVIND EXECUŢIA VENITURILOR ŞI CHELTUIELILOR BUGETELOR LOCALE PE UNITĂŢI ADMINISTRATIV-TERITORIALE
AL8: - lei -
A9: DENUMIREA UNITĂŢILOR ADMINISTRATIV-TERITORIALE (în ordine alfabetică) | C9: VENITURI | D9: VENITURI PROPRII | G9: Sume defalcate din TVA pentru finanţarea cheltuielilor descentralizate la nivelul judeţelor | H9: Sume defalcate din TVA pentru finanţarea cheltuielilor descentralizate la nivelul comunelor, oraşelor, municipiilor, sectoarelor şi municipiului Bucureşti | I9: Sume defalcate din TVA pentru drumuri | J9: Sume defalcate din TVA pentru echilibrarea bugetelor locale | K9: Sume defalcate din TVA pentru finanţarea Programului de dezvoltare a infrastructurii şi a bazelor sportive din spaţiul rural | L9: Subvenţii | M9: Sume primite de la Ue/alti donatori in contul platilor efectuate si prefinantari | N9: Alte venituri | O9: CHELTUIELI | P9: d i n c a r e: pe titluri de cheltuieli | AB9: d i n c a r e: pe parti si capitole de cheltuieli
C10: TOTALE | E10: din care: | O10: TOTALE
C11: (col.2+5+...+11) | D11: TOTAL | E11: Cote defalcate din impozitul pe venit | F11: Sume alocate din cotele defalcate din impozitul pe venit pentru echilibrarea bugetelor locale | O11: (col.14+...+24 - 25) (col.26+...+34) | P11: Cheltuieli de personal | Q11: Bunuri şi servicii | R11: Dobânzi | S11: Subvenţii | T11: Transferuri între unităţi ale administraţiei publice | U11: Alte transferuri | V11: Proiecte cu finanţare din fonduri externe nerambursabile | W11: Asistenţă socială | X11: Alte cheltuieli | Y11: Cheltuieli de capital | Z11: Operatiuni financiare | AA11: Plăţi efectuate în anii precedenţi şi recuperate în anul curent | AB11: Servicii publice generale | AC11: Apărare, ordine publică şi siguranţă naţională | AD11: Învăţământ | AE11: Sănătate | AF11: Cultură, recreere şi religie | AG11: Asigurări şi asistenţă socială | AH11: Servicii şi dezvoltare publică, locuinţe | AI11: Protectia mediului | AJ11: Combustibili şi energie | AK11: Transporturi | AL11: Alte cheltuieli
C12: 00.01.02 | D12: 48.02 | E12: 04.02.01 | F12: 04.02.04 | G12: 11.02.01 | H12: 11.02.02 | I12: 11.02.05 | J12: 11.02.06 | K12: 11.02.07 | L12: 42.02 | M12: 45.02 | O12: 50.02 | P12: 10 | Q12: 20 | R12: 30 | S12: 40 | T12: 51 | U12: 55 | V12: 56 | W12: 57 | X12: 59 | Y12: 70 | Z12: 79 | AA12: 84 | AB12: 50.02 | AC12: 59.02 | AD12: 65.02 | AE12: 66.02 | AF12: 67.02 | AG12: 68.02 | AH12: 70.02 | AI12: 74.02 | AJ12: 81.02 | AK12: 84.02
A13: A | C13: 1 | D13: 2 | E13: 3 | F13: 4 | G13: 5 | H13: 6 | I13: 7 | J13: 8 | K13: 9 | L13: 10 | M13: 11 | N13: 12 | O13: 13 | P13: 14 | Q13: 15 | R13: 16 | S13: 17 | T13: 18 | U13: 19 | V13: 20 | W13: 21 | X13: 22 | Y13: 23 | Z13: 24 | AA13: 25 | AB13: 26 | AC13: 27 | AD13: 28 | AE13: 29 | AF13: 30 | AG13: 31 | AH13: 32 | AI13: 33 | AJ13: 34 | AK13: 35 | AL13: 36
A14: TOTAL | C14: =SUM(C15:C56) -> 5370153622 | D14: =SUM(D15:D56) -> 2330230033 | E14: =SUM(E15:E56) -> 931100284 | F14: =SUM(F15:F56) -> 268234479 | G14: =SUM(G15:G56) -> 0 | H14: =SUM(H15:H56) -> 1538137972 | I14: =SUM(I15:I56) -> 35320875 | J14: =SUM(J15:J56) -> 385344494 | ... AL14: =SUM(AL15:AL56) -> 113184686
A15: 1 | B15: Alba | C15: ='1'!D33 -> 164990416 | D15: ='1'!E33 -> 47515395 | E15: ='1'!F33 -> 21666811 | F15: ='1'!G33 -> 7134720 | G15: ='1'!H33 -> 0 | H15: ='1'!I33 -> 47356184 | I15: ='1'!J33 -> 450000 | J15: ='1'!K33 -> 13379110 | ... AL15: ='1'!AM33 -> 1680495
A16: 2 | B16: Arad | C16: ='2'!D33 -> 203204621 | D16: ='2'!E33 -> 93755209 | E16: ='2'!F33 -> 43372619 | F16: ='2'!G33 -> 6220896 | G16: ='2'!H33 -> 0 | H16: ='2'!I33 -> 54096658 | I16: ='2'!J33 -> 1758000 | J16: ='2'!K33 -> 9953250 | ... AL16: ='2'!AM33 -> 1251857
A17: 3 | B17: Argeş | C17: ='3'!D33 -> 187111937 | D17: ='3'!E33 -> 123892970 | E17: ='3'!F33 -> 78758560 | F17: ='3'!G33 -> 3268132 | G17: ='3'!H33 -> 0 | H17: ='3'!I33 -> 52867760 | I17: ='3'!J33 -> 0 | J17: ='3'!K33 -> 2779280 | ... AL17: ='3'!AM33 -> 840018
A18: 4 | B18: Bacău | C18: ='4'!D33 -> 164563485 | D18: ='4'!E33 -> 42241145 | E18: ='4'!F33 -> 16408927 | F18: ='4'!G33 -> 3595641 | G18: ='4'!H33 -> 0 | H18: ='4'!I33 -> 45822946 | I18: ='4'!J33 -> 0 | J18: ='4'!K33 -> 8035320 | ... AL18: ='4'!AM33 -> 14020701
A19: 5 | B19: Bihor | C19: ='5'!D33 -> 92882548 | D19: ='5'!E33 -> 37037045 | E19: ='5'!F33 -> 14589428 | F19: ='5'!G33 -> 8951823 | G19: ='5'!H33 -> 0 | H19: ='5'!I33 -> 39162176 | I19: ='5'!J33 -> 300000 | J19: ='5'!K33 -> 8522440 | ... AL19: ='5'!AM33 -> 2633856
A20: 6 | B20: Bistriţa - Năsăud | C20: ='6'!D33 -> 83389741 | D20: ='6'!E33 -> 22932491 | E20: ='6'!F33 -> 10304737 | F20: ='6'!G33 -> 1088064 | G20: ='6'!H33 -> 0 | H20: ='6'!I33 -> 35364354 | I20: ='6'!J33 -> 700000 | J20: ='6'!K33 -> 3437000 | ... AL20: ='6'!AM33 -> 163113
A21: 7 | B21: Botoşani | C21: ='7'!D33 -> 84205979 | D21: ='7'!E33 -> 16917978 | E21: ='7'!F33 -> 5545148 | F21: ='7'!G33 -> 2457800 | G21: ='7'!H33 -> 0 | H21: ='7'!I33 -> 29433326 | I21: ='7'!J33 -> 1835878 | J21: ='7'!K33 -> 17620000 | ... AL21: ='7'!AM33 -> 0
A22: 8 | B22: Braşov | C22: ='8'!D33 -> 179710676 | D22: ='8'!E33 -> 94205887 | E22: ='8'!F33 -> 33595100 | F22: ='8'!G33 -> 14591920 | G22: ='8'!H33 -> 0 | H22: ='8'!I33 -> 37445030 | I22: ='8'!J33 -> 0 | J22: ='8'!K33 -> 12344310 | ... AL22: ='8'!AM33 -> 6571087
A23: 9 | B23: Brăila | C23: ='9'!D33 -> 48796417 | D23: ='9'!E33 -> 16709095 | E23: ='9'!F33 -> 5414406 | F23: ='9'!G33 -> 2392658 | G23: ='9'!H33 -> 0 | H23: ='9'!I33 -> 15945000 | I23: ='9'!J33 -> 1450000 | J23: ='9'!K33 -> 6463000 | ... AL23: ='9'!AM33 -> 218815
A24: 10 | B24: Buzău | C24: ='10'!D33 -> 43265320 | D24: ='10'!E33 -> 13627208 | E24: ='10'!F33 -> 5017128 | F24: ='10'!G33 -> 2718067 | G24: ='10'!H33 -> 0 | H24: ='10'!I33 -> 16709365 | I24: ='10'!J33 -> 600000 | J24: ='10'!K33 -> 7308290 | ... AL24: ='10'!AM33 -> 102801
A25: 11 | B25: Caraş - Severin | C25: ='11'!D33 -> 147585083 | D25: ='11'!E33 -> 37582942 | E25: ='11'!F33 -> 16828060 | F25: ='11'!G33 -> 2341149 | G25: ='11'!H33 -> 0 | H25: ='11'!I33 -> 50462162 | I25: ='11'!J33 -> 100000 | J25: ='11'!K33 -> 15193790 | ... AL25: ='11'!AM33 -> 1872708
A26: 12 | B26: Călăraşi | C26: ='12'!D33 -> 60348964 | D26: ='12'!E33 -> 16591665 | E26: ='12'!F33 -> 6269249 | F26: ='12'!G33 -> 1015008 | G26: ='12'!H33 -> 0 | H26: ='12'!I33 -> 15092890 | I26: ='12'!J33 -> 480000 | J26: ='12'!K33 -> 4391560 | ... AL26: ='12'!AM33 -> 0
A27: 13 | B27: Cluj | C27: ='13'!D33 -> 19148676 | D27: ='13'!E33 -> 8720995 | E27: ='13'!F33 -> 3278948 | F27: ='13'!G33 -> 1794138 | G27: ='13'!H33 -> 0 | H27: ='13'!I33 -> 8011895 | I27: ='13'!J33 -> 0 | J27: ='13'!K33 -> 2088000 | ... AL27: ='13'!AM33 -> 21416
A28: 14 | B28: Constanţa | C28: ='14'!D33 -> 359132948 | D28: ='14'!E33 -> 192411535 | E28: ='14'!F33 -> 52365423 | F28: ='14'!G33 -> 30277410 | G28: ='14'!H33 -> 0 | H28: ='14'!I33 -> 61584143 | I28: ='14'!J33 -> 1306020 | J28: ='14'!K33 -> 6226145 | ... AL28: ='14'!AM33 -> 1154131
A29: 15 | B29: Covasna | C29: ='15'!D33 -> 67290734 | D29: ='15'!E33 -> 18985760 | E29: ='15'!F33 -> 7532583 | F29: ='15'!G33 -> 1072647 | G29: ='15'!H33 -> 0 | H29: ='15'!I33 -> 24059584 | I29: ='15'!J33 -> 998443 | J29: ='15'!K33 -> 4852650 | ... AL29: ='15'!AM33 -> 744611
A30: 16 | B30: Dâmboviţa | C30: ='16'!D33 -> 137898555 | D30: ='16'!E33 -> 55446979 | E30: ='16'!F33 -> 25332483 | F30: ='16'!G33 -> 1943878 | G30: ='16'!H33 -> 0 | H30: ='16'!I33 -> 48230550 | I30: ='16'!J33 -> 0 | J30: ='16'!K33 -> 5249150 | ... AL30: ='16'!AM33 -> 503358
A31: 17 | B31: Dolj | C31: ='17'!D33 -> 84128113 | D31: ='17'!E33 -> 24953690 | E31: ='17'!F33 -> 8062781 | F31: ='17'!G33 -> 4979318 | G31: ='17'!H33 -> 0 | H31: ='17'!I33 -> 27533688 | I31: ='17'!J33 -> 374476 | J31: ='17'!K33 -> 6869710 | ... AL31: ='17'!AM33 -> 161250
A32: 18 | B32: Galaţi | C32: ='18'!D33 -> 23561838 | D32: ='18'!E33 -> 10948338 | E32: ='18'!F33 -> 1811619 | F32: ='18'!G33 -> 6570354 | G32: ='18'!H33 -> 0 | H32: ='18'!I33 -> 7543224 | I32: ='18'!J33 -> 1223053 | J32: ='18'!K33 -> 2169320 | ... AL32: ='18'!AM33 -> 48388
A33: 19 | B33: Giurgiu | C33: ='19'!D33 -> 30933035 | D33: ='19'!E33 -> 13681862 | E33: ='19'!F33 -> 5852997 | F33: ='19'!G33 -> 417795 | G33: ='19'!H33 -> 0 | H33: ='19'!I33 -> 13013863 | I33: ='19'!J33 -> 23587 | J33: ='19'!K33 -> 2138100 | ... AL33: ='19'!AM33 -> 66099
A34: 20 | B34: Gorj | C34: ='20'!D33 -> 122992621 | D34: ='20'!E33 -> 54739268 | E34: ='20'!F33 -> 28630821 | F34: ='20'!G33 -> 4156268 | G34: ='20'!H33 -> 0 | H34: ='20'!I33 -> 40905390 | I34: ='20'!J33 -> 916000 | J34: ='20'!K33 -> 8732800 | ... AL34: ='20'!AM33 -> 590227
A35: 21 | B35: Harghita | C35: ='21'!D33 -> 78608366 | D35: ='21'!E33 -> 21936397 | E35: ='21'!F33 -> 7909189 | F35: ='21'!G33 -> 3192180 | G35: ='21'!H33 -> 0 | H35: ='21'!I33 -> 26061177 | I35: ='21'!J33 -> 850000 | J35: ='21'!K33 -> 11006880 | ... AL35: ='21'!AM33 -> 2896151
A36: 22 | B36: Hunedoara | C36: ='22'!D33 -> 180109591 | D36: ='22'!E33 -> 50944813 | E36: ='22'!F33 -> 22830619 | F36: ='22'!G33 -> 6154331 | G36: ='22'!H33 -> 0 | H36: ='22'!I33 -> 57073829 | I36: ='22'!J33 -> 1130777 | J36: ='22'!K33 -> 13785080 | ... AL36: ='22'!AM33 -> 1038847
A37: 23 | B37: Ialomiţa | C37: ='23'!D33 -> 59171025 | D37: ='23'!E33 -> 19404632 | E37: ='23'!F33 -> 5708104 | F37: ='23'!G33 -> 2198157 | G37: ='23'!H33 -> 0 | H37: ='23'!I33 -> 16581339 | I37: ='23'!J33 -> 950000 | J37: ='23'!K33 -> 13599101 | ... AL37: ='23'!AM33 -> 3470346
A38: 24 | B38: Iaşi | C38: ='24'!D33 -> 68271751 | D38: ='24'!E33 -> 19474193 | E38: ='24'!F33 -> 7146633 | F38: ='24'!G33 -> 4620463 | G38: ='24'!H33 -> 0 | H38: ='24'!I33 -> 32910242 | I38: ='24'!J33 -> 200000 | J38: ='24'!K33 -> 2790090 | ... AL38: ='24'!AM33 -> 59967
A39: 25 | B39: Ilfov | C39: ='25'!D33 -> 694700750 | D39: ='25'!E33 -> 509421652 | E39: ='25'!F33 -> 229899629 | F39: ='25'!G33 -> 40442285 | G39: ='25'!H33 -> 0 | H39: ='25'!I33 -> 64733533 | I39: ='25'!J33 -> 0 | J39: ='25'!K33 -> 2836150 | ... AL39: ='25'!AM33 -> 2123347
A40: 26 | B40: Maramureş | C40: ='26'!D33 -> 229069782 | D40: ='26'!E33 -> 84406414 | E40: ='26'!F33 -> 23504244 | F40: ='26'!G33 -> 11862601 | G40: ='26'!H33 -> 0 | H40: ='26'!I33 -> 77625563 | I40: ='26'!J33 -> 0 | J40: ='26'!K33 -> 24414710 | ... AL40: ='26'!AM33 -> 2837783
A41: 27 | B41: Mehedinţi | C41: ='27'!D33 -> 51638954 | D41: ='27'!E33 -> 10193382 | E41: ='27'!F33 -> 3741928 | F41: ='27'!G33 -> 1360809 | G41: ='27'!H33 -> 0 | H41: ='27'!I33 -> 18995203 | I41: ='27'!J33 -> 1210000 | J41: ='27'!K33 -> 9918390 | ... AL41: ='27'!AM33 -> 170745
A42: 28 | B42: Mureş | C42: ='28'!D33 -> 120135364 | D42: ='28'!E33 -> 56367934 | E42: ='28'!F33 -> 20388574 | F42: ='28'!G33 -> 9278431 | G42: ='28'!H33 -> 0 | H42: ='28'!I33 -> 39719760 | I42: ='28'!J33 -> 1499531 | J42: ='28'!K33 -> 11134050 | ... AL42: ='28'!AM33 -> 3373889
A43: 29 | B43: Neamţ | C43: ='29'!D33 -> 76716005 | D43: ='29'!E33 -> 23984475 | E43: ='29'!F33 -> 9665545 | F43: ='29'!G33 -> 2081138 | G43: ='29'!H33 -> 0 | H43: ='29'!I33 -> 34982773 | I43: ='29'!J33 -> 1950000 | J43: ='29'!K33 -> 6289650 | ... AL43: ='29'!AM33 -> 108330
A44: 30 | B44: Olt | C44: ='30'!D33 -> 156695234 | D44: ='30'!E33 -> 39964632 | E44: ='30'!F33 -> 14869856 | F44: ='30'!G33 -> 4264615 | G44: ='30'!H33 -> 0 | H44: ='30'!I33 -> 59082408 | I44: ='30'!J33 -> 7899720 | J44: ='30'!K33 -> 14596410 | ... AL44: ='30'!AM33 -> 3834217
A45: 31 | B45: Prahova | C45: ='31'!D33 -> 291621920 | D45: ='31'!E33 -> 153824192 | E45: ='31'!F33 -> 50231824 | F45: ='31'!G33 -> 15189991 | G45: ='31'!H33 -> 0 | H45: ='31'!I33 -> 85306841 | I45: ='31'!J33 -> 2446699 | J45: ='31'!K33 -> 12486000 | ... AL45: ='31'!AM33 -> 14104471
A46: 32 | B46: Satu Mare | C46: ='32'!D33 -> 79699811 | D46: ='32'!E33 -> 29192691 | E46: ='32'!F33 -> 11088831 | F46: ='32'!G33 -> 4250743 | G46: ='32'!H33 -> 0 | H46: ='32'!I33 -> 30525404 | I46: ='32'!J33 -> 0 | J46: ='32'!K33 -> 7220240 | ... AL46: ='32'!AM33 -> 947408
A47: 33 | B47: Sălaj | C47: ='33'!D33 -> 82093664 | D47: ='33'!E33 -> 23822970 | E47: ='33'!F33 -> 12246126 | F47: ='33'!G33 -> 635110 | G47: ='33'!H33 -> 0 | H47: ='33'!I33 -> 35867525 | I47: ='33'!J33 -> 821192 | J47: ='33'!K33 -> 2574180 | ... AL47: ='33'!AM33 -> 20303044
A48: 34 | B48: Sibiu | C48: ='34'!D33 -> 146909373 | D48: ='34'!E33 -> 86001544 | E48: ='34'!F33 -> 25001161 | F48: ='34'!G33 -> 19029120 | G48: ='34'!H33 -> 0 | H48: ='34'!I33 -> 45316128 | I48: ='34'!J33 -> 0 | J48: ='34'!K33 -> 9649810 | ... AL48: ='34'!AM33 -> 1408371
A49: 35 | B49: Suceava | C49: ='35'!D33 -> 213219298 | D49: ='35'!E33 -> 56022935 | E49: ='35'!F33 -> 15267581 | F49: ='35'!G33 -> 11004718 | G49: ='35'!H33 -> 0 | H49: ='35'!I33 -> 74921653 | I49: ='35'!J33 -> 0 | J49: ='35'!K33 -> 42781359 | ... AL49: ='35'!AM33 -> 4623464
A50: 36 | B50: Teleorman | C50: ='36'!D33 -> 43184305 | D50: ='36'!E33 -> 21123405 | E50: ='36'!F33 -> 10513592 | F50: ='36'!G33 -> 676569 | G50: ='36'!H33 -> 0 | H50: ='36'!I33 -> 17967057 | I50: ='36'!J33 -> 0 | J50: ='36'!K33 -> 1532200 | ... AL50: ='36'!AM33 -> 1266688
A51: 37 | B51: Timiş | C51: ='37'!D33 -> 158438852 | D51: ='37'!E33 -> 91273925 | E51: ='37'!F33 -> 37662772 | F51: ='37'!G33 -> 16180925 | G51: ='37'!H33 -> 0 | H51: ='37'!I33 -> 47354204 | I51: ='37'!J33 -> 1525539 | J51: ='37'!K33 -> 5960970 | ... AL51: ='37'!AM33 -> 408159
A52: 38 | B52: Tulcea | C52: ='38'!D33 -> 71953618 | D52: ='38'!E33 -> 24888917 | E52: ='38'!F33 -> 9284686 | F52: ='38'!G33 -> 1795867 | G52: ='38'!H33 -> 0 | H52: ='38'!I33 -> 21118559 | I52: ='38'!J33 -> 0 | J52: ='38'!K33 -> 7575000 | ... AL52: ='38'!AM33 -> 868137
A53: 39 | B53: Vaslui | C53: ='39'!D33 -> 35646422 | D53: ='39'!E33 -> 6364886 | E53: ='39'!F33 -> 2360738 | F53: ='39'!G33 -> 1310470 | G53: ='39'!H33 -> 0 | H53: ='39'!I33 -> 16531385 | I53: ='39'!J33 -> 221000 | J53: ='39'!K33 -> 7837000 | ... AL53: ='39'!AM33 -> 122536
A54: 40 | B54: Vâlcea | C54: ='40'!D33 -> 156679300 | D54: ='40'!E33 -> 39026812 | E54: ='40'!F33 -> 14713872 | F54: ='40'!G33 -> 4984885 | G54: ='40'!H33 -> 0 | H54: ='40'!I33 -> 44922286 | I54: ='40'!J33 -> 600960 | J54: ='40'!K33 -> 23983949 | ... AL54: ='40'!AM33 -> 16041531
A55: 41 | B55: Vrancea | C55: ='41'!D33 -> 70448530 | D55: ='41'!E33 -> 19691775 | E55: ='41'!F33 -> 6426952 | F55: ='41'!G33 -> 733385 | G55: ='41'!H33 -> 0 | H55: ='41'!I33 -> 19900915 | I55: ='41'!J33 -> 1500000 | J55: ='41'!K33 -> 5620050 | ... AL55: ='41'!AM33 -> 532324
A56: 42 | B56: Mun. Bucureşti | C56: ='42'!D33 -> 0 | D56: ='42'!E33 -> 0 | E56: ='42'!F33 -> 0 | F56: ='42'!G33 -> 0 | G56: ='42'!H33 -> 0 | H56: ='42'!I33 -> 0 | I56: ='42'!J33 -> 0 | J56: ='42'!K33 -> 0 | ... AL56: ='42'!AM33 -> 0
Q65: =Q60-Q61 -> 0

Sheet total MUNICIPII
AJ1: ANEXA nr. 24
B2: TOTAL MUNICIPII
B3: Perioada: 2015
H5: SITUAŢIA PRIVIND EXECUŢIA VENITURILOR ŞI CHELTUIELILOR BUGETELOR LOCALE PE UNITĂŢI ADMINISTRATIV-TERITORIALE
AL8: - lei -
A9: DENUMIREA UNITĂŢILOR ADMINISTRATIV-TERITORIALE (în ordine alfabetică) | C9: VENITURI | D9: VENITURI PROPRII | G9: Sume defalcate din TVA pentru finanţarea cheltuielilor descentralizate la nivelul judeţelor | H9: Sume defalcate din TVA pentru finanţarea cheltuielilor descentralizate la nivelul comunelor, oraşelor, municipiilor, sectoarelor şi municipiului Bucureşti | I9: Sume defalcate din TVA pentru drumuri | J9: Sume defalcate din TVA pentru echilibrarea bugetelor locale | K9: Sume defalcate din TVA pentru finanţarea Programului de dezvoltare a infrastructurii şi a bazelor sportive din spaţiul rural | L9: Subvenţii | M9: Sume primite de la Ue/alti donatori in contul platilor efectuate si prefinantari | N9: Alte venituri | O9: CHELTUIELI | P9: d i n c a r e: pe titluri de cheltuieli | AB9: d i n c a r e: pe parti si capitole de cheltuieli
C10: TOTALE | E10: din care: | O10: TOTALE
C11: (col.2+5+...+11) | D11: TOTAL | E11: Cote defalcate din impozitul pe venit | F11: Sume alocate din cotele defalcate din impozitul pe venit pentru echilibrarea bugetelor locale | O11: (col.14+...+24 - 25) (col.26+...+34) | P11: Cheltuieli de personal | Q11: Bunuri şi servicii | R11: Dobânzi | S11: Subvenţii | T11: Transferuri între unităţi ale administraţiei publice | U11: Alte transferuri | V11: Proiecte cu finanţare din fonduri externe nerambursabile | W11: Asistenţă socială | X11: Alte cheltuieli | Y11: Cheltuieli de capital | Z11: Operatiuni financiare | AA11: Plăţi efectuate în anii precedenţi şi recuperate în anul curent | AB11: Servicii publice generale | AC11: Apărare, ordine publică şi siguranţă naţională | AD11: Învăţământ | AE11: Sănătate | AF11: Cultură, recreere şi religie | AG11: Asigurări şi asistenţă socială | AH11: Servicii şi dezvoltare publică, locuinţe | AI11: Protectia mediului | AJ11: Combustibili şi energie | AK11: Transporturi | AL11: Alte cheltuieli
C12: 00.01.02 | D12: 48.02 | E12: 04.02.01 | F12: 04.02.04 | G12: 11.02.01 | H12: 11.02.02 | I12: 11.02.05 | J12: 11.02.06 | K12: 11.02.07 | L12: 42.02 | M12: 45.02 | O12: 50.02 | P12: 10 | Q12: 20 | R12: 30 | S12: 40 | T12: 51 | U12: 55 | V12: 56 | W12: 57 | X12: 59 | Y12: 70 | Z12: 79 | AA12: 84 | AB12: 50.02 | AC12: 59.02 | AD12: 65.02 | AE12: 66.02 | AF12: 67.02 | AG12: 68.02 | AH12: 70.02 | AI12: 74.02 | AJ12: 81.02 | AK12: 84.02
A13: A | C13: 1 | D13: 2 | E13: 3 | F13: 4 | G13: 5 | H13: 6 | I13: 7 | J13: 8 | K13: 9 | L13: 10 | M13: 11 | N13: 12 | O13: 13 | P13: 14 | Q13: 15 | R13: 16 | S13: 17 | T13: 18 | U13: 19 | V13: 20 | W13: 21 | X13: 22 | Y13: 23 | Z13: 24 | AA13: 25 | AB13: 26 | AC13: 27 | AD13: 28 | AE13: 29 | AF13: 30 | AG13: 31 | AH13: 32 | AI13: 33 | AJ13: 34 | AK13: 35 | AL13: 36
A14: TOTAL | C14: =SUM(C15:C56) -> 25593170287 | D14: =SUM(D15:D56) -> 15518984563 | E14: =SUM(E15:E56) -> 9325872018 | F14: =SUM(F15:F56) -> 737974057 | G14: =SUM(G15:G56) -> 0 | H14: =SUM(H15:H56) -> 6978491508 | I14: =SUM(I15:I56) -> 6783037 | J14: =SUM(J15:J56) -> 353657641 | ... AL14: =SUM(AL15:AL56) -> 179220625
A15: 1 | B15: Alba | C15: ='1'!D16 -> 310795387 | D15: ='1'!E16 -> 170483957 | E15: ='1'!F16 -> 94193865 | F15: ='1'!G16 -> 3780591 | G15: ='1'!H16 -> 0 | H15: ='1'!I16 -> 111060204 | I15: ='1'!J16 -> 0 | J15: ='1'!K16 -> 9923000 | ... AL15: ='1'!AM16 -> 351868
A16: 2 | B16: Arad | C16: ='2'!D16 -> 398449936 | D16: ='2'!E16 -> 279585701 | E16: ='2'!F16 -> 142965654 | F16: ='2'!G16 -> 3458091 | G16: ='2'!H16 -> 0 | H16: ='2'!I16 -> 108933111 | I16: ='2'!J16 -> 0 | J16: ='2'!K16 -> 1201000 | ... AL16: ='2'!AM16 -> 37389
A17: 3 | B17: Argeş | C17: ='3'!D16 -> 612535493 | D17: ='3'!E16 -> 270776642 | E17: ='3'!F16 -> 157481340 | F17: ='3'!G16 -> 5318899 | G17: ='3'!H16 -> 0 | H17: ='3'!I16 -> 253843165 | I17: ='3'!J16 -> 200000 | J17: ='3'!K16 -> 4231310 | ... AL17: ='3'!AM16 -> 551667
A18: 4 | B18: Bacău | C18: ='4'!D16 -> 521222347 | D18: ='4'!E16 -> 237043885 | E18: ='4'!F16 -> 120145205 | F18: ='4'!G16 -> 1267181 | G18: ='4'!H16 -> 0 | H18: ='4'!I16 -> 190997547 | I18: ='4'!J16 -> 0 | J18: ='4'!K16 -> 3506000 | ... AL18: ='4'!AM16 -> 97266
A19: 5 | B19: Bihor | C19: ='5'!D16 -> 921207655 | D19: ='5'!E16 -> 333555105 | E19: ='5'!F16 -> 162191325 | F19: ='5'!G16 -> 13331852 | G19: ='5'!H16 -> 0 | H19: ='5'!I16 -> 208189288 | I19: ='5'!J16 -> 300000 | J19: ='5'!K16 -> 11969700 | ... AL19: ='5'!AM16 -> 27810716
A20: 6 | B20: Bistriţa - Năsăud | C20: ='6'!D16 -> 207607786 | D20: ='6'!E16 -> 101532670 | E20: ='6'!F16 -> 61054080 | F20: ='6'!G16 -> 302139 | G20: ='6'!H16 -> 0 | H20: ='6'!I16 -> 73872528 | I20: ='6'!J16 -> 0 | J20: ='6'!K16 -> 981000 | ... AL20: ='6'!AM16 -> 149723
A21: 7 | B21: Botoşani | C21: ='7'!D16 -> 259532609 | D21: ='7'!E16 -> 109001814 | E21: ='7'!F16 -> 55825948 | F21: ='7'!G16 -> 1237054 | G21: ='7'!H16 -> 0 | H21: ='7'!I16 -> 117218519 | I21: ='7'!J16 -> 295334 | J21: ='7'!K16 -> 4454360 | ... AL21: ='7'!AM16 -> 0
A22: 8 | B22: Braşov | C22: ='8'!D16 -> 804198804 | D22: ='8'!E16 -> 507682032 | E22: ='8'!F16 -> 240073442 | F22: ='8'!G16 -> 33772358 | G22: ='8'!H16 -> 0 | H22: ='8'!I16 -> 205032469 | I22: ='8'!J16 -> 0 | J22: ='8'!K16 -> 11063980 | ... AL22: ='8'!AM16 -> 43367951
A23: 9 | B23: Brăila | C23: ='9'!D16 -> 342500426 | D23: ='9'!E16 -> 167727840 | E23: ='9'!F16 -> 81129076 | F23: ='9'!G16 -> 1986073 | G23: ='9'!H16 -> 0 | H23: ='9'!I16 -> 134196073 | I23: ='9'!J16 -> 0 | J23: ='9'!K16 -> 5522000 | ... AL23: ='9'!AM16 -> 1503553
A24: 10 | B24: Buzău | C24: ='10'!D16 -> 334272624 | D24: ='10'!E16 -> 167294051 | E24: ='10'!F16 -> 98335447 | F24: ='10'!G16 -> 2361730 | G24: ='10'!H16 -> 0 | H24: ='10'!I16 -> 135932305 | I24: ='10'!J16 -> 0 | J24: ='10'!K16 -> 5909990 | ... AL24: ='10'!AM16 -> 3252830
A25: 11 | B25: Caraş - Severin | C25: ='11'!D16 -> 207117146 | D25: ='11'!E16 -> 100285105 | E25: ='11'!F16 -> 47906953 | F25: ='11'!G16 -> 2000263 | G25: ='11'!H16 -> 0 | H25: ='11'!I16 -> 84567818 | I25: ='11'!J16 -> 150000 | J25: ='11'!K16 -> 8025130 | ... AL25: ='11'!AM16 -> 0
A26: 12 | B26: Călăraşi | C26: ='12'!D16 -> 191037942 | D26: ='12'!E16 -> 92350347 | E26: ='12'!F16 -> 45443829 | F26: ='12'!G16 -> 1746346 | G26: ='12'!H16 -> 0 | H26: ='12'!I16 -> 83369548 | I26: ='12'!J16 -> 0 | J26: ='12'!K16 -> 5674000 | ... AL26: ='12'!AM16 -> 901728
A27: 13 | B27: Cluj | C27: ='13'!D16 -> 1112590739 | D27: ='13'!E16 -> 732801812 | E27: ='13'!F16 -> 415054042 | F27: ='13'!G16 -> 41363304 | G27: ='13'!H16 -> 0 | H27: ='13'!I16 -> 290938068 | I27: ='13'!J16 -> 0 | J27: ='13'!K16 -> 16811000 | ... AL27: ='13'!AM16 -> 896024
A28: 14 | B28: Constanţa | C28: ='14'!D16 -> 927885414 | D28: ='14'!E16 -> 662671260 | E28: ='14'!F16 -> 356770507 | F28: ='14'!G16 -> 28856357 | G28: ='14'!H16 -> 0 | H28: ='14'!I16 -> 222334147 | I28: ='14'!J16 -> 500000 | J28: ='14'!K16 -> 6336429 | ... AL28: ='14'!AM16 -> 1133864
A29: 15 | B29: Covasna | C29: ='15'!D16 -> 231700581 | D29: ='15'!E16 -> 89228682 | E29: ='15'!F16 -> 49817832 | F29: ='15'!G16 -> 661443 | G29: ='15'!H16 -> 0 | H29: ='15'!I16 -> 78941183 | I29: ='15'!J16 -> 0 | J29: ='15'!K16 -> 3697140 | ... AL29: ='15'!AM16 -> 3171857
A30: 16 | B30: Dâmboviţa | C30: ='16'!D16 -> 302640826 | D30: ='16'!E16 -> 127559970 | E30: ='16'!F16 -> 64512914 | F30: ='16'!G16 -> 3689068 | G30: ='16'!H16 -> 0 | H30: ='16'!I16 -> 99115134 | I30: ='16'!J16 -> 0 | J30: ='16'!K16 -> 7343750 | ... AL30: ='16'!AM16 -> 0
A31: 17 | B31: Dolj | C31: ='17'!D16 -> 725306057 | D31: ='17'!E16 -> 354979798 | E31: ='17'!F16 -> 190781593 | F31: ='17'!G16 -> 12502609 | G31: ='17'!H16 -> 0 | H31: ='17'!I16 -> 231798808 | I31: ='17'!J16 -> 89000 | J31: ='17'!K16 -> 12352000 | ... AL31: ='17'!AM16 -> 5217677
A32: 18 | B32: Galaţi | C32: ='18'!D16 -> 572779667 | D32: ='18'!E16 -> 324962314 | E32: ='18'!F16 -> 164294558 | F32: ='18'!G16 -> 1037062 | G32: ='18'!H16 -> 0 | H32: ='18'!I16 -> 218333372 | I32: ='18'!J16 -> 145500 | J32: ='18'!K16 -> 4777680 | ... AL32: ='18'!AM16 -> 65630
A33: 19 | B33: Giurgiu | C33: ='19'!D16 -> 127627188 | D33: ='19'!E16 -> 64173783 | E33: ='19'!F16 -> 31557499 | F33: ='19'!G16 -> 428591 | G33: ='19'!H16 -> 0 | H33: ='19'!I16 -> 44349839 | I33: ='19'!J16 -> 0 | J33: ='19'!K16 -> 3152750 | ... AL33: ='19'!AM16 -> 0
A34: 20 | B34: Gorj | C34: ='20'!D16 -> 250316186 | D34: ='20'!E16 -> 118133189 | E34: ='20'!F16 -> 63888176 | F34: ='20'!G16 -> 2079526 | G34: ='20'!H16 -> 0 | H34: ='20'!I16 -> 112201766 | I34: ='20'!J16 -> 174000 | J34: ='20'!K16 -> 7697654 | ... AL34: ='20'!AM16 -> 0
A35: 21 | B35: Harghita | C35: ='21'!D16 -> 301129366 | D35: ='21'!E16 -> 122062539 | E35: ='21'!F16 -> 65924740 | F35: ='21'!G16 -> 4535700 | G35: ='21'!H16 -> 0 | H35: ='21'!I16 -> 124399359 | I35: ='21'!J16 -> 0 | J35: ='21'!K16 -> 15949220 | ... AL35: ='21'!AM16 -> 1865257
A36: 22 | B36: Hunedoara | C36: ='22'!D16 -> 572948912 | D36: ='22'!E16 -> 229024382 | E36: ='22'!F16 -> 119428177 | F36: ='22'!G16 -> 13289348 | G36: ='22'!H16 -> 0 | H36: ='22'!I16 -> 207394356 | I36: ='22'!J16 -> 1871903 | J36: ='22'!K16 -> 35013270 | ... AL36: ='22'!AM16 -> 13679293
A37: 23 | B37: Ialomiţa | C37: ='23'!D16 -> 222074475 | D37: ='23'!E16 -> 110986945 | E37: ='23'!F16 -> 45537162 | F37: ='23'!G16 -> 2613579 | G37: ='23'!H16 -> 0 | H37: ='23'!I16 -> 81552157 | I37: ='23'!J16 -> 120000 | J37: ='23'!K16 -> 12854980 | ... AL37: ='23'!AM16 -> 1230463
A38: 24 | B38: Iaşi | C38: ='24'!D16 -> 892423377 | D38: ='24'!E16 -> 387213219 | E38: ='24'!F16 -> 221271223 | F38: ='24'!G16 -> 2872072 | G38: ='24'!H16 -> 0 | H38: ='24'!I16 -> 258213486 | I38: ='24'!J16 -> 0 | J38: ='24'!K16 -> 8557150 | ... AL38: ='24'!AM16 -> 26678310
A39: 25 | B39: Ilfov | C39: ='25'!D16 -> 0 | D39: ='25'!E16 -> 0 | E39: ='25'!F16 -> 0 | F39: ='25'!G16 -> 0 | G39: ='25'!H16 -> 0 | H39: ='25'!I16 -> 0 | I39: ='25'!J16 -> 0 | J39: ='25'!K16 -> 0 | ... AL39: ='25'!AM16 -> 0
A40: 26 | B40: Maramureş | C40: ='26'!D16 -> 392424444 | D40: ='26'!E16 -> 177880941 | E40: ='26'!F16 -> 95605292 | F40: ='26'!G16 -> 244960 | G40: ='26'!H16 -> 0 | H40: ='26'!I16 -> 164187808 | I40: ='26'!J16 -> 0 | J40: ='26'!K16 -> 1780180 | ... AL40: ='26'!AM16 -> 1033689
A41: 27 | B41: Mehedinţi | C41: ='27'!D16 -> 237005366 | D41: ='27'!E16 -> 94347069 | E41: ='27'!F16 -> 45828682 | F41: ='27'!G16 -> 1954308 | G41: ='27'!H16 -> 0 | H41: ='27'!I16 -> 97897058 | I41: ='27'!J16 -> 0 | J41: ='27'!K16 -> 34874860 | ... AL41: ='27'!AM16 -> 15901
A42: 28 | B42: Mureş | C42: ='28'!D16 -> 549948688 | D42: ='28'!E16 -> 292226497 | E42: ='28'!F16 -> 157707435 | F42: ='28'!G16 -> 5161914 | G42: ='28'!H16 -> 0 | H42: ='28'!I16 -> 181167111 | I42: ='28'!J16 -> 266000 | J42: ='28'!K16 -> 5397410 | ... AL42: ='28'!AM16 -> 4797396
A43: 29 | B43: Neamţ | C43: ='29'!D16 -> 296801196 | D43: ='29'!E16 -> 140820418 | E43: ='29'!F16 -> 72580453 | F43: ='29'!G16 -> 1511366 | G43: ='29'!H16 -> 0 | H43: ='29'!I16 -> 142928176 | I43: ='29'!J16 -> 650000 | J43: ='29'!K16 -> 3403410 | ... AL43: ='29'!AM16 -> 934844
A44: 30 | B44: Olt | C44: ='30'!D16 -> 265429430 | D44: ='30'!E16 -> 140212338 | E44: ='30'!F16 -> 77926213 | F44: ='30'!G16 -> 1633257 | G44: ='30'!H16 -> 0 | H44: ='30'!I16 -> 114727151 | I44: ='30'!J16 -> 937300 | J44: ='30'!K16 -> 775900 | ... AL44: ='30'!AM16 -> 506892
A45: 31 | B45: Prahova | C45: ='31'!D16 -> 722927731 | D45: ='31'!E16 -> 347770517 | E45: ='31'!F16 -> 201663025 | F45: ='31'!G16 -> 8743746 | G45: ='31'!H16 -> 0 | H45: ='31'!I16 -> 185746829 | I45: ='31'!J16 -> 0 | J45: ='31'!K16 -> 1416000 | ... AL45: ='31'!AM16 -> 247049
A46: 32 | B46: Satu Mare | C46: ='32'!D16 -> 323236899 | D46: ='32'!E16 -> 153044707 | E46: ='32'!F16 -> 87473814 | F46: ='32'!G16 -> 0 | G46: ='32'!H16 -> 0 | H46: ='32'!I16 -> 124835534 | I46: ='32'!J16 -> 0 | J46: ='32'!K16 -> 3516130 | ... AL46: ='32'!AM16 -> 53387
A47: 33 | B47: Sălaj | C47: ='33'!D16 -> 147320631 | D47: ='33'!E16 -> 73512711 | E47: ='33'!F16 -> 38996153 | F47: ='33'!G16 -> 83753 | G47: ='33'!H16 -> 0 | H47: ='33'!I16 -> 65336853 | I47: ='33'!J16 -> 482000 | J47: ='33'!K16 -> 615990 | ... AL47: ='33'!AM16 -> 741496
A48: 34 | B48: Sibiu | C48: ='34'!D16 -> 519296697 | D48: ='34'!E16 -> 347407652 | E48: ='34'!F16 -> 199770043 | F48: ='34'!G16 -> 10891090 | G48: ='34'!H16 -> 0 | H48: ='34'!I16 -> 141205919 | I48: ='34'!J16 -> 0 | J48: ='34'!K16 -> 1319730 | ... AL48: ='34'!AM16 -> 191769
A49: 35 | B49: Suceava | C49: ='35'!D16 -> 476268313 | D49: ='35'!E16 -> 209300535 | E49: ='35'!F16 -> 96713172 | F49: ='35'!G16 -> 4755664 | G49: ='35'!H16 -> 0 | H49: ='35'!I16 -> 188593699 | I49: ='35'!J16 -> 0 | J49: ='35'!K16 -> 24011328 | ... AL49: ='35'!AM16 -> 1050140
A50: 36 | B50: Teleorman | C50: ='36'!D16 -> 227805106 | D50: ='36'!E16 -> 85396741 | E50: ='36'!F16 -> 47119670 | F50: ='36'!G16 -> 1495147 | G50: ='36'!H16 -> 0 | H50: ='36'!I16 -> 88959403 | I50: ='36'!J16 -> 0 | J50: ='36'!K16 -> 12935500 | ... AL50: ='36'!AM16 -> 711975
A51: 37 | B51: Timiş | C51: ='37'!D16 -> 922077020 | D51: ='37'!E16 -> 554521237 | E51: ='37'!F16 -> 329444541 | F51: ='37'!G16 -> 21461111 | G51: ='37'!H16 -> 0 | H51: ='37'!I16 -> 243120037 | I51: ='37'!J16 -> 0 | J51: ='37'!K16 -> 3987360 | ... AL51: ='37'!AM16 -> 27301
A52: 38 | B52: Tulcea | C52: ='38'!D16 -> 232729784 | D52: ='38'!E16 -> 114386216 | E52: ='38'!F16 -> 53123268 | F52: ='38'!G16 -> 152656 | G52: ='38'!H16 -> 0 | H52: ='38'!I16 -> 63671672 | I52: ='38'!J16 -> 0 | J52: ='38'!K16 -> 965310 | ... AL52: ='38'!AM16 -> 4213912
A53: 39 | B53: Vaslui | C53: ='39'!D16 -> 299090500 | D53: ='39'!E16 -> 124473254 | E53: ='39'!F16 -> 59673773 | F53: ='39'!G16 -> 1261434 | G53: ='39'!H16 -> 0 | H53: ='39'!I16 -> 136905429 | I53: ='39'!J16 -> 73000 | J53: ='39'!K16 -> 6441430 | ... AL53: ='39'!AM16 -> 19947961
A54: 40 | B54: Vâlcea | C54: ='40'!D16 -> 316040283 | D54: ='40'!E16 -> 147205822 | E54: ='40'!F16 -> 77744558 | F54: ='40'!G16 -> 1405261 | G54: ='40'!H16 -> 0 | H54: ='40'!I16 -> 128520781 | I54: ='40'!J16 -> 29000 | J54: ='40'!K16 -> 6200360 | ... AL54: ='40'!AM16 -> 266000
A55: 41 | B55: Vrancea | C55: ='41'!D16 -> 246507673 | D55: ='41'!E16 -> 111756911 | E55: ='41'!F16 -> 60413725 | F55: ='41'!G16 -> 1264351 | G55: ='41'!H16 -> 0 | H55: ='41'!I16 -> 94712052 | I55: ='41'!J16 -> 500000 | J55: ='41'!K16 -> 7463170 | ... AL55: ='41'!AM16 -> 8884221
A56: 42 | B56: Mun. Bucureşti | C56: ='42'!D16 -> 8068359583 | D56: ='42'!E16 -> 6543603955 | E56: ='42'!F16 -> 4528503614 | F56: ='42'!G16 -> 491462803 | G56: ='42'!H16 -> 0 | H56: ='42'!I16 -> 1139191746 | I56: ='42'!J16 -> 0 | J56: ='42'!K16 -> 31549080 | ... AL56: ='42'!AM16 -> 3633626
Q65: =Q60-Q61 -> 0

Sheet totalCJ
AJ1: ANEXA nr. 24
B2: TOTAL CONSILII JUDETENE
B3: Perioada: 2015
H5: SITUAŢIA PRIVIND EXECUŢIA VENITURILOR ŞI CHELTUIELILOR BUGETELOR LOCALE PE UNITĂŢI ADMINISTRATIV-TERITORIALE
AL8: - lei -
A9: DENUMIREA UNITĂŢILOR ADMINISTRATIV-TERITORIALE (în ordine alfabetică) | C9: VENITURI | D9: VENITURI PROPRII | G9: Sume defalcate din TVA pentru finanţarea cheltuielilor descentralizate la nivelul judeţelor | H9: Sume defalcate din TVA pentru finanţarea cheltuielilor descentralizate la nivelul comunelor, oraşelor, municipiilor, sectoarelor şi municipiului Bucureşti | I9: Sume defalcate din TVA pentru drumuri | J9: Sume defalcate din TVA pentru echilibrarea bugetelor locale | K9: Sume defalcate din TVA pentru finanţarea Programului de dezvoltare a infrastructurii şi a bazelor sportive din spaţiul rural | L9: Subvenţii | M9: Sume primite de la Ue/alti donatori in contul platilor efectuate si prefinantari | N9: Alte venituri | O9: CHELTUIELI | P9: d i n c a r e: pe titluri de cheltuieli | AB9: d i n c a r e: pe parti si capitole de cheltuieli
C10: TOTALE | E10: din care: | O10: TOTALE
C11: (col.2+5+...+11) | D11: TOTAL | E11: Cote defalcate din impozitul pe venit | F11: Sume alocate din cotele defalcate din impozitul pe venit pentru echilibrarea bugetelor locale | O11: (col.14+...+24 - 25) (col.26+...+34) | P11: Cheltuieli de personal | Q11: Bunuri şi servicii | R11: Dobânzi | S11: Subvenţii | T11: Transferuri între unităţi ale administraţiei publice | U11: Alte transferuri | V11: Proiecte cu finanţare din fonduri externe nerambursabile | W11: Asistenţă socială | X11: Alte cheltuieli | Y11: Cheltuieli de capital | Z11: Operatiuni financiare | AA11: Plăţi efectuate în anii precedenţi şi recuperate în anul curent | AB11: Servicii publice generale | AC11: Apărare, ordine publică şi siguranţă naţională | AD11: Învăţământ | AE11: Sănătate | AF11: Cultură, recreere şi religie | AG11: Asigurări şi asistenţă socială | AH11: Servicii şi dezvoltare publică, locuinţe | AI11: Protectia mediului | AJ11: Combustibili şi energie | AK11: Transporturi | AL11: Alte cheltuieli
C12: 00.01.02 | D12: 48.02 | E12: 04.02.01 | F12: 04.02.04 | G12: 11.02.01 | H12: 11.02.02 | I12: 11.02.05 | J12: 11.02.06 | K12: 11.02.07 | L12: 42.02 | M12: 45.02 | O12: 50.02 | P12: 10 | Q12: 20 | R12: 30 | S12: 40 | T12: 51 | U12: 55 | V12: 56 | W12: 57 | X12: 59 | Y12: 70 | Z12: 79 | AA12: 84 | AB12: 50.02 | AC12: 59.02 | AD12: 65.02 | AE12: 66.02 | AF12: 67.02 | AG12: 68.02 | AH12: 70.02 | AI12: 74.02 | AJ12: 81.02 | AK12: 84.02
A13: A | C13: 1 | D13: 2 | E13: 3 | F13: 4 | G13: 5 | H13: 6 | I13: 7 | J13: 8 | K13: 9 | L13: 10 | M13: 11 | N13: 12 | O13: 13 | P13: 14 | Q13: 15 | R13: 16 | S13: 17 | T13: 18 | U13: 19 | V13: 20 | W13: 21 | X13: 22 | Y13: 23 | Z13: 24 | AA13: 25 | AB13: 26 | AC13: 27 | AD13: 28 | AE13: 29 | AF13: 30 | AG13: 31 | AH13: 32 | AI13: 33 | AJ13: 34 | AK13: 35 | AL13: 36
A14: TOTAL | C14: =SUM(C15:C56) -> 12447921825 | D14: =SUM(D15:D56) -> 3282111066 | E14: =SUM(E15:E56) -> 1906421511 | F14: =SUM(F15:F56) -> 1085709984 | G14: =SUM(G15:G56) -> 2315038722 | H14: =SUM(H15:H56) -> 0 | I14: =SUM(I15:I56) -> 420732421 | J14: =SUM(J15:J56) -> 1372093786 | ... AL14: =SUM(AL15:AL56) -> 335148987
A15: 1 | B15: Alba | C15: ='1'!D15 -> 293981763 | D15: ='1'!E15 -> 65295798 | E15: ='1'!F15 -> 37656006 | F15: ='1'!G15 -> 24071000 | G15: ='1'!H15 -> 52542986 | H15: ='1'!I15 -> 0 | I15: ='1'!J15 -> 16865000 | J15: ='1'!K15 -> 28178130 | ... AL15: ='1'!AM15 -> 2043815
A16: 2 | B16: Arad | C16: ='2'!D15 -> 250238252 | D16: ='2'!E15 -> 93227866 | E16: ='2'!F15 -> 56745081 | F16: ='2'!G15 -> 24823911 | G16: ='2'!H15 -> 50529390 | H16: ='2'!I15 -> 0 | I16: ='2'!J15 -> 4769000 | J16: ='2'!K15 -> 16369000 | ... AL16: ='2'!AM15 -> 1178000
A17: 3 | B17: Argeş | C17: ='3'!D15 -> 339749699 | D17: ='3'!E15 -> 127803807 | E17: ='3'!F15 -> 80235147 | F17: ='3'!G15 -> 37286295 | G17: ='3'!H15 -> 71929898 | H17: ='3'!I15 -> 0 | I17: ='3'!J15 -> 2526000 | J17: ='3'!K15 -> 21464830 | ... AL17: ='3'!AM15 -> 8336613
A18: 4 | B18: Bacău | C18: ='4'!D15 -> 276155028 | D18: ='4'!E15 -> 76972388 | E18: ='4'!F15 -> 45026177 | F18: ='4'!G15 -> 28309000 | G18: ='4'!H15 -> 77844748 | H18: ='4'!I15 -> 0 | I18: ='4'!J15 -> 10559000 | J18: ='4'!K15 -> 22189000 | ... AL18: ='4'!AM15 -> 4149950
A19: 5 | B19: Bihor | C19: ='5'!D15 -> 419861699 | D19: ='5'!E15 -> 95423780 | E19: ='5'!F15 -> 60951890 | F19: ='5'!G15 -> 31166456 | G19: ='5'!H15 -> 86730000 | H19: ='5'!I15 -> 0 | I19: ='5'!J15 -> 12642000 | J19: ='5'!K15 -> 25511630 | ... AL19: ='5'!AM15 -> 12110140
A20: 6 | B20: Bistriţa - Năsăud | C20: ='6'!D15 -> 278609262 | D20: ='6'!E15 -> 51764407 | E20: ='6'!F15 -> 23865382 | F20: ='6'!G15 -> 20797771 | G20: ='6'!H15 -> 47609419 | H20: ='6'!I15 -> 0 | I20: ='6'!J15 -> 15478390 | J20: ='6'!K15 -> 42623000 | ... AL20: ='6'!AM15 -> 8880114
A21: 7 | B21: Botoşani | C21: ='7'!D15 -> 267497103 | D21: ='7'!E15 -> 39348570 | E21: ='7'!F15 -> 21282598 | F21: ='7'!G15 -> 14197822 | G21: ='7'!H15 -> 50674778 | H21: ='7'!I15 -> 0 | I21: ='7'!J15 -> 6350000 | J21: ='7'!K15 -> 55469000 | ... AL21: ='7'!AM15 -> 5995462
A22: 8 | B22: Braşov | C22: ='8'!D15 -> 277317025 | D22: ='8'!E15 -> 127245523 | E22: ='8'!F15 -> 85614643 | F22: ='8'!G15 -> 36849149 | G22: ='8'!H15 -> 60319094 | H22: ='8'!I15 -> 0 | I22: ='8'!J15 -> 14158200 | J22: ='8'!K15 -> 15109710 | ... AL22: ='8'!AM15 -> 4866318
A23: 9 | B23: Brăila | C23: ='9'!D15 -> 215665965 | D23: ='9'!E15 -> 61675736 | E23: ='9'!F15 -> 27722232 | F23: ='9'!G15 -> 25985456 | G23: ='9'!H15 -> 29212614 | H23: ='9'!I15 -> 0 | I23: ='9'!J15 -> 6450140 | J23: ='9'!K15 -> 27584000 | ... AL23: ='9'!AM15 -> 1645211
A24: 10 | B24: Buzău | C24: ='10'!D15 -> 287787409 | D24: ='10'!E15 -> 61989584 | E24: ='10'!F15 -> 35537482 | F24: ='10'!G15 -> 23934956 | G24: ='10'!H15 -> 55499368 | H24: ='10'!I15 -> 0 | I24: ='10'!J15 -> 6743000 | J24: ='10'!K15 -> 32907000 | ... AL24: ='10'!AM15 -> 1769029
A25: 11 | B25: Caraş - Severin | C25: ='11'!D15 -> 242667677 | D25: ='11'!E15 -> 41080582 | E25: ='11'!F15 -> 21509816 | F25: ='11'!G15 -> 18006000 | G25: ='11'!H15 -> 46062946 | H25: ='11'!I15 -> 0 | I25: ='11'!J15 -> 12153000 | J25: ='11'!K15 -> 49228000 | ... AL25: ='11'!AM15 -> 26432806
A26: 12 | B26: Călăraşi | C26: ='12'!D15 -> 234303877 | D26: ='12'!E15 -> 42023770 | E26: ='12'!F15 -> 21182829 | F26: ='12'!G15 -> 18829000 | G26: ='12'!H15 -> 32847347 | H26: ='12'!I15 -> 0 | I26: ='12'!J15 -> 12029630 | J26: ='12'!K15 -> 51555850 | ... AL26: ='12'!AM15 -> 6197936
A27: 13 | B27: Cluj | C27: ='13'!D15 -> 446465948 | D27: ='13'!E15 -> 203757651 | E27: ='13'!F15 -> 125740400 | F27: ='13'!G15 -> 55170000 | G27: ='13'!H15 -> 86810937 | H27: ='13'!I15 -> 0 | I27: ='13'!J15 -> 10712440 | J27: ='13'!K15 -> 19041000 | ... AL27: ='13'!AM15 -> 31498110
A28: 14 | B28: Constanţa | C28: ='14'!D15 -> 484924542 | D28: ='14'!E15 -> 175010394 | E28: ='14'!F15 -> 110010649 | F28: ='14'!G15 -> 54448550 | G28: ='14'!H15 -> 72941014 | H28: ='14'!I15 -> 0 | I28: ='14'!J15 -> 0 | J28: ='14'!K15 -> 8919000 | ... AL28: ='14'!AM15 -> 9078596
A29: 15 | B29: Covasna | C29: ='15'!D15 -> 209007509 | D29: ='15'!E15 -> 39948857 | E29: ='15'!F15 -> 18715097 | F29: ='15'!G15 -> 18383940 | G29: ='15'!H15 -> 27658722 | H29: ='15'!I15 -> 0 | I29: ='15'!J15 -> 8202000 | J29: ='15'!K15 -> 45302000 | ... AL29: ='15'!AM15 -> 2712543
A30: 16 | B30: Dâmboviţa | C30: ='16'!D15 -> 260221042 | D30: ='16'!E15 -> 67190896 | E30: ='16'!F15 -> 34865213 | F30: ='16'!G15 -> 24283004 | G30: ='16'!H15 -> 45049000 | H30: ='16'!I15 -> 0 | I30: ='16'!J15 -> 17509000 | J30: ='16'!K15 -> 27638000 | ... AL30: ='16'!AM15 -> 5878102
A31: 17 | B31: Dolj | C31: ='17'!D15 -> 310359978 | D31: ='17'!E15 -> 95931491 | E31: ='17'!F15 -> 63288363 | F31: ='17'!G15 -> 29080237 | G31: ='17'!H15 -> 63302589 | H31: ='17'!I15 -> 0 | I31: ='17'!J15 -> 10647000 | J31: ='17'!K15 -> 18410000 | ... AL31: ='17'!AM15 -> 1280150
A32: 18 | B32: Galaţi | C32: ='18'!D15 -> 215585654 | D32: ='18'!E15 -> 82907892 | E32: ='18'!F15 -> 50301482 | F32: ='18'!G15 -> 30568959 | G32: ='18'!H15 -> 55655852 | H32: ='18'!I15 -> 0 | I32: ='18'!J15 -> 8000000 | J32: ='18'!K15 -> 11590000 | ... AL32: ='18'!AM15 -> 2288610
A33: 19 | B33: Giurgiu | C33: ='19'!D15 -> 187691915 | D33: ='19'!E15 -> 39125064 | E33: ='19'!F15 -> 16817485 | F33: ='19'!G15 -> 17158816 | G33: ='19'!H15 -> 20792599 | H33: ='19'!I15 -> 0 | I33: ='19'!J15 -> 4885000 | J33: ='19'!K15 -> 53268070 | ... AL33: ='19'!AM15 -> 2951621
A34: 20 | B34: Gorj | C34: ='20'!D15 -> 228493947 | D34: ='20'!E15 -> 63197245 | E34: ='20'!F15 -> 34169628 | F34: ='20'!G15 -> 27168085 | G34: ='20'!H15 -> 37902121 | H34: ='20'!I15 -> 0 | I34: ='20'!J15 -> 10500000 | J34: ='20'!K15 -> 25596881 | ... AL34: ='20'!AM15 -> 1353327
A35: 21 | B35: Harghita | C35: ='21'!D15 -> 221607598 | D35: ='21'!E15 -> 49905371 | E35: ='21'!F15 -> 25617613 | F35: ='21'!G15 -> 20497996 | G35: ='21'!H15 -> 40464926 | H35: ='21'!I15 -> 0 | I35: ='21'!J15 -> 3729270 | J35: ='21'!K15 -> 40367000 | ... AL35: ='21'!AM15 -> 15934179
A36: 22 | B36: Hunedoara | C36: ='22'!D15 -> 450397735 | D36: ='22'!E15 -> 73776631 | E36: ='22'!F15 -> 43815767 | F36: ='22'!G15 -> 27739681 | G36: ='22'!H15 -> 43889128 | H36: ='22'!I15 -> 0 | I36: ='22'!J15 -> 9340000 | J36: ='22'!K15 -> 21943000 | ... AL36: ='22'!AM15 -> 6773544
A37: 23 | B37: Ialomiţa | C37: ='23'!D15 -> 152513420 | D37: ='23'!E15 -> 40893179 | E37: ='23'!F15 -> 18957478 | F37: ='23'!G15 -> 16977834 | G37: ='23'!H15 -> 23466215 | H37: ='23'!I15 -> 0 | I37: ='23'!J15 -> 3500000 | J37: ='23'!K15 -> 46876000 | ... AL37: ='23'!AM15 -> 1504102
A38: 24 | B38: Iaşi | C38: ='24'!D15 -> 517844713 | D38: ='24'!E15 -> 127490499 | E38: ='24'!F15 -> 85305031 | F38: ='24'!G15 -> 35468718 | G38: ='24'!H15 -> 129457686 | H38: ='24'!I15 -> 0 | I38: ='24'!J15 -> 17110000 | J38: ='24'!K15 -> 26387990 | ... AL38: ='24'!AM15 -> 26746508
A39: 25 | B39: Ilfov | C39: ='25'!D15 -> 251999857 | D39: ='25'!E15 -> 140143814 | E39: ='25'!F15 -> 98709292 | F39: ='25'!G15 -> 39097978 | G39: ='25'!H15 -> 29877076 | H39: ='25'!I15 -> 0 | I39: ='25'!J15 -> 2004000 | J39: ='25'!K15 -> 2924000 | ... AL39: ='25'!AM15 -> 2281257
A40: 26 | B40: Maramureş | C40: ='26'!D15 -> 380430343 | D40: ='26'!E15 -> 112545560 | E40: ='26'!F15 -> 37453389 | F40: ='26'!G15 -> 23117262 | G40: ='26'!H15 -> 62015277 | H40: ='26'!I15 -> 0 | I40: ='26'!J15 -> 19497000 | J40: ='26'!K15 -> 33465000 | ... AL40: ='26'!AM15 -> 8487757
A41: 27 | B41: Mehedinţi | C41: ='27'!D15 -> 233220335 | D41: ='27'!E15 -> 34207903 | E41: ='27'!F15 -> 17171843 | F41: ='27'!G15 -> 14565157 | G41: ='27'!H15 -> 33613360 | H41: ='27'!I15 -> 0 | I41: ='27'!J15 -> 819000 | J41: ='27'!K15 -> 54913120 | ... AL41: ='27'!AM15 -> 6672876
A42: 28 | B42: Mureş | C42: ='28'!D15 -> 283769317 | D42: ='28'!E15 -> 93522339 | E42: ='28'!F15 -> 59033793 | F42: ='28'!G15 -> 29298750 | G42: ='28'!H15 -> 74385508 | H42: ='28'!I15 -> 0 | I42: ='28'!J15 -> 7103000 | J42: ='28'!K15 -> 23730790 | ... AL42: ='28'!AM15 -> 4030074
A43: 29 | B43: Neamţ | C43: ='29'!D15 -> 280210367 | D43: ='29'!E15 -> 58803657 | E43: ='29'!F15 -> 31258527 | F43: ='29'!G15 -> 22739613 | G43: ='29'!H15 -> 73790105 | H43: ='29'!I15 -> 0 | I43: ='29'!J15 -> 4010000 | J43: ='29'!K15 -> 39446000 | ... AL43: ='29'!AM15 -> 2115607
A44: 30 | B44: Olt | C44: ='30'!D15 -> 245377074 | D44: ='30'!E15 -> 50920254 | E44: ='30'!F15 -> 30623560 | F44: ='30'!G15 -> 17733191 | G44: ='30'!H15 -> 45619257 | H44: ='30'!I15 -> 0 | I44: ='30'!J15 -> 7113000 | J44: ='30'!K15 -> 43411000 | ... AL44: ='30'!AM15 -> 2017281
A45: 31 | B45: Prahova | C45: ='31'!D15 -> 475498433 | D45: ='31'!E15 -> 137955917 | E45: ='31'!F15 -> 91136813 | F45: ='31'!G15 -> 40374539 | G45: ='31'!H15 -> 74744204 | H45: ='31'!I15 -> 0 | I45: ='31'!J15 -> 5616000 | J45: ='31'!K15 -> 27946840 | ... AL45: ='31'!AM15 -> 2188853
A46: 32 | B46: Satu Mare | C46: ='32'!D15 -> 253622635 | D46: ='32'!E15 -> 62924050 | E46: ='32'!F15 -> 33185016 | F46: ='32'!G15 -> 25748119 | G46: ='32'!H15 -> 42735491 | H46: ='32'!I15 -> 0 | I46: ='32'!J15 -> 19095000 | J46: ='32'!K15 -> 37948370 | ... AL46: ='32'!AM15 -> 2370431
A47: 33 | B47: Sălaj | C47: ='33'!D15 -> 246197297 | D47: ='33'!E15 -> 37932798 | E47: ='33'!F15 -> 18113812 | F47: ='33'!G15 -> 15807000 | G47: ='33'!H15 -> 38883994 | H47: ='33'!I15 -> 0 | I47: ='33'!J15 -> 7183350 | J47: ='33'!K15 -> 51633000 | ... AL47: ='33'!AM15 -> 4113985
A48: 34 | B48: Sibiu | C48: ='34'!D15 -> 312633576 | D48: ='34'!E15 -> 103018792 | E48: ='34'!F15 -> 67516633 | F48: ='34'!G15 -> 29664830 | G48: ='34'!H15 -> 67423000 | H48: ='34'!I15 -> 0 | I48: ='34'!J15 -> 17305000 | J48: ='34'!K15 -> 13365170 | ... AL48: ='34'!AM15 -> 539000
A49: 35 | B49: Suceava | C49: ='35'!D15 -> 406283099 | D49: ='35'!E15 -> 66734958 | E49: ='35'!F15 -> 40713858 | F49: ='35'!G15 -> 23422561 | G49: ='35'!H15 -> 111005308 | H49: ='35'!I15 -> 0 | I49: ='35'!J15 -> 21856000 | J49: ='35'!K15 -> 38514950 | ... AL49: ='35'!AM15 -> 5198110
A50: 36 | B50: Teleorman | C50: ='36'!D15 -> 242977682 | D50: ='36'!E15 -> 41068734 | E50: ='36'!F15 -> 22044942 | F50: ='36'!G15 -> 15900209 | G50: ='36'!H15 -> 32933971 | H50: ='36'!I15 -> 0 | I50: ='36'!J15 -> 19885000 | J50: ='36'!K15 -> 62703470 | ... AL50: ='36'!AM15 -> 72485293
A51: 37 | B51: Timiş | C51: ='37'!D15 -> 455672887 | D51: ='37'!E15 -> 182462195 | E51: ='37'!F15 -> 119798568 | F51: ='37'!G15 -> 51535603 | G51: ='37'!H15 -> 99777846 | H51: ='37'!I15 -> 0 | I51: ='37'!J15 -> 6657001 | J51: ='37'!K15 -> 20434000 | ... AL51: ='37'!AM15 -> 1090605
A52: 38 | B52: Tulcea | C52: ='38'!D15 -> 250363863 | D52: ='38'!E15 -> 81681629 | E52: ='38'!F15 -> 20996137 | F52: ='38'!G15 -> 20195000 | G52: ='38'!H15 -> 39229999 | H52: ='38'!I15 -> 0 | I52: ='38'!J15 -> 17389000 | J52: ='38'!K15 -> 46643925 | ... AL52: ='38'!AM15 -> 17721871
A53: 39 | B53: Vaslui | C53: ='39'!D15 -> 282192236 | D53: ='39'!E15 -> 40356621 | E53: ='39'!F15 -> 20838934 | F53: ='39'!G15 -> 17369745 | G53: ='39'!H15 -> 75151954 | H53: ='39'!I15 -> 0 | I53: ='39'!J15 -> 16235000 | J53: ='39'!K15 -> 54966260 | ... AL53: ='39'!AM15 -> 1356592
A54: 40 | B54: Vâlcea | C54: ='40'!D15 -> 517632719 | D54: ='40'!E15 -> 52111464 | E54: ='40'!F15 -> 30243427 | F54: ='40'!G15 -> 19349667 | G54: ='40'!H15 -> 57322627 | H54: ='40'!I15 -> 0 | I54: ='40'!J15 -> 14094000 | J54: ='40'!K15 -> 38106800 | ... AL54: ='40'!AM15 -> 8861036
A55: 41 | B55: Vrancea | C55: ='41'!D15 -> 260891345 | D55: ='41'!E15 -> 42733400 | E55: ='41'!F15 -> 22649478 | F55: ='41'!G15 -> 18588124 | G55: ='41'!H15 -> 47336368 | H55: ='41'!I15 -> 0 | I55: ='41'!J15 -> 10013000 | J55: ='41'!K15 -> 48413000 | ... AL55: ='41'!AM15 -> 2013573
A56: 42 | B56: Mun. Bucureşti | C56: ='42'!D15 -> 0 | D56: ='42'!E15 -> 0 | E56: ='42'!F15 -> 0 | F56: ='42'!G15 -> 0 | G56: ='42'!H15 -> 0 | H56: ='42'!I15 -> 0 | I56: ='42'!J15 -> 0 | J56: ='42'!K15 -> 0 | ... AL56: ='42'!AM15 -> 0

Sheet 1
AK1: ANEXA nr. 24
B2: Judeţul ALBA
B3: Perioada: 31.12.2015
L5: SITUAŢIA PRIVIND EXECUŢIA VENITURILOR ŞI CHELTUIELILOR BUGETELOR LOCALE PE UNITĂŢI ADMINISTRATIV-TERITORIALE
AM7: - lei -
A9: DENUMIREA UNITĂŢILOR ADMINISTRATIV-TERITORIALE (în ordine alfabetică) | D9: VENITURI | E9: VENITURI PROPRII | H9: Sume defalcate din TVA pentru finanţarea cheltuielilor descentralizate la nivelul judeţelor | I9: Sume defalcate din TVA pentru finanţarea cheltuielilor descentralizate la nivelul comunelor, oraşelor, municipiilor, sectoarelor şi municipiului Bucureşti | J9: Sume defalcate din TVA pentru drumuri | K9: Sume defalcate din TVA pentru echilibrarea bugetelor locale | L9: Sume defalcate din TVA pentru finanţarea Programului de dezvoltare a infrastructurii şi a bazelor sportive din spaţiul rural | M9: Subvenţii | N9: Sume primite de la UE/alti donatori in contul platilor efectuate si prefinantari | O9: Alte venituri | P9: CHELTUIELI | Q9: d i n c a r e: pe titluri de cheltuieli | AC9: d i n c a r e: pe parti si capitole de cheltuieli
D10: TOTALE | F10: din care: | P10: TOTALE
D11: (col.2+5+...+11) | E11: TOTAL | F11: Cote defalcate din impozitul pe venit | G11: Sume alocate din cotele defalcate din impozitul pe venit pentru echilibrarea bugetelor locale | P11: (col.14+...+24 - 25) (col.26+...+34) | Q11: Cheltuieli de personal | R11: Bunuri şi servicii | S11: Dobânzi | T11: Subvenţii | U11: Transferuri între unităţi ale administraţiei publice | V11: Alte transferuri | W11: Proiecte cu finanţare din fonduri externe nerambursabile | X11: Asistenţă socială | Y11: Alte cheltuieli | Z11: Cheltuieli de capital | AA11: Operatiuni financiare | AB11: Plăţi efectuate în anii precedenţi şi recuperate în anul curent | AC11: Servicii publice generale | AD11: Apărare, ordine publică şi siguranţă naţională | AE11: Învăţământ | AF11: Sănătate | AG11: Cultură, recreere şi religie | AH11: Asigurări şi asistenţă socială | AI11: Servicii şi dezvoltare publică, locuinţe, mediu şi ape | AJ11: Protectia mediului | AK11: Combustibili şi energie | AL11: Transporturi | AM11: Alte cheltuieli
D12: 00.01.02 | E12: 48.02 | F12: 04.02.01 | G12: 04.02.04 | H12: 11.02.01 | I12: 11.02.02 | J12: 11.02.05 | K12: 11.02.06 | L12: 11.02.07 | M12: 42.02 | N12: 45.02+48.02 | P12: 50.02 | Q12: 10 | R12: 20 | S12: 30 | T12: 40 | U12: 51 | V12: 55 | W12: 56 | X12: 57 | Y12: 59 | Z12: 70 | AA12: 79 | AB12: 84 | AC12: 50.02 | AD12: 59.02 | AE12: 65.02 | AF12: 66.02 | AG12: 67.02 | AH12: 68.02 | AI12: 69.02 | AJ12: 74.02 | AK12: 81.02 | AL12: 84.02
A13: A | D13: 1 | E13: 2 | F13: 3 | G13: 4 | H13: 5 | I13: 6 | J13: 7 | K13: 8 | L13: 9 | M13: 10 | N13: 11 | O13: 12 | P13: 13 | Q13: 14 | R13: 15 | S13: 16 | T13: 17 | U13: 18 | V13: 19 | W13: 20 | X13: 21 | Y13: 22 | Z13: 23 | AA13: 24 | AB13: 25 | AC13: 26 | AD13: 27 | AE13: 28 | AF13: 29 | AG13: 30 | AH13: 31 | AI13: 32 | AJ13: 33 | AK13: 34 | AL13: 35 | AM13: 36
A14: TOTAL JUDEŢ (A+B+C+D) | D14: =E14+SUM(H14:O14) -> 1102402336 | E14: =SUM(E15,E16,E33,E54) -> 375405646 | F14: =SUM(F15,F16,F33,F54) -> 177401610 | G14: =SUM(G15,G16,G33,G54) -> 61923211 | H14: =SUM(H15,H16,H33,H54) -> 52542986 | I14: =SUM(I15,I16,I33,I54) -> 243100169 | J14: =SUM(J15,J16,J33,J54) -> 19539351 | K14: =SUM(K15,K16,K33,K54) -> 107805550 | L14: =SUM(L15,L16,L33,L54) -> 0 | ... O14: =SUM(O15,O16,O33,O54) -> 9112515 | P14: =P15+P16+P33+P54 -> 1047200019 | Q14: =Q15+Q16+Q33+Q54 -> 309025028 | R14: =R15+R16+R33+R54 -> 175842708 | S14: =S15+S16+S33+S54 -> 7190413 | T14: =T15+T16+T33+T54 -> 478550 | U14: =U15+U16+U33+U54 -> 52822886 | V14: =V15+V16+V33+V54 -> 19399987 | W14: =W15+W16+W33+W54 -> 198852118 | ... AM14: =AM15+AM16+AM33+AM54 -> 8731532
A15: A. Consiliul judeţean | D15: =E15+SUM(H15:O15) -> 293981763 | E15: 65295798 | F15: 37656006 | G15: 24071000 | H15: 52542986 | I15: 0 | J15: 16865000 | K15: 28178130 | L15: 0 | M15: 84237926 | N15: 46833292 | O15: 28631 | P15: =IF(SUM(Q15:AB15)=SUM(AC15:AM15),SUM(Q15:AB15)," EROARE ART/CAP") -> 254395765 | Q15: 27105866 | R15: 35005044 | S15: 1456971 | T15: 0 | U15: 18746387 | V15: 3032721 | W15: 83128249 | X15: 65429893 | Y15: 8540468 | Z15: 7682874 | AA15: 4310606 | AB15: -43314 | AC15: 26112648 | AD15: 1280982 | AE15: 15991768 | AF15: 4501622 | AG15: 20594244 | AH15: 94474149 | AI15: 261077 | AJ15: 72594626 | AK15: 0 | AL15: 16540834 | AM15: 2043815
A16: B. Total municipii | D16: =E16+SUM(H16:O16) -> 310795387 | E16: =SUM(E18:E32) -> 170483957 | F16: =SUM(F18:F32) -> 94193865 | G16: =SUM(G18:G32) -> 3780591 | H16: =SUM(H18:H32) -> 0 | I16: =SUM(I18:I32) -> 111060204 | J16: =SUM(J18:J32) -> 0 | K16: =SUM(K18:K32) -> 9923000 | L16: =SUM(L18:L32) -> 0 | ... AM16: =SUM(AM18:AM32) -> 351868
A17: Nr crt | B17: Cod SIRUTA
A18: 1 | B18: 1017 | C18: ALBA IULIA | D18: =E18+SUM(H18:O18) -> 157004641 | E18: 95945247 | F18: 57473255 | G18: 3110 | H18: 0 | I18: 52949607 | J18: 0 | K18: 581000 | L18: 0 | M18: 4041670 | N18: 3169626 | O18: 317491 | P18: =IF(SUM(Q18:AB18)=SUM(AC18:AM18),SUM(Q18:AB18)," EROARE ART/CAP") -> 161532040 | Q18: 62487387 | R18: 41114757 | S18: 3671460 | T18: 0 | U18: 1059141 | V18: 14529948 | W18: 6463725 | X18: 3180753 | Y18: 481958 | Z18: 20192229 | AA18: 8430896 | AB18: -80214 | AC18: 15300601 | AD18: 4650814 | AE18: 51424199 | AF18: 1267900 | AG18: 9466358 | AH18: 15023708 | AI18: 36280939 | AJ18: 606522 | AK18: 0 | AL18: 27159131 | AM18: 351868
A19: 2 | B19: 1213 | C19: AIUD | D19: =E19+SUM(H19:O19) -> 49151297 | E19: 17866029 | F19: 8329960 | G19: 1988150 | H19: 0 | I19: 18689693 | J19: 0 | K19: 5163000 | L19: 0 | M19: 2597818 | N19: 3694721 | O19: 1140036 | P19: =IF(SUM(Q19:AB19)=SUM(AC19:AM19),SUM(Q19:AB19)," EROARE ART/CAP") -> 45566355 | Q19: 21259627 | R19: 4677402 | S19: 247722 | T19: 478550 | U19: 7794248 | V19: 0 | W19: 7661434 | X19: 842357 | Y19: 380951 | Z19: 1190967 | AA19: 1047072 | AB19: -13975 | AC19: 3419475 | AD19: 523671 | AE19: 27186940 | AF19: 910069 | AG19: 1657572 | AH19: 2953233 | AI19: 3210940 | AJ19: 662330 | AK19: 0 | AL19: 5042125
A20: 3 | B20: 1348 | C20: BLAJ | D20: =E20+SUM(H20:O20) -> 47470528 | E20: 23205624 | F20: 9614628 | G20: 1781940 | H20: 0 | I20: 18675863 | J20: 0 | K20: 3913000 | L20: 0 | M20: 96999 | N20: 47234 | O20: 1531808 | P20: =IF(SUM(Q20:AB20)=SUM(AC20:AM20),SUM(Q20:AB20)," EROARE ART/CAP") -> 45576933 | Q20: 19986894 | R20: 7819123 | S20: 599000 | T20: 0 | U20: 3544953 | V20: 5000 | W20: 429538 | X20: 1006255 | Y20: 4365750 | Z20: 6150454 | AA20: 1714286 | AB20: -44320 | AC20: 5235464 | AD20: 351833 | AE20: 19585936 | AF20: 509260 | AG20: 6756146 | AH20: 2157083 | AI20: 1083501 | AJ20: 1487328 | AK20: 0 | AL20: 8410382
A21: 4 | B21: 1874 | C21: SEBES | D21: =E21+SUM(H21:O21) -> 57168921 | E21: 33467057 | F21: 18776022 | G21: 7391 | H21: 0 | I21: 20745041 | J21: 0 | K21: 266000 | L21: 0 | M21: 319239 | N21: 1365441 | O21: 1006143 | P21: =IF(SUM(Q21:AB21)=SUM(AC21:AM21),SUM(Q21:AB21)," EROARE ART/CAP") -> 57679768 | Q21: 23008280 | R21: 5238024 | S21: 550336 | T21: 0 | U21: 12641399 | V21: 213851 | W21: 2215593 | X21: 1150946 | Y21: 1336228 | Z21: 9126627 | AA21: 2312224 | AB21: -113740 | AC21: 7624458 | AD21: 2058173 | AE21: 22114021 | AF21: 1575467 | AG21: 2906861 | AH21: 4553018 | AI21: 9298759 | AJ21: 512640 | AK21: 0 | AL21: 7036371
A22: 5 | D22: =E22+SUM(H22:O22) -> 0 | P22: =IF(SUM(Q22:AB22)=SUM(AC22:AM22),SUM(Q22:AB22)," EROARE ART/CAP") -> 0
A23: 6 | D23: =E23+SUM(H23:O23) -> 0 | P23: =IF(SUM(Q23:AB23)=SUM(AC23:AM23),SUM(Q23:AB23)," EROARE ART/CAP") -> 0
A24: 7 | D24: =E24+SUM(H24:O24) -> 0 | P24: =IF(SUM(Q24:AB24)=SUM(AC24:AM24),SUM(Q24:AB24)," EROARE ART/CAP") -> 0
A25: 8 | D25: =E25+SUM(H25:O25) -> 0 | P25: =IF(SUM(Q25:AB25)=SUM(AC25:AM25),SUM(Q25:AB25)," EROARE ART/CAP") -> 0
A26: 9 | D26: =E26+SUM(H26:O26) -> 0 | P26: =IF(SUM(Q26:AB26)=SUM(AC26:AM26),SUM(Q26:AB26)," EROARE ART/CAP") -> 0
A27: 10 | D27: =E27+SUM(H27:O27) -> 0 | P27: =IF(SUM(Q27:AB27)=SUM(AC27:AM27),SUM(Q27:AB27)," EROARE ART/CAP") -> 0
A28: 11 | D28: =E28+SUM(H28:O28) -> 0 | P28: =IF(SUM(Q28:AB28)=SUM(AC28:AM28),SUM(Q28:AB28)," EROARE ART/CAP") -> 0
A29: 12 | D29: =E29+SUM(H29:O29) -> 0 | P29: =IF(SUM(Q29:AB29)=SUM(AC29:AM29),SUM(Q29:AB29)," EROARE ART/CAP") -> 0
A30: 13 | D30: =E30+SUM(H30:O30) -> 0 | P30: =IF(SUM(Q30:AB30)=SUM(AC30:AM30),SUM(Q30:AB30)," EROARE ART/CAP") -> 0
A31: 14 | D31: =E31+SUM(H31:O31) -> 0 | P31: =IF(SUM(Q31:AB31)=SUM(AC31:AM31),SUM(Q31:AB31)," EROARE ART/CAP") -> 0
A32: 15 | D32: =E32+SUM(H32:O32) -> 0 | P32: =IF(SUM(Q32:AB32)=SUM(AC32:AM32),SUM(Q32:AB32)," EROARE ART/CAP") -> 0
A33: C. Total oraşe | D33: =E33+SUM(H33:O33) -> 164990416 | E33: =SUM(E34:E53) -> 47515395 | F33: =SUM(F34:F53) -> 21666811 | G33: =SUM(G34:G53) -> 7134720 | H33: =SUM(H34:H53) -> 0 | I33: =SUM(I34:I53) -> 47356184 | J33: =SUM(J34:J53) -> 450000 | K33: =SUM(K34:K53) -> 13379110 | L33: =SUM(L34:L53) -> 0 | ... AM33: =SUM(AM34:AM53) -> 1680495
A34: 1 | B34: 1151 | C34: ABRUD | D34: =E34+SUM(H34:O34) -> 12480187 | E34: 3872148 | F34: 1417672 | G34: 1021360 | H34: 0 | I34: 5147686 | J34: 0 | K34: 2487000 | L34: 0 | M34: 361514 | N34: 0 | O34: 611839 | P34: =IF(SUM(Q34:AB34)=SUM(AC34:AM34),SUM(Q34:AB34)," EROARE ART/CAP") -> 10591405 | Q34: 6038721 | R34: 1680001 | S34: 0 | T34: 0 | U34: 811451 | V34: 0 | W34: 0 | X34: 247266 | Y34: 62455 | Z34: 1800870 | AA34: 0 | AB34: -49359 | AC34: 1035097 | AD34: 141888 | AE34: 5906731 | AF34: 892486 | AG34: 89680 | AH34: 514496 | AI34: 2011027 | AJ34: 0 | AK34: 0 | AL34: 0
A35: 2 | B35: 2915 | C35: BAIA DE ARIES | D35: =E35+SUM(H35:O35) -> 11421765 | E35: 2803863 | F35: 679853 | G35: 1587240 | H35: 0 | I35: 3522249 | J35: 0 | K35: 3611000 | L35: 0 | M35: 918510 | N35: 548543 | O35: 17600 | P35: =IF(SUM(Q35:AB35)=SUM(AC35:AM35),SUM(Q35:AB35)," EROARE ART/CAP") -> 9260581 | Q35: 4036003 | R35: 906057 | S35: 0 | T35: 0 | U35: 496196 | V35: 4271 | W35: 946997 | X35: 158003 | Y35: 57996 | Z35: 2662927 | AA35: 0 | AB35: -7869 | AC35: 978416 | AD35: 198214 | AE35: 3224425 | AF35: 231209 | AG35: 1174501 | AH35: 921157 | AI35: 305353 | AJ35: 34602 | AK35: 0 | AL35: 2192704
A36: 3 | B36: 1455 | C36: CIMPENI | D36: =E36+SUM(H36:O36) -> 21091885 | E36: 5712001 | F36: 3317615 | G36: 368430 | H36: 0 | I36: 10655443 | J36: 0 | K36: 859000 | L36: 0 | M36: 3389201 | N36: 375223 | O36: 101017 | P36: =IF(SUM(Q36:AB36)=SUM(AC36:AM36),SUM(Q36:AB36)," EROARE ART/CAP") -> 20416845 | Q36: 10940058 | R36: 2446552 | S36: 0 | T36: 0 | U36: 1758455 | V36: 0 | W36: 1071468 | X36: 513617 | Y36: 141255 | Z36: 3545440 | AA36: 0 | AB36: 0 | AC36: 1770977 | AD36: 128288 | AE36: 10567150 | AF36: 3926398 | AG36: 394314 | AH36: 1196027 | AI36: 318768 | AJ36: 712825 | AK36: 0 | AL36: 810328 | AM36: 591770
A37: 4 | B37: 1696 | C37: CUGIR | D37: =E37+SUM(H37:O37) -> 45414263 | E37: 17061162 | F37: 9966250 | G37: 378160 | H37: 0 | I37: 11998690 | J37: 0 | K37: 411110 | L37: 0 | M37: 4227812 | N37: 11204721 | O37: 510768 | P37: =IF(SUM(Q37:AB37)=SUM(AC37:AM37),SUM(Q37:AB37)," EROARE ART/CAP") -> 48128710 | Q37: 14351587 | R37: 7195399 | S37: 40000 | T37: 0 | U37: 4887633 | V37: 94407 | W37: 16551384 | X37: 1237634 | Y37: 1161014 | Z37: 1994375 | AA37: 625000 | AB37: -9723 | AC37: 3160610 | AD37: 1017928 | AE37: 14833266 | AF37: 7605269 | AG37: 5023433 | AH37: 2428596 | AI37: 1019733 | AJ37: 1532425 | AK37: 0 | AL37: 11449183 | AM37: 58267
A38: 5 | B38: 1794 | C38: OCNA MURES | D38: =E38+SUM(H38:O38) -> 20599399 | E38: 8352702 | F38: 2623534 | G38: 1940690 | H38: 0 | I38: 8329831 | J38: 450000 | K38: 1298000 | L38: 0 | M38: 2085480 | N38: 69326 | O38: 14060 | P38: =IF(SUM(Q38:AB38)=SUM(AC38:AM38),SUM(Q38:AB38)," EROARE ART/CAP") -> 20489388 | Q38: 9084612 | R38: 4347436 | S38: 0 | T38: 0 | U38: 993980 | V38: 0 | W38: 215503 | X38: 646720 | Y38: 220825 | Z38: 5016997 | AA38: 0 | AB38: -36685 | AC38: 1691022 | AD38: 405445 | AE38: 7869656 | AF38: 644624 | AG38: 770863 | AH38: 1563181 | AI38: 1146832 | AJ38: 1120134 | AK38: 0 | AL38: 5277631
A39: 6 | B39: 8096 | C39: TEIUS | D39: =E39+SUM(H39:O39) -> 13688235 | E39: 5369077 | F39: 2240869 | G39: 702400 | H39: 0 | I39: 3394790 | J39: 0 | K39: 1777000 | L39: 0 | M39: 879481 | N39: 265890 | O39: 2001997 | P39: =IF(SUM(Q39:AB39)=SUM(AC39:AM39),SUM(Q39:AB39)," EROARE ART/CAP") -> 12155077 | Q39: 4028249 | R39: 2699827 | S39: 20144 | T39: 0 | U39: 0 | V39: 42000 | W39: 294223 | X39: 368722 | Y39: 215455 | Z39: 4367806 | AA39: 120000 | AB39: -1349 | AC39: 1320875 | AD39: 275550 | AE39: 3044590 | AF39: 2452 | AG39: 683092 | AH39: 706349 | AI39: 920564 | AJ39: 2768665 | AK39: 0 | AL39: 1854675 | AM39: 578265
A40: 7 | B40: 1936 | C40: ZLATNA | D40: =E40+SUM(H40:O40) -> 40294682 | E40: 4344442 | F40: 1421018 | G40: 1136440 | H40: 0 | I40: 4307495 | J40: 0 | K40: 2936000 | L40: 0 | M40: 23796552 | N40: 4705093 | O40: 205100 | P40: =IF(SUM(Q40:AB40)=SUM(AC40:AM40),SUM(Q40:AB40)," EROARE ART/CAP") -> 40560553 | Q40: 5502494 | R40: 3394539 | S40: 33633 | T40: 0 | U40: 0 | V40: 0 | W40: 8457655 | X40: 420208 | Y40: 223834 | Z40: 22517319 | AA40: 50871 | AB40: -40000 | AC40: 1491285 | AD40: 332932 | AE40: 4191590 | AF40: 220546 | AG40: 690771 | AH40: 695851 | AI40: 12078674 | AJ40: 10638813 | AK40: 0 | AL40: 9767898 | AM40: 452193
A41: 8 | D41: =E41+SUM(H41:O41) -> 0 | P41: =IF(SUM(Q41:AB41)=SUM(AC41:AM41),SUM(Q41:AB41)," EROARE ART/CAP") -> 0
A42: 9 | D42: 0 | P42: =IF(SUM(Q42:AB42)=SUM(AC42:AM42),SUM(Q42:AB42)," EROARE ART/CAP") -> 0
A43: 10 | D43: 0 | P43: =IF(SUM(Q43:AB43)=SUM(AC43:AM43),SUM(Q43:AB43)," EROARE ART/CAP") -> 0
A44: 11 | D44: 0 | P44: =IF(SUM(Q44:AB44)=SUM(AC44:AM44),SUM(Q44:AB44)," EROARE ART/CAP") -> 0
A45: 12 | D45: 0 | P45: =IF(SUM(Q45:AB45)=SUM(AC45:AM45),SUM(Q45:AB45)," EROARE ART/CAP") -> 0
A46: 13 | D46: 0 | P46: =IF(SUM(Q46:AB46)=SUM(AC46:AM46),SUM(Q46:AB46)," EROARE ART/CAP") -> 0
A47: 14 | D47: 0 | P47: =IF(SUM(Q47:AB47)=SUM(AC47:AM47),SUM(Q47:AB47)," EROARE ART/CAP") -> 0
A48: 15 | D48: 0 | P48: =IF(SUM(Q48:AB48)=SUM(AC48:AM48),SUM(Q48:AB48)," EROARE ART/CAP") -> 0
A49: 16 | D49: 0 | P49: =IF(SUM(Q49:AB49)=SUM(AC49:AM49),SUM(Q49:AB49)," EROARE ART/CAP") -> 0
A50: 17 | D50: 0 | P50: =IF(SUM(Q50:AB50)=SUM(AC50:AM50),SUM(Q50:AB50)," EROARE ART/CAP") -> 0
A51: 18 | D51: 0 | P51: =IF(SUM(Q51:AB51)=SUM(AC51:AM51),SUM(Q51:AB51)," EROARE ART/CAP") -> 0
A52: 19 | D52: 0 | P52: =IF(SUM(Q52:AB52)=SUM(AC52:AM52),SUM(Q52:AB52)," EROARE ART/CAP") -> 0
A53: 20 | D53: 0 | P53: =IF(SUM(Q53:AB53)=SUM(AC53:AM53),SUM(Q53:AB53)," EROARE ART/CAP") -> 0
A54: D. Total comune | D54: =E54+SUM(H54:O54) -> 332634770 | E54: =SUM(E55:E143) -> 92110496 | F54: =SUM(F55:F143) -> 23884928 | G54: =SUM(G55:G143) -> 26936900 | H54: =SUM(H55:H143) -> 0 | I54: =SUM(I55:I143) -> 84683781 | J54: =SUM(J55:J143) -> 2224351 | K54: =SUM(K55:K143) -> 56325310 | L54: =SUM(L55:L143) -> 0 | ... AM54: =SUM(AM55:AM143) -> 4655354
A55: 1 | B55: 2130 | C55: ALBAC | D55: =E55+SUM(H55:O55) -> 5350924 | E55: 947142 | F55: 210199 | G55: 286420 | H55: 0 | I55: 2202740 | J55: 0 | K55: 872000 | L55: 0 | M55: 917423 | N55: 411619 | P55: =IF(SUM(Q55:AB55)=SUM(AC55:AM55),SUM(Q55:AB55)," EROARE ART/CAP") -> 5552803 | Q55: 2449162 | R55: 1139404 | S55: 0 | T55: 0 | U55: 0 | V55: 760000 | W55: 603926 | X55: 117709 | Y55: 55000 | Z55: 490472 | AA55: 0 | AB55: -62870 | AC55: 705096 | AD55: 16875 | AE55: 1841281 | AF55: 45262 | AG55: 239526 | AH55: 643410 | AI55: 216749 | AJ55: 30051 | AK55: 0 | AL55: 1205857 | AM55: 608696
A56: 2 | B56: 2309 | C56: ALMASU MARE | D56: =E56+SUM(H56:O56) -> 4013522 | E56: 831862 | F56: 239720 | G56: 368170 | H56: 0 | I56: 1014139 | J56: 0 | K56: 912000 | L56: 0 | M56: 475756 | N56: 778497 | O56: 1268 | P56: =IF(SUM(Q56:AB56)=SUM(AC56:AM56),SUM(Q56:AB56)," EROARE ART/CAP") -> 4071039 | Q56: 1437974 | R56: 1001364 | S56: 16999 | T56: 0 | U56: 0 | V56: 0 | W56: 102963 | X56: 47792 | Y56: 30944 | Z56: 311285 | AA56: 1123518 | AB56: -1800 | AC56: 796843 | AD56: 357539 | AE56: 869322 | AF56: 0 | AG56: 365155 | AH56: 296907 | AI56: 194247 | AJ56: 661 | AK56: 0 | AL56: 1190365
A57: 3 | B57: 2381 | C57: ARIESENI | D57: =E57+SUM(H57:O57) -> 14622032 | E57: 859128 | F57: 150289 | G57: 333160 | H57: 0 | I57: 1623205 | J57: 0 | K57: 845000 | L57: 0 | M57: 3420335 | N57: 7874364 | P57: =IF(SUM(Q57:AB57)=SUM(AC57:AM57),SUM(Q57:AB57)," EROARE ART/CAP") -> 14598469 | Q57: 1761673 | R57: 952162 | S57: 18359 | T57: 0 | U57: 0 | V57: 0 | W57: 11648898 | X57: 61893 | Y57: 51522 | Z57: 67025 | AA57: 41287 | AB57: -4350 | AC57: 727033 | AD57: 106 | AE57: 13129289 | AF57: 0 | AG57: 104033 | AH57: 260444 | AI57: 175896 | AJ57: 102782 | AK57: 0 | AL57: 59946 | AM57: 38940
A58: 4 | B58: 2577 | C58: AVRAM IANCU | D58: =E58+SUM(H58:O58) -> 2821270 | E58: 724048 | F58: 85341 | G58: 389240 | H58: 0 | I58: 1086198 | J58: 0 | K58: 995000 | L58: 0 | M58: 16024 | N58: 0 | P58: =IF(SUM(Q58:AB58)=SUM(AC58:AM58),SUM(Q58:AB58)," EROARE ART/CAP") -> 2825275 | Q58: 1386317 | R58: 721807 | S58: 0 | T58: 0 | U58: 0 | V58: 0 | W58: 0 | X58: 135402 | Y58: 25547 | Z58: 565984 | AA58: 0 | AB58: -9782 | AC58: 537654 | AD58: 8453 | AE58: 946157 | AF58: 29723 | AG58: 417256 | AH58: 409365 | AI58: 159623 | AJ58: 59336 | AK58: 0 | AL58: 257708
A59: 5 | B59: 2988 | C59: BERGHIN | D59: =E59+SUM(H59:O59) -> 3210001 | E59: 1167046 | F59: 146011 | G59: 303170 | H59: 0 | I59: 936377 | J59: 0 | K59: 802000 | L59: 0 | M59: 76949 | N59: 227629 | P59: =IF(SUM(Q59:AB59)=SUM(AC59:AM59),SUM(Q59:AB59)," EROARE ART/CAP") -> 2860513 | Q59: 1165447 | R59: 738075 | S59: 0 | T59: 0 | U59: 0 | V59: 40000 | W59: 353321 | X59: 165355 | Y59: 218082 | Z59: 180233 | AA59: 0 | AB59: 0 | AC59: 568873 | AD59: 4400 | AE59: 992308 | AF59: 144937 | AG59: 314352 | AH59: 243659 | AI59: 162880 | AJ59: 0 | AK59: 0 | AL59: 316513 | AM59: 112591
A60: 6 | B60: 3039 | C60: BISTRA | D60: =E60+SUM(H60:O60) -> 10654989 | E60: 2331311 | F60: 356426 | G60: 1054480 | H60: 0 | I60: 2766817 | J60: 0 | K60: 753000 | L60: 0 | M60: 2383603 | N60: 2420258 | P60: =IF(SUM(Q60:AB60)=SUM(AC60:AM60),SUM(Q60:AB60)," EROARE ART/CAP") -> 9029346 | Q60: 3015215 | R60: 874659 | S60: 34353 | T60: 0 | U60: 0 | V60: 0 | W60: 3483113 | X60: 234155 | Y60: 335060 | Z60: 1127897 | AA60: 150999 | AB60: -226105 | AC60: 622531 | AD60: 27972 | AE60: 2293612 | AF60: 0 | AG60: 1207637 | AH60: 866732 | AI60: 227038 | AJ60: 215646 | AK60: 0 | AL60: 3568178
A61: 7 | B61: 3397 | C61: BLANDIANA | D61: =E61+SUM(H61:O61) -> 3220598 | E61: 616251 | F61: 39951 | G61: 429120 | H61: 0 | I61: 643308 | J61: 0 | K61: 1005000 | L61: 0 | M61: 605326 | N61: 350713 | P61: =IF(SUM(Q61:AB61)=SUM(AC61:AM61),SUM(Q61:AB61)," EROARE ART/CAP") -> 2760392 | Q61: 783456 | R61: 473242 | S61: 0 | T61: 0 | U61: 0 | V61: 0 | W61: 463266 | X61: 70593 | Y61: 74430 | Z61: 895405 | AA61: 0 | AB61: 0 | AC61: 440888 | AD61: 1365 | AE61: 1084325 | AF61: 0 | AG61: 114174 | AH61: 85295 | AI61: 584455 | AJ61: 500 | AK61: 0 | AL61: 449390
A62: 8 | B62: 9026 | C62: BUCERDEA GRANOASA | D62: =E62+SUM(H62:O62) -> 3173275 | E62: 870474 | F62: 78080 | G62: 360170 | H62: 0 | I62: 1293344 | J62: 0 | K62: 934000 | L62: 0 | M62: 30161 | N62: 45296 | P62: =IF(SUM(Q62:AB62)=SUM(AC62:AM62),SUM(Q62:AB62)," EROARE ART/CAP") -> 3293324 | Q62: 1326688 | R62: 484785 | S62: 0 | T62: 0 | U62: 0 | V62: 29233 | W62: 48540 | X62: 215119 | Y62: 35225 | Z62: 1153734 | AA62: 0 | AB62: 0 | AC62: 571864 | AD62: 0 | AE62: 1537989 | AF62: 0 | AG62: 140147 | AH62: 215119 | AI62: 39540 | AJ62: 55947 | AK62: 0 | AL62: 732718
A63: 9 | B63: 3459 | C63: BUCIUM | D63: =E63+SUM(H63:O63) -> 3970185 | E63: 763320 | F63: 91740 | G63: 390250 | H63: 0 | I63: 800244 | J63: 0 | K63: 1005000 | L63: 0 | M63: 1390351 | N63: 0 | O63: 11270 | P63: =IF(SUM(Q63:AB63)=SUM(AC63:AM63),SUM(Q63:AB63)," EROARE ART/CAP") -> 3821682 | Q63: 1125920 | R63: 845357 | S63: 38924 | T63: 0 | U63: 0 | V63: 0 | W63: 0 | X63: 74043 | Y63: 2052 | Z63: 767345 | AA63: 968041 | AB63: 0 | AC63: 714745 | AD63: 4744 | AE63: 648296 | AF63: 0 | AG63: 81329 | AH63: 313335 | AI63: 362823 | AJ63: 0 | AK63: 0 | AL63: 1619410 | AM63: 77000
A64: 10 | B64: 3761 | C64: CENADE | D64: =E64+SUM(H64:O64) -> 2704249 | E64: 731432 | F64: 49119 | G64: 371110 | H64: 0 | I64: 702303 | J64: 0 | K64: 947000 | L64: 0 | M64: 78272 | N64: 242763 | O64: 2479 | P64: =IF(SUM(Q64:AB64)=SUM(AC64:AM64),SUM(Q64:AB64)," EROARE ART/CAP") -> 2546023 | Q64: 964574 | R64: 486443 | S64: 0 | T64: 0 | U64: 0 | V64: 7768 | W64: 213472 | X64: 39576 | Y64: 7696 | Z64: 861494 | AA64: 0 | AB64: -35000 | AC64: 821202 | AD64: 4779 | AE64: 954575 | AF64: 200628 | AG64: 336126 | AH64: 39576 | AI64: 48805 | AJ64: 18288 | AK64: 0 | AL64: 81603 | AM64: 40441
A65: 11 | B65: 3805 | C65: CERGAU | D65: =E65+SUM(H65:O65) -> 2797993 | E65: 779659 | F65: 68035 | G65: 392140 | H65: 0 | I65: 810383 | J65: 0 | K65: 969000 | L65: 0 | M65: 80484 | N65: 158467 | P65: =IF(SUM(Q65:AB65)=SUM(AC65:AM65),SUM(Q65:AB65)," EROARE ART/CAP") -> 2312400 | Q65: 979882 | R65: 538824 | S65: 0 | T65: 0 | U65: 0 | V65: 22768 | W65: 126779 | X65: 142085 | Y65: 67943 | Z65: 434119 | AA65: 0 | AB65: 0 | AC65: 556256 | AD65: 1189 | AE65: 939127 | AF65: 49605 | AG65: 294105 | AH65: 154789 | AI65: 81209 | AJ65: 51251 | AK65: 0 | AL65: 155496 | AM65: 29373
A66: 12 | B66: 3841 | C66: CERU BACAINTI | D66: =E66+SUM(I66:O66) -> 6421655 | E66: 565915 | F66: 19505 | G66: 463080 | H66: 0 | I66: 331465 | J66: 0 | K66: 987000 | L66: 0 | M66: 1476202 | N66: 3060073 | O66: 1000 | P66: =IF(SUM(Q66:AB66)=SUM(AC66:AM66),SUM(Q66:AB66)," EROARE ART/CAP") -> 8701859 | Q66: 517094 | R66: 1018800 | S66: 25392 | T66: 0 | U66: 0 | V66: 0 | W66: 4563941 | X66: 15788 | Y66: 49947 | Z66: 215076 | AA66: 2300000 | AB66: -4179 | AC66: 436405 | AD66: 0 | AE66: 434412 | AF66: 0 | AG66: 49444 | AH66: 74591 | AI66: 202927 | AJ66: 500 | AK66: 0 | AL66: 7495390 | AM66: 8190
A67: 13 | B67: 3958 | C67: CETATEA DE BALTA | D67: =E67+SUM(H67:O67) -> 4156805 | E67: 1093443 | F67: 311436 | G67: 255200 | H67: 0 | I67: 1664012 | J67: 0 | K67: 707000 | L67: 0 | M67: 415624 | N67: 276726 | P67: =IF(SUM(Q67:AB67)=SUM(AC67:AM67),SUM(Q67:AB67)," EROARE ART/CAP") -> 4139806 | Q67: 2075749 | R67: 1039689 | S67: 0 | T67: 0 | U67: 0 | V67: 0 | W67: 370776 | X67: 123871 | Y67: 5000 | Z67: 524721 | AA67: 0 | AB67: 0 | AC67: 818599 | AD67: 500217 | AE67: 1460535 | AF67: 21759 | AG67: 132060 | AH67: 419053 | AI67: 109336 | AJ67: 74884 | AK67: 0 | AL67: 495333 | AM67: 108030
A68: 14 | B68: 1071 | C68: CIUGUD | D68: =E68+SUM(H68:O68) -> 6636399 | E68: 3362213 | F68: 956889 | G68: 524220 | H68: 0 | I68: 994943 | J68: 0 | K68: 416000 | L68: 0 | M68: 623170 | N68: 895787 | O68: 344286 | P68: =IF(SUM(Q68:AB68)=SUM(AC68:AM68),SUM(Q68:AB68)," EROARE ART/CAP") -> 6245630 | Q68: 1295292 | R68: 1230526 | S68: 19456 | T68: 0 | U68: 0 | V68: 0 | W68: 1535259 | X68: 140566 | Y68: 754108 | Z68: 1299397 | AA68: 97138 | AB68: -126112 | AC68: 1706204 | AD68: -53434 | AE68: 1004052 | AF68: 0 | AG68: 922759 | AH68: 243563 | AI68: 778412 | AJ68: 438111 | AK68: 0 | AL68: 1191951 | AM68: 14012
A69: 15 | B69: 4008 | C69: CIURULEASA | D69: =E69+SUM(H69:O69) -> 6537472 | E69: 637357 | F69: 80496 | G69: 413220 | H69: 0 | I69: 771946 | J69: 100000 | K69: 3758000 | L69: 0 | M69: 1270169 | N69: 0 | P69: =IF(SUM(Q69:AB69)=SUM(AC69:AM69),SUM(Q69:AB69)," EROARE ART/CAP") -> 6096285 | Q69: 1016433 | R69: 598456 | S69: 2077 | T69: 0 | U69: 0 | V69: 0 | W69: 0 | X69: 42476 | Y69: 3200 | Z69: 4433643 | AA69: 0 | AB69: 0 | AC69: 472338 | AD69: 36545 | AE69: 799144 | AF69: 0 | AG69: 49879 | AH69: 133141 | AI69: 42863 | AJ69: 0 | AK69: 0 | AL69: 4562375
A70: 16 | B70: 4106 | C70: CILNIC | D70: =E70+SUM(H70:O70) -> 3279536 | E70: 1014830 | F70: 110947 | G70: 353080 | H70: 0 | I70: 1165502 | J70: 0 | K70: 895000 | L70: 0 | M70: 204204 | N70: 0 | P70: =IF(SUM(Q70:AB70)=SUM(AC70:AM70),SUM(Q70:AB70)," EROARE ART/CAP") -> 3292021 | Q70: 1424374 | R70: 759396 | S70: 0 | T70: 0 | U70: 0 | V70: 0 | W70: 0 | X70: 105572 | Y70: 62930 | Z70: 943745 | AA70: 0 | AB70: -3996 | AC70: 610741 | AD70: 8138 | AE70: 1619548 | AF70: 0 | AG70: 133275 | AH70: 258917 | AI70: 417994 | AJ70: 39064 | AK70: 0 | AL70: 112837 | AM70: 91507
A71: 17 | B71: 4142 | C71: CRICAU | D71: =E71+SUM(H71:O71) -> 3470617 | E71: 1131553 | F71: 115840 | G71: 270170 | H71: 0 | I71: 977453 | J71: 0 | K71: 708000 | L71: 0 | M71: 175568 | N71: 476936 | O71: 1107 | P71: =IF(SUM(Q71:AB71)=SUM(AC71:AM71),SUM(Q71:AB71)," EROARE ART/CAP") -> 3211943 | Q71: 1147664 | R71: 573119 | S71: 0 | T71: 0 | U71: 0 | V71: 0 | W71: 621150 | X71: 165892 | Y71: 6000 | Z71: 700818 | AA71: 0 | AB71: -2700 | AC71: 531957 | AD71: 7846 | AE71: 828592 | AF71: 16164 | AG71: 293463 | AH71: 239775 | AI71: 78385 | AJ71: 103585 | AK71: 0 | AL71: 1067052 | AM71: 45124
A72: 18 | B72: 4188 | C72: CRACIUNELUL DE JOS | D72: =E72+SUM(H72:O72) -> 4322268 | E72: 1375634 | F72: 408875 | G72: 257160 | H72: 0 | I72: 1008028 | J72: 0 | K72: 732000 | L72: 0 | M72: 1111946 | N72: 94660 | P72: =IF(SUM(Q72:AB72)=SUM(AC72:AM72),SUM(Q72:AB72)," EROARE ART/CAP") -> 3805395 | Q72: 1145051 | R72: 655433 | S72: 0 | T72: 0 | U72: 0 | V72: 0 | W72: 124127 | X72: 129612 | Y72: 23911 | Z72: 1727261 | AA72: 0 | AB72: 0 | AC72: 816730 | AD72: 1270 | AE72: 924318 | AF72: 23408 | AG72: 482385 | AH72: 129612 | AI72: 85039 | AJ72: 2588 | AK72: 0 | AL72: 1337545 | AM72: 2500
A73: 19 | B73: 9019 | C73: CUT | D73: =E73+SUM(H73:O73) -> 2307017 | E73: 755077 | F73: 54129 | G73: 402050 | H73: 0 | I73: 522798 | J73: 0 | K73: 950000 | L73: 0 | M73: 76142 | N73: 0 | O73: 3000 | P73: =IF(SUM(Q73:AB73)=SUM(AC73:AM73),SUM(Q73:AB73)," EROARE ART/CAP") -> 1291343 | Q73: 802109 | R73: 317678 | S73: 0 | T73: 0 | U73: 0 | V73: 0 | W73: 0 | X73: 34176 | Y73: 56706 | Z73: 80824 | AA73: 0 | AB73: -150 | AC73: 397234 | AD73: 4077 | AE73: 479258 | AF73: 0 | AG73: 100014 | AH73: 100975 | AI73: 51461 | AJ73: 81292 | AK73: 0 | AL73: 77032
A74: 20 | B74: 4240 | C74: DAIA ROMANA | D74: =E74+SUM(H74:O74) -> 4997387 | E74: 1080881 | F74: 294952 | G74: 296180 | H74: 0 | I74: 1569516 | J74: 0 | K74: 809000 | L74: 0 | M74: 1189292 | N74: 348698 | P74: =IF(SUM(Q74:AB74)=SUM(AC74:AM74),SUM(Q74:AB74)," EROARE ART/CAP") -> 4345438 | Q74: 1715200 | R74: 907297 | S74: 0 | T74: 0 | U74: 0 | V74: 4804 | W74: 162217 | X74: 138871 | Y74: 108456 | Z74: 1313397 | AA74: 0 | AB74: -4804 | AC74: 576536 | AD74: 0 | AE74: 1511001 | AF74: 0 | AG74: 201856 | AH74: 256471 | AI74: 243193 | AJ74: 0 | AK74: 0 | AL74: 1556381
A75: 21 | B75: 4268 | C75: DOSTAT | D75: =E75+SUM(H75:O75) -> 2766064 | E75: 709325 | F75: 183502 | G75: 319270 | H75: 0 | I75: 661049 | J75: 0 | K75: 817000 | L75: 0 | M75: 489353 | N75: 89337 | P75: =IF(SUM(Q75:AB75)=SUM(AC75:AM75),SUM(Q75:AB75)," EROARE ART/CAP") -> 1896156 | Q75: 903555 | R75: 331708 | S75: 0 | T75: 0 | U75: 0 | V75: 0 | W75: 89156 | X75: 52480 | Y75: 54800 | Z75: 464457 | AA75: 0 | AB75: 0 | AC75: 414814 | AD75: 0 | AE75: 673824 | AF75: 15360 | AG75: 120277 | AH75: 93035 | AI75: 507743 | AJ75: 12472 | AK75: 0 | AL75: 56631 | AM75: 2000
A76: 22 | B76: 4302 | C76: FARAU | D76: =E76+SUM(H76:O76) -> 4154145 | E76: 680433 | F76: 58167 | G76: 351320 | H76: 0 | I76: 911728 | J76: 0 | K76: 940000 | L76: 0 | M76: 977283 | N76: 644701 | P76: =IF(SUM(Q76:AB76)=SUM(AC76:AM76),SUM(Q76:AB76)," EROARE ART/CAP") -> 3731092 | Q76: 1265094 | R76: 742988 | S76: 38839 | T76: 0 | U76: 0 | V76: 0 | W76: 701518 | X76: 41794 | Y76: 40000 | Z76: 51138 | AA76: 849721 | AB76: 0 | AC76: 718765 | AD76: 7007 | AE76: 830506 | AF76: 0 | AG76: 302837 | AH76: 266432 | AI76: 495383 | AJ76: 25196 | AK76: 0 | AL76: 1084966
A77: 23 | B77: 4366 | C77: GALDA DE JOS | D77: =E77+SUM(H77:O77) -> 8412860 | E77: 5825151 | F77: 3682397 | G77: 194270 | H77: 0 | I77: 1948728 | J77: 0 | K77: 112000 | L77: 0 | M77: 126891 | N77: 400090 | P77: =IF(SUM(Q77:AB77)=SUM(AC77:AM77),SUM(Q77:AB77)," EROARE ART/CAP") -> 7459820 | Q77: 2130126 | R77: 1409885 | S77: 0 | T77: 0 | U77: 0 | V77: 3561 | W77: 106477 | X77: 281126 | Y77: 785711 | Z77: 2879358 | AA77: 0 | AB77: -136424 | AC77: 1169254 | AD77: 52161 | AE77: 2373226 | AF77: 0 | AG77: 1824244 | AH77: 599215 | AI77: 246262 | AJ77: 238976 | AK77: 0 | AL77: 820185 | AM77: 136297
A78: 24 | B78: 4482 | C78: GIRBOVA | D78: =E78+SUM(H78:O78) -> 3127920 | E78: 1448198 | F78: 476237 | G78: 180160 | H78: 0 | I78: 1092589 | J78: 0 | K78: 522000 | L78: 0 | M78: 20911 | N78: 42356 | O78: 1866 | P78: =IF(SUM(Q78:AB78)=SUM(AC78:AM78),SUM(Q78:AB78)," EROARE ART/CAP") -> 3784221 | Q78: 1246409 | R78: 835311 | S78: 22298 | T78: 0 | U78: 0 | V78: 0 | W78: 70081 | X78: 163924 | Y78: 165396 | Z78: 430802 | AA78: 850000 | AB78: 0 | AC78: 800893 | AD78: 17533 | AE78: 1069739 | AF78: 3682 | AG78: 222481 | AH78: 163924 | AI78: 140420 | AJ78: 15023 | AK78: 0 | AL78: 1350526
A79: 25 | B79: 4525 | C79: GIRDA DE SUS | D79: =E79+SUM(H79:O79) -> 3997860 | E79: 808361 | F79: 162865 | G79: 263150 | H79: 0 | I79: 1489417 | J79: 0 | K79: 730000 | L79: 0 | M79: 304509 | N79: 665573 | P79: =IF(SUM(Q79:AB79)=SUM(AC79:AM79),SUM(Q79:AB79)," EROARE ART/CAP") -> 4497946 | Q79: 1746134 | R79: 864535 | S79: 0 | T79: 0 | U79: 0 | V79: 18071 | W79: 1556804 | X79: 169264 | Y79: 74560 | Z79: 68578 | AA79: 0 | AB79: 0 | AC79: 703808 | AD79: 15470 | AE79: 1141978 | AF79: 6162 | AG79: 80811 | AH79: 545867 | AI79: 209106 | AJ79: 56011 | AK79: 0 | AL79: 1738733
A80: 26 | B80: 4703 | C80: HOPIRTA | D80: =E80+SUM(H80:O80) -> 4397993 | E80: 987494 | F80: 48286 | G80: 293290 | H80: 0 | I80: 737090 | J80: 1050000 | K80: 745000 | L80: 0 | M80: 247677 | N80: 630732 | P80: =IF(SUM(Q80:AB80)=SUM(AC80:AM80),SUM(Q80:AB80)," EROARE ART/CAP") -> 4901953 | Q80: 914250 | R80: 913814 | S80: 8104 | T80: 0 | U80: 0 | V80: 0 | W80: 1524280 | X80: 78772 | Y80: 65041 | Z80: 1313801 | AA80: 91125 | AB80: -7234 | AC80: 508720 | AD80: 284985 | AE80: 795115 | AF80: 48310 | AG80: 457761 | AH80: 78772 | AI80: 294891 | AJ80: 400 | AK80: 0 | AL80: 2424146 | AM80: 8853
A81: 27 | B81: 4767 | C81: HOREA | D81: =E81+SUM(H81:O81) -> 8674770 | E81: 752170 | F81: 146807 | G81: 391350 | H81: 0 | I81: 1858634 | J81: 0 | K81: 1049000 | L81: 0 | M81: 2089040 | N81: 2925926 | P81: =IF(SUM(Q81:AB81)=SUM(AC81:AM81),SUM(Q81:AB81)," EROARE ART/CAP") -> 8381249 | Q81: 2195930 | R81: 777256 | S81: 0 | T81: 0 | U81: 0 | V81: 0 | W81: 3939795 | X81: 56589 | Y81: 17175 | Z81: 1394504 | AA81: 0 | AB81: 0 | AC81: 793952 | AD81: 0 | AE81: 1605810 | AF81: 0 | AG81: 71885 | AH81: 346371 | AI81: 62546 | AJ81: 92721 | AK81: 0 | AL81: 4959050 | AM81: 448914
A82: 28 | B82: 4927 | C82: IGHIU | D82: =E82+SUM(H82:O82) -> 9273824 | E82: 3405379 | F82: 699485 | G82: 1372360 | H82: 0 | I82: 2883675 | J82: 0 | K82: 1061000 | L82: 0 | M82: 490984 | N82: 1432786 | P82: =IF(SUM(Q82:AB82)=SUM(AC82:AM82),SUM(Q82:AB82)," EROARE ART/CAP") -> 8928743 | Q82: 3455062 | R82: 1916131 | S82: 15128 | T82: 0 | U82: 0 | V82: 0 | W82: 1667204 | X82: 344926 | Y82: 482010 | Z82: 759022 | AA82: 408881 | AB82: -119621 | AC82: 1258885 | AD82: 32234 | AE82: 2747570 | AF82: 66579 | AG82: 1909734 | AH82: 794830 | AI82: 913660 | AJ82: 319773 | AK82: 0 | AL82: 640336 | AM82: 245142
A83: 29 | B83: 4981 | C83: INTREGALDE | D83: =E83+SUM(H83:O83) -> 2055922 | E83: 597197 | F83: 38330 | G83: 444200 | H83: 0 | I83: 366988 | J83: 0 | K83: 1088000 | L83: 0 | M83: 3737 | N83: 0 | P83: =IF(SUM(Q83:AB83)=SUM(AC83:AM83),SUM(Q83:AB83)," EROARE ART/CAP") -> 1076882 | Q83: 575793 | R83: 325245 | S83: 0 | T83: 0 | U83: 0 | V83: 0 | W83: 0 | X83: 22783 | Y83: 43505 | Z83: 126267 | AA83: 0 | AB83: -16711 | AC83: 406733 | AD83: 4467 | AE83: 338857 | AF83: 0 | AG83: 115787 | AH83: 66890 | AI83: 100769 | AJ83: 0 | AK83: 0 | AL83: 40879 | AM83: 2500
A84: 30 | B84: 5103 | C84: JIDVEI | D84: =E84+SUM(H84:O84) -> 10236698 | E84: 4841335 | F84: 2488128 | G84: 564470 | H84: 0 | I84: 4041367 | J84: 124351 | K84: 634000 | L84: 0 | M84: 159405 | N84: 436240 | P84: =IF(SUM(Q84:AB84)=SUM(AC84:AM84),SUM(Q84:AB84)," EROARE ART/CAP") -> 10236212 | Q84: 4264820 | R84: 3152334 | S84: 123050 | T84: 0 | U84: 0 | V84: 0 | W84: 429989 | X84: 458972 | Y84: 57100 | Z84: 1354778 | AA84: 398500 | AB84: -3331 | AC84: 1699430 | AD84: 52367 | AE84: 3741036 | AF84: 24080 | AG84: 1010594 | AH84: 578214 | AI84: 1269190 | AJ84: 0 | AK84: 0 | AL84: 1752875 | AM84: 108426
A85: 31 | B85: 5167 | C85: LIVEZILE | D85: =E85+SUM(H85:O85) -> 3901710 | E85: 2030482 | F85: 75288 | G85: 316130 | H85: 0 | I85: 599352 | J85: 0 | K85: 242000 | L85: 0 | M85: 613512 | N85: 416364 | P85: =IF(SUM(Q85:AB85)=SUM(AC85:AM85),SUM(Q85:AB85)," EROARE ART/CAP") -> 3216044 | Q85: 864889 | R85: 544287 | S85: 0 | T85: 0 | U85: 0 | V85: 0 | W85: 663152 | X85: 76117 | Y85: 495790 | Z85: 571809 | AA85: 0 | AB85: 0 | AC85: 500926 | AD85: 1804 | AE85: 569628 | AF85: 0 | AG85: 599881 | AH85: 186908 | AI85: 583071 | AJ85: 0 | AK85: 0 | AL85: 773826
A86: 32 | B86: 5210 | C86: LOPADEA NOUA | D86: =E86+SUM(H86:O86) -> 4383342 | E86: 1824769 | F86: 188989 | G86: 619360 | H86: 0 | I86: 1242097 | J86: 0 | K86: 628000 | L86: 0 | M86: 308917 | N86: 379559 | P86: =IF(SUM(Q86:AB86)=SUM(AC86:AM86),SUM(Q86:AB86)," EROARE ART/CAP") -> 3730259 | Q86: 1390566 | R86: 1034868 | S86: 0 | T86: 0 | U86: 0 | V86: 0 | W86: 533332 | X86: 181885 | Y86: 48000 | Z86: 541608 | AA86: 0 | AB86: 0 | AC86: 487672 | AD86: 0 | AE86: 1609286 | AF86: 0 | AG86: 294618 | AH86: 235270 | AI86: 203204 | AJ86: 12030 | AK86: 0 | AL86: 869240 | AM86: 18939
A87: 33 | B87: 5309 | C87: LUNCA MURES | D87: =E87+SUM(H87:O87) -> 3776529 | E87: 913675 | F87: 175539 | G87: 326180 | H87: 0 | I87: 1476805 | J87: 0 | K87: 859000 | L87: 0 | M87: 422766 | N87: 104283 | P87: =IF(SUM(Q87:AB87)=SUM(AC87:AM87),SUM(Q87:AB87)," EROARE ART/CAP") -> 3422635 | Q87: 1738090 | R87: 669090 | S87: 0 | T87: 0 | U87: 0 | V87: 0 | W87: 128822 | X87: 47638 | Y87: 46445 | Z87: 792550 | AA87: 0 | AB87: 0 | AC87: 931434 | AD87: 4967 | AE87: 1390525 | AF87: 0 | AG87: 103263 | AH87: 173256 | AI87: 572144 | AJ87: 45132 | AK87: 0 | AL87: 200434 | AM87: 1480
A88: 34 | B88: 5336 | C88: LUPSA | D88: =E88+SUM(H88:O88) -> 5854258 | E88: 1664088 | F88: 1067566 | G88: 167310 | H88: 0 | I88: 1572848 | J88: 0 | K88: 354000 | L88: 0 | M88: 2052292 | N88: 209644 | O88: 1386 | P88: =IF(SUM(Q88:AB88)=SUM(AC88:AM88),SUM(Q88:AB88)," EROARE ART/CAP") -> 5401925 | Q88: 2015280 | R88: 859873 | S88: 4300 | T88: 0 | U88: 0 | V88: 0 | W88: 0 | X88: 169083 | Y88: 86800 | Z88: 2235145 | AA88: 31444 | AB88: 0 | AC88: 885853 | AD88: 43361 | AE88: 1298652 | AF88: 26596 | AG88: 100643 | AH88: 512844 | AI88: 221002 | AJ88: 18340 | AK88: 0 | AL88: 2284883 | AM88: 9751
A89: 35 | B89: 5577 | C89: METES | D89: =E89+SUM(H89:O89) -> 4154194 | E89: 1196941 | F89: 96654 | G89: 643230 | H89: 0 | I89: 1172694 | J89: 0 | K89: 974000 | L89: 0 | M89: 562428 | N89: 248131 | P89: =IF(SUM(Q89:AB89)=SUM(AC89:AM89),SUM(Q89:AB89)," EROARE ART/CAP") -> 3329582 | Q89: 1270696 | R89: 673989 | S89: 0 | T89: 0 | U89: 0 | V89: 0 | W89: 291695 | X89: 215447 | Y89: 41750 | Z89: 836005 | AA89: 0 | AB89: 0 | AC89: 553235 | AD89: 35270 | AE89: 1019561 | AF89: 0 | AG89: 349389 | AH89: 231105 | AI89: 98753 | AJ89: 15321 | AK89: 0 | AL89: 1000053 | AM89: 26895
A90: 36 | B90: 5700 | C90: MIHALT | D90: =E90+SUM(H90:O90) -> 7850510 | E90: 1313055 | F90: 124649 | G90: 628260 | H90: 0 | I90: 1089402 | J90: 0 | K90: 965000 | L90: 0 | M90: 1538821 | N90: 2944232 | P90: =IF(SUM(Q90:AB90)=SUM(AC90:AM90),SUM(Q90:AB90)," EROARE ART/CAP") -> 4781397 | Q90: 1331935 | R90: 825510 | S90: 0 | T90: 0 | U90: 0 | V90: 0 | W90: 55172 | X90: 248683 | Y90: 85366 | Z90: 2343796 | AA90: 0 | AB90: -109065 | AC90: 842127 | AD90: 6187 | AE90: 1039998 | AF90: 4036 | AG90: 441715 | AH90: 248683 | AI90: 121611 | AJ90: 1305013 | AK90: 0 | AL90: 772027
A91: 37 | B91: 5755 | C91: MIRASLAU | D91: =E91+SUM(H91:O91) -> 3197666 | E91: 1019459 | F91: 182706 | G91: 272170 | H91: 0 | I91: 891448 | J91: 0 | K91: 720000 | L91: 0 | M91: 132785 | N91: 433974 | P91: =IF(SUM(Q91:AB91)=SUM(AC91:AM91),SUM(Q91:AB91)," EROARE ART/CAP") -> 3187311 | Q91: 1222146 | R91: 1201503 | S91: 3879 | T91: 0 | U91: 0 | V91: 0 | W91: 306841 | X91: 90967 | Y91: 23090 | Z91: 330360 | AA91: 8525 | AB91: 0 | AC91: 683973 | AD91: 0 | AE91: 823613 | AF91: 0 | AG91: 387549 | AH91: 189020 | AI91: 524205 | AJ91: 0 | AK91: 0 | AL91: 443753 | AM91: 135198
A92: 38 | B92: 5826 | C92: MOGOS | D92: =E92+SUM(H92:O92) -> 2801421 | E92: 875255 | F92: 42716 | G92: 442050 | H92: 0 | I92: 461721 | J92: 0 | K92: 1056000 | L92: 0 | M92: 109877 | N92: 298568 | P92: =IF(SUM(Q92:AB92)=SUM(AC92:AM92),SUM(Q92:AB92)," EROARE ART/CAP") -> 2592828 | Q92: 673121 | R92: 558781 | S92: 4400 | T92: 0 | U92: 0 | V92: 0 | W92: 679727 | X92: 49486 | Y92: 35000 | Z92: 598477 | AA92: 0 | AB92: -6164 | AC92: 514880 | AD92: 0 | AE92: 405785 | AF92: 22489 | AG92: 46414 | AH92: 108289 | AI92: 51717 | AJ92: 0 | AK92: 0 | AL92: 1180400 | AM92: 262854
A93: 39 | B93: 6048 | C93: NOSLAC | D93: =E93+SUM(H93:O93) -> 3735737 | E93: 886785 | F93: 119243 | G93: 289160 | H93: 0 | I93: 679616 | J93: 0 | K93: 775310 | L93: 0 | M93: 133058 | N93: 271945 | O93: 989023 | P93: =IF(SUM(Q93:AB93)=SUM(AC93:AM93),SUM(Q93:AB93)," EROARE ART/CAP") -> 3788951 | Q93: 1113282 | R93: 783288 | S93: 14716 | T93: 0 | U93: 0 | V93: 0 | W93: 31353 | X93: 126037 | Y93: 44421 | Z93: 1504093 | AA93: 207699 | AB93: -35938 | AC93: 940509 | AD93: 0 | AE93: 675394 | AF93: 0 | AG93: 389229 | AH93: 126037 | AI93: 452352 | AJ93: 1048598 | AK93: 0 | AL93: 155042 | AM93: 1790
A94: 40 | B94: 6119 | C94: OCOLIS | D94: =E94+SUM(H94:O94) -> 3248272 | E94: 800191 | F94: 75980 | G94: 423100 | H94: 0 | I94: 300330 | J94: 0 | K94: 995000 | L94: 0 | M94: 270810 | N94: 881941 | P94: =IF(SUM(Q94:AB94)=SUM(AC94:AM94),SUM(Q94:AB94)," EROARE ART/CAP") -> 2529928 | Q94: 618642 | R94: 428942 | S94: 8384 | T94: 0 | U94: 0 | V94: 0 | W94: 713679 | X94: 14066 | Y94: 28500 | Z94: 226670 | AA94: 491189 | AB94: -144 | AC94: 631817 | AD94: 74250 | AE94: 230546 | AF94: 0 | AG94: 96864 | AH94: 102125 | AI94: 574277 | AJ94: 0 | AK94: 0 | AL94: 85691 | AM94: 734358
A95: 41 | B95: 6164 | C95: OHABA | D95: =E95+SUM(H95:O95) -> 2690967 | E95: 1125222 | F95: 86319 | G95: 404130 | H95: 0 | I95: 306785 | J95: 0 | K95: 971000 | L95: 0 | M95: 67943 | N95: 220017 | P95: =IF(SUM(Q95:AB95)=SUM(AC95:AM95),SUM(Q95:AB95)," EROARE ART/CAP") -> 2094241 | Q95: 489879 | R95: 1028187 | S95: 0 | T95: 0 | U95: 0 | V95: 0 | W95: 303263 | X95: 48572 | Y95: 60537 | Z95: 163803 | AA95: 0 | AB95: 0 | AC95: 763612 | AD95: 0 | AE95: 368184 | AF95: 0 | AG95: 299549 | AH95: 68474 | AI95: 127014 | AJ95: 0 | AK95: 0 | AL95: 467408
A96: 42 | B96: 6217 | C96: PIANU | D96: =E96+SUM(H96:O96) -> 5170887 | E96: 1620210 | F96: 328213 | G96: 476230 | H96: 0 | I96: 1801473 | J96: 0 | K96: 746000 | L96: 0 | M96: 621038 | N96: 382166 | P96: =IF(SUM(Q96:AB96)=SUM(AC96:AM96),SUM(Q96:AB96)," EROARE ART/CAP") -> 5861289 | Q96: 2008809 | R96: 1907996 | S96: 0 | T96: 0 | U96: 0 | V96: 205534 | W96: 498449 | X96: 245627 | Y96: 72280 | Z96: 922594 | AA96: 0 | AB96: 0 | AC96: 1295920 | AD96: 0 | AE96: 1784418 | AF96: 15620 | AG96: 355351 | AH96: 268464 | AI96: 1023709 | AJ96: 0 | AK96: 0 | AL96: 906797 | AM96: 211010
A97: 43 | B97: 6271 | C97: POIANA VADULUI | D97: =E97+SUM(H97:O97) -> 3064019 | E97: 675699 | F97: 95276 | G97: 408210 | H97: 0 | I97: 1380972 | J97: 0 | K97: 998000 | L97: 0 | M97: 6348 | N97: 0 | O97: 3000 | P97: =IF(SUM(Q97:AB97)=SUM(AC97:AM97),SUM(Q97:AB97)," EROARE ART/CAP") -> 2719726 | Q97: 1693682 | R97: 397627 | S97: 0 | T97: 0 | U97: 0 | V97: 0 | W97: 0 | X97: 95737 | Y97: 21995 | Z97: 510685 | AA97: 0 | AB97: 0 | AC97: 551337 | AD97: 0 | AE97: 982613 | AF97: 0 | AG97: 192212 | AH97: 560585 | AI97: 360341 | AJ97: 22761 | AK97: 0 | AL97: 22218 | AM97: 27659
A98: 44 | B98: 6397 | C98: PONOR | D98: =E98+SUM(H98:O98) -> 2306282 | E98: 563190 | F98: 28816 | G98: 344040 | H98: 0 | I98: 286736 | J98: 0 | K98: 837000 | L98: 0 | M98: 207976 | N98: 411380 | P98: =IF(SUM(Q98:AB98)=SUM(AC98:AM98),SUM(Q98:AB98)," EROARE ART/CAP") -> 1917509 | Q98: 562528 | R98: 403963 | S98: 0 | T98: 0 | U98: 0 | V98: 0 | W98: 494226 | X98: 41237 | Y98: 38000 | Z98: 380343 | AA98: 0 | AB98: -2788 | AC98: 479358 | AD98: 0 | AE98: 374502 | AF98: 164081 | AG98: 55129 | AH98: 85832 | AI98: 7231 | AJ98: 0 | AK98: 0 | AL98: 705896 | AM98: 45480
A99: 45 | B99: 6468 | C99: POSAGA | D99: =E99+SUM(H99:O99) -> 3241495 | E99: 655319 | F99: 81737 | G99: 370050 | H99: 0 | I99: 719425 | J99: 0 | K99: 896000 | L99: 0 | M99: 214599 | N99: 756152 | P99: =IF(SUM(Q99:AB99)=SUM(AC99:AM99),SUM(Q99:AB99)," EROARE ART/CAP") -> 2918838 | Q99: 966180 | R99: 414444 | S99: 5071 | T99: 0 | U99: 0 | V99: 0 | W99: 776317 | X99: 56614 | Y99: 55850 | Z99: 320540 | AA99: 323822 | AB99: 0 | AC99: 617261 | AD99: 2141 | AE99: 613279 | AF99: 3216 | AG99: 216733 | AH99: 191812 | AI99: 515796 | AJ99: 7160 | AK99: 0 | AL99: 741440 | AM99: 10000
A100: 46 | B100: 6547 | C100: RADESTI | D100: =E100+SUM(H100:O100) -> 3893068 | E100: 851307 | F100: 166005 | G100: 355130 | H100: 0 | I100: 689151 | J100: 950000 | K100: 791000 | L100: 0 | M100: 138360 | N100: 457760 | O100: 15490 | P100: =IF(SUM(Q100:AB100)=SUM(AC100:AM100),SUM(Q100:AB100)," EROARE ART/CAP") -> 3835751 | Q100: 986148 | R100: 494247 | S100: 1298 | T100: 0 | U100: 0 | V100: 0 | W100: 551177 | X100: 29576 | Y100: 21640 | Z100: 1658669 | AA100: 100674 | AB100: -7678 | AC100: 575146 | AD100: 651 | AE100: 675120 | AF100: 0 | AG100: 251261 | AH100: 65862 | AI100: 90107 | AJ100: 0 | AK100: 0 | AL100: 2161979 | AM100: 15625
A101: 47 | B101: 6592 | C101: RIMETEA | D101: =E101+SUM(H101:O101) -> 2276443 | E101: 890917 | F101: 87768 | G101: 358050 | H101: 0 | I101: 512531 | J101: 0 | K101: 864000 | L101: 0 | M101: 8995 | N101: 0 | P101: =IF(SUM(Q101:AB101)=SUM(AC101:AM101),SUM(Q101:AB101)," EROARE ART/CAP") -> 2225886 | Q101: 769805 | R101: 841453 | S101: 0 | T101: 0 | U101: 0 | V101: 0 | W101: 0 | X101: 40387 | Y101: 124000 | Z101: 450241 | AA101: 0 | AB101: 0 | AC101: 555541 | AD101: 0 | AE101: 694874 | AF101: 0 | AG101: 507256 | AH101: 93674 | AI101: 42010 | AJ101: 0 | AK101: 0 | AL101: 332531
A102: 48 | B102: 6627 | C102: RIMET | D102: =E102+SUM(H102:O102) -> 2343235 | E102: 660597 | F102: 99752 | G102: 433120 | H102: 0 | I102: 425000 | J102: 0 | K102: 1020000 | L102: 0 | M102: 28102 | N102: 209536 | P102: =IF(SUM(Q102:AB102)=SUM(AC102:AM102),SUM(Q102:AB102)," EROARE ART/CAP") -> 2451707 | Q102: 646174 | R102: 748071 | S102: 0 | T102: 0 | U102: 0 | V102: 0 | W102: 376346 | X102: 79058 | Y102: 68894 | Z102: 533176 | AA102: 0 | AB102: -12 | AC102: 922978 | AD102: 0 | AE102: 352305 | AF102: 0 | AG102: 36258 | AH102: 166057 | AI102: 230328 | AJ102: 0 | AK102: 0 | AL102: 682185 | AM102: 61596
A103: 49 | B103: 6761 | C103: ROSIA MONTANA | D103: =E103+SUM(H103:O103) -> 4646393 | E103: 2837590 | F103: 942550 | G103: 55350 | H103: 0 | I103: 1529455 | J103: 0 | K103: 187000 | L103: 0 | M103: 34848 | N103: 0 | O103: 57500 | P103: =IF(SUM(Q103:AB103)=SUM(AC103:AM103),SUM(Q103:AB103)," EROARE ART/CAP") -> 3350475 | Q103: 1890392 | R103: 1082096 | S103: 0 | T103: 0 | U103: 0 | V103: 0 | W103: 0 | X103: 247468 | Y103: 47000 | Z103: 85193 | AA103: 0 | AB103: -1674 | AC103: 815112 | AD103: 2866 | AE103: 1248649 | AF103: 16402 | AG103: 167819 | AH103: 463942 | AI103: 306659 | AJ103: 25516 | AK103: 0 | AL103: 291510 | AM103: 12000
...

Sheet 2
AK1: ANEXA nr. 24
B2: Judeţul ARAD
B3: Perioada: 31.12.2015
L5: SITUAŢIA PRIVIND EXECUŢIA VENITURILOR ŞI CHELTUIELILOR BUGETELOR LOCALE PE UNITĂŢI ADMINISTRATIV-TERITORIALE
AM7: - lei -
A9: DENUMIREA UNITĂŢILOR ADMINISTRATIV-TERITORIALE (în ordine alfabetică) | D9: VENITURI | E9: VENITURI PROPRII | H9: Sume defalcate din TVA pentru finanţarea cheltuielilor descentralizate la nivelul judeţelor | I9: Sume defalcate din TVA pentru finanţarea cheltuielilor descentralizate la nivelul comunelor, oraşelor, municipiilor, sectoarelor şi municipiului Bucureşti | J9: Sume defalcate din TVA pentru drumuri | K9: Sume defalcate din TVA pentru echilibrarea bugetelor locale | L9: Sume defalcate din TVA pentru finanţarea Programului de dezvoltare a infrastructurii şi a bazelor sportive din spaţiul rural | M9: Subvenţii | N9: Sume primite de la UE/alti donatori in contul platilor efectuate si prefinantari | O9: Alte venituri | P9: CHELTUIELI | Q9: d i n c a r e: pe titluri de cheltuieli | AC9: d i n c a r e: pe parti si capitole de cheltuieli
D10: TOTALE | F10: din care: | P10: TOTALE
D11: (col.2+5+...+11) | E11: TOTAL | F11: Cote defalcate din impozitul pe venit | G11: Sume alocate din cotele defalcate din impozitul pe venit pentru echilibrarea bugetelor locale | P11: (col.14+...+24 - 25) (col.26+...+34) | Q11: Cheltuieli de personal | R11: Bunuri şi servicii | S11: Dobânzi | T11: Subvenţii | U11: Transferuri între unităţi ale administraţiei publice | V11: Alte transferuri | W11: Proiecte cu finanţare din fonduri externe nerambursabile | X11: Asistenţă socială | Y11: Alte cheltuieli | Z11: Cheltuieli de capital | AA11: Operatiuni financiare | AB11: Plăţi efectuate în anii precedenţi şi recuperate în anul curent | AC11: Servicii publice generale | AD11: Apărare, ordine publică şi siguranţă naţională | AE11: Învăţământ | AF11: Sănătate | AG11: Cultură, recreere şi religie | AH11: Asigurări şi asistenţă socială | AI11: Servicii şi dezvoltare publică, locuinţe, mediu şi ape | AJ11: Protectia mediului | AK11: Combustibili şi energie | AL11: Transporturi | AM11: Alte cheltuieli
D12: 00.01.02 | E12: 48.02 | F12: 04.02.01 | G12: 04.02.04 | H12: 11.02.01 | I12: 11.02.02 | J12: 11.02.05 | K12: 11.02.06 | L12: 11.02.07 | M12: 42.02 | N12: 45.02+48.02 | P12: 50.02 | Q12: 10 | R12: 20 | S12: 30 | T12: 40 | U12: 51 | V12: 55 | W12: 56 | X12: 57 | Y12: 59 | Z12: 70 | AA12: 79 | AB12: 84 | AC12: 50.02 | AD12: 59.02 | AE12: 65.02 | AF12: 66.02 | AG12: 67.02 | AH12: 68.02 | AI12: 69.02 | AJ12: 74.02 | AK12: 81.02 | AL12: 84.02
A13: A | D13: 1 | E13: 2 | F13: 3 | G13: 4 | H13: 5 | I13: 6 | J13: 7 | K13: 8 | L13: 9 | M13: 10 | N13: 11 | O13: 12 | P13: 13 | Q13: 14 | R13: 15 | S13: 16 | T13: 17 | U13: 18 | V13: 19 | W13: 20 | X13: 21 | Y13: 22 | Z13: 23 | AA13: 24 | AB13: 25 | AC13: 26 | AD13: 27 | AE13: 28 | AF13: 29 | AG13: 30 | AH13: 31 | AI13: 32 | AJ13: 33 | AK13: 34 | AL13: 35 | AM13: 36
A14: TOTAL JUDEŢ (A+B+C+D) | D14: =E14+SUM(H14:O14) -> 1241554023 | E14: =SUM(E15,E16,E33,E54) -> 619259913 | F14: =SUM(F15,F16,F33,F54) -> 267332363 | G14: =SUM(G15,G16,G33,G54) -> 93314118 | H14: =SUM(H15,H16,H33,H54) -> 50529390 | I14: =SUM(I15,I16,I33,I54) -> 260826959 | J14: =SUM(J15,J16,J33,J54) -> 18190479 | K14: =SUM(K15,K16,K33,K54) -> 64882860 | L14: =SUM(L15,L16,L33,L54) -> 0 | ... O14: =SUM(O15,O16,O33,O54) -> 10109677 | P14: =IF(SUM(Q14:AB14)=SUM(AC14:AM14),SUM(Q14:AB14)," EROARE ART/CAP") -> 1206240392 | Q14: =Q15+Q16+Q33+Q54 -> 343785823 | R14: =R15+R16+R33+R54 -> 272796164 | S14: =S15+S16+S33+S54 -> 6365936 | T14: =T15+T16+T33+T54 -> 37603059 | U14: =U15+U16+U33+U54 -> 107185671 | V14: =V15+V16+V33+V54 -> 21396934 | W14: =W15+W16+W33+W54 -> 136314992 | X14: =X15+X16+X33+X54 -> 30350441 | ... AM14: =AM15+AM16+AM33+AM54 -> 5583532
A15: A. Consiliul judeţean | D15: =E15+SUM(H15:O15) -> 250238252 | E15: 93227866 | F15: 56745081 | G15: 24823911 | H15: 50529390 | I15: 0 | J15: 4769000 | K15: 16369000 | L15: 0 | M15: 69562889 | N15: 15742443 | O15: 37664 | P15: =IF(SUM(Q15:AB15)=SUM(AC15:AM15),SUM(Q15:AB15)," EROARE ART/CAP") -> 245932835 | Q15: 37424170 | R15: 31806442 | S15: 2775143 | T15: 2700000 | U15: 84519949 | V15: 7408217 | W15: 42191046 | X15: 8808917 | Y15: 5123677 | Z15: 18677155 | AA15: 6784380 | AB15: -2286261 | AC15: 77815587 | AD15: 1123192 | AE15: 27264160 | AF15: 6483019 | AG15: 16001892 | AH15: 85881785 | AI15: 7408217 | AJ15: 0 | AK15: 0 | AL15: 22776983 | AM15: 1178000
A16: B. Total municipii | D16: =E16+SUM(H16:O16) -> 398449936 | E16: =SUM(E18:E32) -> 279585701 | F16: =SUM(F18:F32) -> 142965654 | G16: =SUM(G18:G32) -> 3458091 | H16: =SUM(H18:H32) -> 0 | I16: =SUM(I18:I32) -> 108933111 | J16: =SUM(J18:J32) -> 0 | K16: =SUM(K18:K32) -> 1201000 | L16: =SUM(L18:L32) -> 0 | ... O16: =SUM(O18:O32) -> 629439 | P16: =IF(SUM(Q16:AB16)=SUM(AC16:AM16),SUM(Q16:AB16)," EROARE ART/CAP") -> 379651461 | Q16: =SUM(Q18:Q32) -> 118000474 | R16: =SUM(R18:R32) -> 111379311 | S16: =SUM(S18:S32) -> 2051236 | T16: =SUM(T18:T32) -> 34739363 | U16: =SUM(U18:U32) -> 13388855 | V16: =SUM(V18:V32) -> 10670598 | W16: =SUM(W18:W32) -> 15215085 | X16: =SUM(X18:X32) -> 8630104 | ... AM16: =SUM(AM18:AM32) -> 37389
A17: Nr crt | B17: Cod SIRUTA
A18: 1 | B18: 9262 | C18: Arad | D18: =E18+SUM(H18:O18) -> 398449936 | E18: 279585701 | F18: 142965654 | G18: 3458091 | H18: 0 | I18: 108933111 | J18: 0 | K18: 1201000 | L18: 0 | M18: 4455857 | N18: 3644828 | O18: 629439 | P18: =IF(SUM(Q18:AB18)=SUM(AC18:AM18),SUM(Q18:AB18)," EROARE ART/CAP") -> 379651461 | Q18: 118000474 | R18: 111379311 | S18: 2051236 | T18: 34739363 | U18: 13388855 | V18: 10670598 | W18: 15215085 | X18: 8630104 | Y18: 4863395 | Z18: 35533153 | AA18: 25482612 | AB18: -302725 | AC18: 34336918 | AD18: 6659555 | AE18: 116005608 | AF18: 4050821 | AG18: 47574290 | AH18: 23904594 | AI18: 20105067 | AJ18: 28004266 | AK18: 33647415 | AL18: 65325538 | AM18: 37389
A19: 2 | D19: =E19+SUM(H19:O19) -> 0 | P19: =IF(SUM(Q19:AB19)=SUM(AC19:AM19),SUM(Q19:AB19)," EROARE ART/CAP") -> 0
A20: 3 | D20: =E20+SUM(H20:O20) -> 0 | P20: =IF(SUM(Q20:AB20)=SUM(AC20:AM20),SUM(Q20:AB20)," EROARE ART/CAP") -> 0
A21: 4 | D21: =E21+SUM(H21:O21) -> 0 | P21: =IF(SUM(Q21:AB21)=SUM(AC21:AM21),SUM(Q21:AB21)," EROARE ART/CAP") -> 0
A22: 5 | D22: =E22+SUM(H22:O22) -> 0 | P22: =IF(SUM(Q22:AB22)=SUM(AC22:AM22),SUM(Q22:AB22)," EROARE ART/CAP") -> 0
A23: 6 | D23: =E23+SUM(H23:O23) -> 0 | P23: =IF(SUM(Q23:AB23)=SUM(AC23:AM23),SUM(Q23:AB23)," EROARE ART/CAP") -> 0
A24: 7 | D24: =E24+SUM(H24:O24) -> 0 | P24: =IF(SUM(Q24:AB24)=SUM(AC24:AM24),SUM(Q24:AB24)," EROARE ART/CAP") -> 0
A25: 8 | D25: =E25+SUM(H25:O25) -> 0 | P25: =IF(SUM(Q25:AB25)=SUM(AC25:AM25),SUM(Q25:AB25)," EROARE ART/CAP") -> 0
A26: 9 | D26: =E26+SUM(H26:O26) -> 0 | P26: =IF(SUM(Q26:AB26)=SUM(AC26:AM26),SUM(Q26:AB26)," EROARE ART/CAP") -> 0
A27: 10 | D27: =E27+SUM(H27:O27) -> 0 | P27: =IF(SUM(Q27:AB27)=SUM(AC27:AM27),SUM(Q27:AB27)," EROARE ART/CAP") -> 0
A28: 11 | D28: =E28+SUM(H28:O28) -> 0 | P28: =IF(SUM(Q28:AB28)=SUM(AC28:AM28),SUM(Q28:AB28)," EROARE ART/CAP") -> 0
A29: 12 | D29: =E29+SUM(H29:O29) -> 0 | P29: =IF(SUM(Q29:AB29)=SUM(AC29:AM29),SUM(Q29:AB29)," EROARE ART/CAP") -> 0
A30: 13 | D30: =E30+SUM(H30:O30) -> 0 | P30: =IF(SUM(Q30:AB30)=SUM(AC30:AM30),SUM(Q30:AB30)," EROARE ART/CAP") -> 0
... A32: 15 | D32: =E32+SUM(H32:O32) -> 0 | P32: =IF(SUM(Q32:AB32)=SUM(AC32:AM32),SUM(Q32:AB32)," EROARE ART/CAP") -> 0
A33: C. Total oraşe | D33: =E33+SUM(H33:O33) -> 203204621 | E33: =SUM(E34:E53) -> 93755209 | F33: =SUM(F34:F53) -> 43372619 | G33: =SUM(G34:G53) -> 6220896 | H33: =SUM(H34:H53) -> 0 | I33: =SUM(I34:I53) -> 54096658 | J33: =SUM(J34:J53) -> 1758000 | K33: =SUM(K34:K53) -> 9953250 | L33: =SUM(L34:L53) -> 0 | ... O33: =SUM(O34:O53) -> 4989120 | P33: =IF(SUM(Q33:AB33)=SUM(AC33:AM33),SUM(Q33:AB33)," EROARE ART/CAP") -> 202707487 | Q33: =SUM(Q34:Q53) -> 68096179 | R33: =SUM(R34:R53) -> 45388038 | S33: =SUM(S34:S53) -> 1264531 | T33: =SUM(T34:T53) -> 29696 | U33: =SUM(U34:U53) -> 4296755 | V33: =SUM(V34:V53) -> 221960 | W33: =SUM(W34:W53) -> 38495899 | X33: =SUM(X34:X53) -> 2819812 | ... AM33: =SUM(AM34:AM53) -> 1251857
A34: 1 | B34: 9459 | C34: Chişineu-Criş | D34: =E34+SUM(H34:O34) -> 25791131 | E34: 15116845 | F34: 8429210 | G34: 248935 | H34: 0 | I34: 6957858 | J34: 0 | K34: 86000 | L34: 0 | M34: 3368228 | N34: 0 | O34: 262200 | P34: =IF(SUM(Q34:AB34)=SUM(AC34:AM34),SUM(Q34:AB34)," EROARE ART/CAP") -> 23209985 | Q34: 7875746 | R34: 4466368 | S34: 0 | T34: 0 | U34: 0 | V34: 0 | W34: 0 | X34: 400328 | Y34: 808781 | Z34: 9658762 | AA34: 0 | AB34: 0 | AC34: 2538618 | AD34: 273004 | AE34: 6498682 | AF34: 100574 | AG34: 1514685 | AH34: 934313 | AI34: 3667252 | AJ34: 3280419 | AK34: 0 | AL34: 4389659 | AM34: 12779
A35: 2 | B35: 9495 | C35: Curtici | D35: =E35+SUM(H35:O35) -> 16907256 | E35: 12099010 | F35: 7239463 | G35: 329824 | H35: 0 | I35: 4320162 | J35: 0 | K35: 398000 | L35: 0 | M35: 90084 | N35: 0 | O35: 0 | P35: =IF(SUM(Q35:AB35)=SUM(AC35:AM35),SUM(Q35:AB35)," EROARE ART/CAP") -> 18486959 | Q35: 5683869 | R35: 5997203 | S35: 85882 | T35: 0 | U35: 386581 | V35: 0 | W35: 0 | X35: 294628 | Y35: 671860 | Z35: 5370876 | AA35: 120953 | AB35: -124893 | AC35: 3588145 | AD35: 0 | AE35: 4406881 | AF35: 55025 | AG35: 988426 | AH35: 655130 | AI35: 379760 | AJ35: 113652 | AK35: 0 | AL35: 7634008 | AM35: 665932
A36: 3 | B36: 9538 | C36: Ineu | D36: =E36+SUM(H36:O36) -> 28208310 | E36: 12051210 | F36: 7756015 | G36: 195949 | H36: 0 | I36: 8185198 | J36: 800000 | K36: 68000 | L36: 0 | M36: 2609713 | N36: 463412 | O36: 4030777 | P36: =IF(SUM(Q36:AB36)=SUM(AC36:AM36),SUM(Q36:AB36)," EROARE ART/CAP") -> 28199309 | Q36: 12640637 | R36: 7725651 | S36: 83665 | T36: 0 | U36: 1525200 | V36: 162440 | W36: 398622 | X36: 87881 | Y36: 214502 | Z36: 4508501 | AA36: 902779 | AB36: -50569 | AC36: 2783823 | AD36: 277684 | AE36: 11697560 | AF36: 827319 | AG36: 1311900 | AH36: 2207252 | AI36: 1700685 | AJ36: 886614 | AK36: 0 | AL36: 6506472 | AM36: 0
A37: 4 | B37: 9574 | C37: Lipova | D37: =E37+SUM(H37:O37) -> 35154163 | E37: 10476110 | F37: 4608224 | G37: 327848 | H37: 0 | I37: 6549541 | J37: 0 | K37: 654000 | L37: 0 | M37: 4574489 | N37: 12847523 | O37: 52500 | P37: =IF(SUM(Q37:AB37)=SUM(AC37:AM37),SUM(Q37:AB37)," EROARE ART/CAP") -> 36912450 | Q37: 8118962 | R37: 4265463 | S37: 46499 | T37: 29696 | U37: 358000 | V37: 0 | W37: 21928781 | X37: 505918 | Y37: 865000 | Z37: 461000 | AA37: 362958 | AB37: -29827 | AC37: 3693005 | AD37: 524665 | AE37: 6588693 | AF37: 459553 | AG37: 1118206 | AH37: 812287 | AI37: 639277 | AJ37: 261613 | AK37: 0 | AL37: 22267457 | AM37: 547694
A38: 5 | B38: 9627 | C38: Nădlac | D38: =E38+SUM(H38:O38) -> 21892776 | E38: 7477665 | F38: 1636202 | G38: 867387 | H38: 0 | I38: 4912566 | J38: 0 | K38: 1972000 | L38: 0 | M38: 644693 | N38: 6703088 | O38: 182764 | P38: =IF(SUM(Q38:AB38)=SUM(AC38:AM38),SUM(Q38:AB38)," EROARE ART/CAP") -> 20977093 | Q38: 6785816 | R38: 3304294 | S38: 162758 | T38: 0 | U38: 0 | V38: 59520 | W38: 8907095 | X38: 203367 | Y38: 365323 | Z38: 1233314 | AA38: 0 | AB38: -44394 | AC38: 9265657 | AD38: 565297 | AE38: 4962443 | AF38: 381439 | AG38: 756011 | AH38: 834501 | AI38: 617510 | AJ38: 865421 | AK38: 0 | AL38: 2728814 | AM38: 0
A39: 6 | B39: 9654 | C39: Pâncota | D39: =E39+SUM(H39:O39) -> 12631586 | E39: 7019074 | F39: 2572436 | G39: 1837489 | H39: 0 | I39: 3803545 | J39: 150000 | K39: 462000 | L39: 0 | M39: 254139 | N39: 942828 | O39: 0 | P39: =IF(SUM(Q39:AB39)=SUM(AC39:AM39),SUM(Q39:AB39)," EROARE ART/CAP") -> 12316766 | Q39: 4165855 | R39: 2551175 | S39: 115699 | T39: 0 | U39: 12000 | V39: 0 | W39: 1244419 | X39: 143438 | Y39: 1404000 | Z39: 2522654 | AA39: 157526 | AB39: 0 | AC39: 1356560 | AD39: 13938 | AE39: 3597210 | AF39: 29206 | AG39: 1671424 | AH39: 613235 | AI39: 4799747 | AJ39: 70421 | AK39: 0 | AL39: 139573 | AM39: 25452
A40: 7 | B40: 11584 | C40: Pecica | D40: =E40+SUM(H40:O40) -> 25327983 | E40: 13783834 | F40: 5037299 | G40: 937440 | H40: 0 | I40: 6344052 | J40: 268000 | K40: 2054000 | L40: 0 | M40: 207100 | N40: 2470885 | O40: 200112 | P40: =IF(SUM(Q40:AB40)=SUM(AC40:AM40),SUM(Q40:AB40)," EROARE ART/CAP") -> 25205551 | Q40: 8436674 | R40: 7894350 | S40: 143907 | T40: 0 | U40: 0 | V40: 0 | W40: 2705094 | X40: 313718 | Y40: 321125 | Z40: 4910674 | AA40: 500576 | AB40: -20567 | AC40: 3256818 | AD40: 532453 | AE40: 7162816 | AF40: 17457 | AG40: 1324195 | AH40: 1200534 | AI40: 4755963 | AJ40: 1150732 | AK40: 0 | AL40: 5804583 | AM40: 0
A41: 8 | B41: 12091 | C41: Sântana | D41: =E41+SUM(H41:O41) -> 20314251 | E41: 9096450 | F41: 3230457 | G41: 968336 | H41: 0 | I41: 7473508 | J41: 0 | K41: 2243000 | L41: 0 | M41: 821923 | N41: 613603 | O41: 65767 | P41: =IF(SUM(Q41:AB41)=SUM(AC41:AM41),SUM(Q41:AB41)," EROARE ART/CAP") -> 20422210 | Q41: 8427813 | R41: 5704580 | S41: 4913 | T41: 0 | U41: 0 | V41: 0 | W41: 1119704 | X41: 462801 | Y41: 678628 | Z41: 4012646 | AA41: 11125 | AB41: 0 | AC41: 3185369 | AD41: 109433 | AE41: 7378897 | AF41: 100205 | AG41: 1150141 | AH41: 1454596 | AI41: 1827417 | AJ41: 1023839 | AK41: 0 | AL41: 4192313 | AM41: 0
A42: 9 | B42: 9690 | C42: Sebiş | D42: =E42+SUM(H42:O42) -> 16977165 | E42: 6635011 | F42: 2863313 | G42: 507688 | H42: 0 | I42: 5550228 | J42: 540000 | K42: 2016250 | L42: 0 | M42: 610426 | N42: 1430250 | O42: 195000 | P42: =IF(SUM(Q42:AB42)=SUM(AC42:AM42),SUM(Q42:AB42)," EROARE ART/CAP") -> 16977164 | Q42: 5960807 | R42: 3478954 | S42: 621208 | T42: 0 | U42: 2014974 | V42: 0 | W42: 2192184 | X42: 407733 | Y42: 0 | Z42: 1244118 | AA42: 1259904 | AB42: -202718 | AC42: 2893410 | AD42: 37207 | AE42: 4598607 | AF42: 2602875 | AG42: 2610818 | AH42: 1032186 | AI42: 734298 | AJ42: 844216 | AK42: 0 | AL42: 1623547 | AM42: 0
A43: 10 | D43: 0 | P43: =IF(SUM(Q43:AB43)=SUM(AC43:AM43),SUM(Q43:AB43)," EROARE ART/CAP") -> 0
A44: 11 | D44: 0 | P44: =IF(SUM(Q44:AB44)=SUM(AC44:AM44),SUM(Q44:AB44)," EROARE ART/CAP") -> 0
A45: 12 | D45: 0 | P45: =IF(SUM(Q45:AB45)=SUM(AC45:AM45),SUM(Q45:AB45)," EROARE ART/CAP") -> 0
A46: 13 | D46: 0 | P46: =IF(SUM(Q46:AB46)=SUM(AC46:AM46),SUM(Q46:AB46)," EROARE ART/CAP") -> 0
A47: 14 | D47: 0 | P47: =IF(SUM(Q47:AB47)=SUM(AC47:AM47),SUM(Q47:AB47)," EROARE ART/CAP") -> 0
A48: 15 | D48: 0 | P48: =IF(SUM(Q48:AB48)=SUM(AC48:AM48),SUM(Q48:AB48)," EROARE ART/CAP") -> 0
A49: 16 | D49: 0 | P49: =IF(SUM(Q49:AB49)=SUM(AC49:AM49),SUM(Q49:AB49)," EROARE ART/CAP") -> 0
A50: 17 | D50: 0 | P50: =IF(SUM(Q50:AB50)=SUM(AC50:AM50),SUM(Q50:AB50)," EROARE ART/CAP") -> 0
A51: 18 | D51: 0 | P51: =IF(SUM(Q51:AB51)=SUM(AC51:AM51),SUM(Q51:AB51)," EROARE ART/CAP") -> 0
A52: 19 | D52: 0 | P52: =IF(SUM(Q52:AB52)=SUM(AC52:AM52),SUM(Q52:AB52)," EROARE ART/CAP") -> 0
A53: 20 | D53: 0 | P53: =IF(SUM(Q53:AB53)=SUM(AC53:AM53),SUM(Q53:AB53)," EROARE ART/CAP") -> 0
A54: D. Total comune | D54: =E54+SUM(H54:O54) -> 389661214 | E54: =SUM(E55:E143) -> 152691137 | F54: =SUM(F55:F143) -> 24249009 | G54: =SUM(G55:G143) -> 58811220 | H54: =SUM(H55:H143) -> 0 | I54: =SUM(I55:I143) -> 97797190 | J54: =SUM(J55:J143) -> 11663479 | K54: =SUM(K55:K143) -> 37359610 | L54: =SUM(L55:L143) -> 0 | ... O54: =SUM(O55:O143) -> 4453454 | P54: =IF(SUM(Q54:AB54)=SUM(AC54:AM54),SUM(Q54:AB54)," EROARE ART/CAP") -> 377948609 | Q54: =SUM(Q55:Q143) -> 120265000 | R54: =SUM(R55:R143) -> 84222373 | S54: =SUM(S55:S143) -> 275026 | T54: =SUM(T55:T143) -> 134000 | U54: =SUM(U55:U143) -> 4980112 | V54: =SUM(V55:V143) -> 3096159 | W54: =SUM(W55:W143) -> 40412962 | X54: =SUM(X55:X143) -> 10091608 | ... AM54: =SUM(AM55:AM143) -> 3116286
A55: 1 | B55: 9743 | C55: Almaş | D55: =E55+SUM(H55:O55) -> 5557516 | E55: 2643469 | F55: 211089 | G55: 732701 | H55: 0 | I55: 1680367 | J55: 103100 | K55: 540000 | L55: 0 | M55: 188835 | N55: 401745 | O55: 0 | P55: =IF(SUM(Q55:AB55)=SUM(AC55:AM55),SUM(Q55:AB55)," EROARE ART/CAP") -> 5006961 | Q55: 1899764 | R55: 850310 | S55: 0 | T55: 0 | U55: 0 | V55: 0 | W55: 0 | X55: 242346 | Y55: 65962 | Z55: 1948579 | AA55: 0 | AB55: 0 | AC55: 531481 | AD55: 38959 | AE55: 1098366 | AF55: 0 | AG55: 134054 | AH55: 645923 | AI55: 212731 | AJ55: 203427 | AK55: 0 | AL55: 2125728 | AM55: 16292
A56: 2 | B56: 9798 | C56: Apateu | D56: =E56+SUM(H56:O56) -> 5314459 | E56: 2150884 | F56: 130009 | G56: 1050576 | H56: 0 | I56: 1396000 | J56: 149998 | K56: 681000 | L56: 0 | M56: 936577 | N56: 0 | O56: 0 | P56: =IF(SUM(Q56:AB56)=SUM(AC56:AM56),SUM(Q56:AB56)," EROARE ART/CAP") -> 5283946 | Q56: 1717422 | R56: 1541525 | S56: 0 | T56: 0 | U56: 0 | V56: 0 | W56: 0 | X56: 148337 | Y56: 0 | Z56: 1876662 | AA56: 0 | AB56: 0 | AC56: 809626 | AD56: 0 | AE56: 1153099 | AF56: 0 | AG56: 174818 | AH56: 327028 | AI56: 485061 | AJ56: 273000 | AK56: 0 | AL56: 1862854 | AM56: 198460
A57: 3 | B57: 9832 | C57: Archiş | D57: =E57+SUM(H57:O57) -> 2918043 | E57: 1604348 | F57: 140506 | G57: 1260669 | H57: 0 | I57: 1101287 | J57: 150000 | K57: 62000 | L57: 0 | M57: 408 | N57: 0 | O57: 0 | P57: =IF(SUM(Q57:AB57)=SUM(AC57:AM57),SUM(Q57:AB57)," EROARE ART/CAP") -> 3872998 | Q57: 1796151 | R57: 1103219 | S57: 0 | T57: 0 | U57: 0 | V57: 0 | W57: 955000 | X57: 18628 | Y57: 0 | Z57: 0 | AA57: 0 | AB57: 0 | AC57: 721247 | AD57: 43572 | AE57: 878342 | AF57: 11000 | AG57: 147261 | AH57: 421476 | AI57: 403105 | AJ57: 0 | AK57: 0 | AL57: 1246995 | AM57: 0
A58: 4 | B58: 9887 | C58: Bata | D58: =E58+SUM(H58:O58) -> 2813192 | E58: 1745390 | F58: 178628 | G58: 1203684 | H58: 0 | I58: 750367 | J58: 199776 | K58: 95000 | L58: 0 | M58: 13909 | N58: 0 | O58: 8750 | P58: =IF(SUM(Q58:AB58)=SUM(AC58:AM58),SUM(Q58:AB58)," EROARE ART/CAP") -> 2762710 | Q58: 1042099 | R58: 768371 | S58: 0 | T58: 0 | U58: 0 | V58: 0 | W58: 0 | X58: 36321 | Y58: 0 | Z58: 915919 | AA58: 0 | AB58: 0 | AC58: 523799 | AD58: 931 | AE58: 967648 | AF58: 0 | AG58: 76104 | AH58: 91940 | AI58: 186692 | AJ58: 0 | AK58: 0 | AL58: 915596 | AM58: 0
A59: 5 | B59: 9930 | C59: Beliu | D59: =E59+SUM(H59:O59) -> 9512323 | E59: 2088580 | F59: 426598 | G59: 855630 | H59: 0 | I59: 2027117 | J59: 380000 | K59: 901000 | L59: 0 | M59: 423059 | N59: 3592567 | O59: 100000 | P59: =IF(SUM(Q59:AB59)=SUM(AC59:AM59),SUM(Q59:AB59)," EROARE ART/CAP") -> 5691175 | Q59: 2343362 | R59: 1086777 | S59: 0 | T59: 98000 | U59: 1056916 | V59: 0 | W59: 406973 | X59: 145422 | Y59: 45000 | Z59: 509362 | AA59: 0 | AB59: -637 | AC59: 986498 | AD59: 18399 | AE59: 1666961 | AF59: 0 | AG59: 135365 | AH59: 445843 | AI59: 1211554 | AJ59: 192001 | AK59: 0 | AL59: 1034554 | AM59: 0
A60: 6 | B60: 10006 | C60: Birchiş | D60: =E60+SUM(H60:O60) -> 3749899 | E60: 1879926 | F60: 162036 | G60: 971712 | H60: 0 | I60: 1110185 | J60: 79740 | K60: 234000 | L60: 0 | M60: 446048 | N60: 0 | O60: 0 | P60: =IF(SUM(Q60:AB60)=SUM(AC60:AM60),SUM(Q60:AB60)," EROARE ART/CAP") -> 3949696 | Q60: 1267729 | R60: 744079 | S60: 0 | T60: 0 | U60: 0 | V60: 55100 | W60: 0 | X60: 73085 | Y60: 0 | Z60: 1809703 | AA60: 0 | AB60: 0 | AC60: 604650 | AD60: 0 | AE60: 1092690 | AF60: 0 | AG60: 78538 | AH60: 89570 | AI60: 130069 | AJ60: 0 | AK60: 0 | AL60: 1925281 | AM60: 28898
A61: 7 | B61: 10051 | C61: Bârsa | D61: =E61+SUM(H61:O61) -> 5741227 | E61: 1790405 | F61: 77014 | G61: 1184688 | H61: 0 | I61: 983671 | J61: 0 | K61: 193000 | L61: 0 | M61: 2534543 | N61: 188308 | O61: 51300 | P61: =IF(SUM(Q61:AB61)=SUM(AC61:AM61),SUM(Q61:AB61)," EROARE ART/CAP") -> 6493522 | Q61: 1266333 | R61: 567837 | S61: 0 | T61: 0 | U61: 0 | V61: 159813 | W61: 228978 | X61: 111998 | Y61: 5000 | Z61: 4153563 | AA61: 0 | AB61: 0 | AC61: 862646 | AD61: 3738 | AE61: 750691 | AF61: 0 | AG61: 241075 | AH61: 331880 | AI61: 759615 | AJ61: 55513 | AK61: 0 | AL61: 3481676 | AM61: 6688
A62: 8 | B62: 10104 | C62: Bârzava | D62: =E62+SUM(H62:O62) -> 4227772 | E62: 1986604 | F62: 442339 | G62: 577818 | H62: 0 | I62: 1359301 | J62: 188319 | K62: 279000 | L62: 0 | M62: 414548 | N62: 0 | O62: 0 | P62: =IF(SUM(Q62:AB62)=SUM(AC62:AM62),SUM(Q62:AB62)," EROARE ART/CAP") -> 4327500 | Q62: 1685541 | R62: 1227086 | S62: 0 | T62: 0 | U62: 0 | V62: 98902 | W62: 0 | X62: 147891 | Y62: 46921 | Z62: 1121159 | AA62: 0 | AB62: 0 | AC62: 949425 | AD62: 0 | AE62: 1080897 | AF62: 0 | AG62: 422879 | AH62: 398583 | AI62: 201112 | AJ62: 76507 | AK62: 0 | AL62: 1185616 | AM62: 12481
A63: 9 | B63: 10195 | C63: Bocsig | D63: =E63+SUM(H63:O63) -> 7725809 | E63: 2056651 | F63: 150415 | G63: 897616 | H63: 0 | I63: 1349560 | J63: 0 | K63: 724000 | L63: 0 | M63: 2987434 | N63: 558164 | O63: 50000 | P63: =IF(SUM(Q63:AB63)=SUM(AC63:AM63),SUM(Q63:AB63)," EROARE ART/CAP") -> 7594612 | Q63: 1978175 | R63: 803850 | S63: 27000 | T63: 0 | U63: 3007700 | V63: 0 | W63: 282571 | X63: 62470 | Y63: 20000 | Z63: 1229054 | AA63: 233647 | AB63: -49855 | AC63: 826350 | AD63: 69509 | AE63: 1174673 | AF63: 51708 | AG63: 120991 | AH63: 376382 | AI63: 352884 | AJ63: 135910 | AK63: 0 | AL63: 4486205 | AM63: 0
A64: 10 | B64: 10239 | C64: Brazii | D64: =E64+SUM(H64:O64) -> 3923715 | E64: 1731892 | F64: 86898 | G64: 1476612 | H64: 0 | I64: 1139481 | J64: 230000 | K64: 141000 | L64: 0 | M64: 386202 | N64: 295140 | O64: 0 | P64: =IF(SUM(Q64:AB64)=SUM(AC64:AM64),SUM(Q64:AB64)," EROARE ART/CAP") -> 4185164 | Q64: 1514487 | R64: 975923 | S64: 0 | T64: 0 | U64: 0 | V64: 204000 | W64: 425330 | X64: 60213 | Y64: 0 | Z64: 1005211 | AA64: 0 | AB64: 0 | AC64: 867689 | AD64: 0 | AE64: 900860 | AF64: 0 | AG64: 431379 | AH64: 304456 | AI64: 81965 | AJ64: 57355 | AK64: 0 | AL64: 1369872 | AM64: 171588
A65: 11 | B65: 10293 | C65: Buteni | D65: =E65+SUM(H65:O65) -> 5078597 | E65: 1787709 | F65: 307245 | G65: 665800 | H65: 0 | I65: 2026760 | J65: 0 | K65: 480000 | L65: 0 | M65: 147887 | N65: 219315 | O65: 416926 | P65: =IF(SUM(Q65:AB65)=SUM(AC65:AM65),SUM(Q65:AB65)," EROARE ART/CAP") -> 4967804 | Q65: 2015565 | R65: 948524 | S65: 20269 | T65: 0 | U65: 74645 | V65: 0 | W65: 79014 | X65: 626718 | Y65: 21000 | Z65: 872347 | AA65: 309722 | AB65: 0 | AC65: 908416 | AD65: 65153 | AE65: 1159092 | AF65: 0 | AG65: 239736 | AH65: 962471 | AI65: 456070 | AJ65: 749430 | AK65: 0 | AL65: 427436 | AM65: 0
A66: 12 | B66: 10346 | C66: Cărand | D66: =E66+SUM(H66:O66) -> 2533946 | E66: 1628089 | F66: 58564 | G66: 1379637 | H66: 0 | I66: 820671 | J66: 0 | K66: 72000 | L66: 0 | M66: 13186 | N66: 0 | O66: 0 | P66: =IF(SUM(Q66:AB66)=SUM(AC66:AM66),SUM(Q66:AB66)," EROARE ART/CAP") -> 2610815 | Q66: 1121506 | R66: 683813 | S66: 0 | T66: 0 | U66: 0 | V66: 90812 | W66: 0 | X66: 104977 | Y66: 5000 | Z66: 604707 | AA66: 0 | AB66: 0 | AC66: 553129 | AD66: 22701 | AE66: 795544 | AF66: 0 | AG66: 27837 | AH66: 202112 | AI66: 125737 | AJ66: 43722 | AK66: 0 | AL66: 840033 | AM66: 0
... A122: 68 | B122: 12876 | C122: Zimandul Nou | D122: =E122+SUM(H122:O122) -> 9818771 | E122: 5073239 | F122: 2140757 | G122: 392760 | H122: 0 | I122: 1518870 | J122: 0 | K122: 879000 | L122: 0 | M122: 2347662 | N122: 0 | O122: 0 | P122: =IF(SUM(Q122:AB122)=SUM(AC122:AM122),SUM(Q122:AB122)," EROARE ART/CAP") -> 9369569 | Q122: 1944446 | R122: 1868743 | S122: 0 | T122: 0 | U122: 0 | V122: 0 | W122: 103555 | X122: 245475 | Y122: 55743 | Z122: 5193196 | AA122: 0 | AB122: -41589 | AC122: 1413232 | AD122: 5306 | AE122: 1361314 | AF122: 0 | AG122: 192553 | AH122: 458862 | AI122: 1140833 | AJ122: 3126034 | AK122: 0 | AL122: 1671435 | AM122: 0
A123: 69 | D123: =E123+SUM(H123:O123) -> 0 | P123: =IF(SUM(Q123:AB123)=SUM(AC123:AM123),SUM(Q123:AB123)," EROARE ART/CAP") -> 0
A124: 70 | D124: =E124+SUM(H124:O124) -> 0 | P124: =IF(SUM(Q124:AB124)=SUM(AC124:AM124),SUM(Q124:AB124)," EROARE ART/CAP") -> 0
A125: 71 | D125: =E125+SUM(H125:O125) -> 0 | P125: =IF(SUM(Q125:AB125)=SUM(AC125:AM125),SUM(Q125:AB125)," EROARE ART/CAP") -> 0
A126: 72 | D126: =E126+SUM(H126:O126) -> 0 | P126: =IF(SUM(Q126:AB126)=SUM(AC126:AM126),SUM(Q126:AB126)," EROARE ART/CAP") -> 0
A127: 73 | D127: =E127+SUM(H127:O127) -> 0 | P127: =IF(SUM(Q127:AB127)=SUM(AC127:AM127),SUM(Q127:AB127)," EROARE ART/CAP") -> 0
A128: 74 | D128: =E128+SUM(H128:O128) -> 0 | P128: =IF(SUM(Q128:AB128)=SUM(AC128:AM128),SUM(Q128:AB128)," EROARE ART/CAP") -> 0
A129: 75 | D129: =E129+SUM(H129:O129) -> 0 | P129: =IF(SUM(Q129:AB129)=SUM(AC129:AM129),SUM(Q129:AB129)," EROARE ART/CAP") -> 0
A130: 76 | D130: =E130+SUM(H130:O130) -> 0 | P130: =IF(SUM(Q130:AB130)=SUM(AC130:AM130),SUM(Q130:AB130)," EROARE ART/CAP") -> 0
A131: 77 | D131: =E131+SUM(H131:O131) -> 0 | P131: =IF(SUM(Q131:AB131)=SUM(AC131:AM131),SUM(Q131:AB131)," EROARE ART/CAP") -> 0
A132: 78 | D132: =E132+SUM(H132:O132) -> 0 | P132: =IF(SUM(Q132:AB132)=SUM(AC132:AM132),SUM(Q132:AB132)," EROARE ART/CAP") -> 0
A133: 79 | D133: =E133+SUM(H133:O133) -> 0 | P133: =IF(SUM(Q133:AB133)=SUM(AC133:AM133),SUM(Q133:AB133)," EROARE ART/CAP") -> 0
A134: 80 | D134: =E134+SUM(H134:O134) -> 0 | P134: =IF(SUM(Q134:AB134)=SUM(AC134:AM134),SUM(Q134:AB134)," EROARE ART/CAP") -> 0
... A143: 89 | D143: =E143+SUM(H143:O143) -> 0 | P143: =IF(SUM(Q143:AB143)=SUM(AC143:AM143),SUM(Q143:AB143)," EROARE ART/CAP") -> 0

Sheet 3
AK1: ANEXA nr. 24
B2: Judeţul ARGES
B3: Perioada: 31.12.2015
L5: SITUAŢIA PRIVIND EXECUŢIA VENITURILOR ŞI CHELTUIELILOR BUGETELOR LOCALE PE UNITĂŢI ADMINISTRATIV-TERITORIALE
AM7: - lei -
A9: DENUMIREA UNITĂŢILOR ADMINISTRATIV-TERITORIALE (în ordine alfabetică) | D9: VENITURI | E9: VENITURI PROPRII | H9: Sume defalcate din TVA pentru finanţarea cheltuielilor descentralizate la nivelul judeţelor | I9: Sume defalcate din TVA pentru finanţarea cheltuielilor descentralizate la nivelul comunelor, oraşelor, municipiilor, sectoarelor şi municipiului Bucureşti | J9: Sume defalcate din TVA pentru drumuri | K9: Sume defalcate din TVA pentru echilibrarea bugetelor locale | L9: Sume defalcate din TVA pentru finanţarea Programului de dezvoltare a infrastructurii şi a bazelor sportive din spaţiul rural | M9: Subvenţii | N9: Sume primite de la UE/alti donatori in contul platilor efectuate si prefinantari | O9: Alte venituri | P9: CHELTUIELI | Q9: d i n c a r e: pe titluri de cheltuieli | AC9: d i n c a r e: pe parti si capitole de cheltuieli
D10: TOTALE | F10: din care: | P10: TOTALE
D11: (col.2+5+...+11) | E11: TOTAL | F11: Cote defalcate din impozitul pe venit | G11: Sume alocate din cotele defalcate din impozitul pe venit pentru echilibrarea bugetelor locale | P11: (col.14+...+24 - 25) (col.26+...+34) | Q11: Cheltuieli de personal | R11: Bunuri şi servicii | S11: Dobânzi | T11: Subvenţii | U11: Transferuri între unităţi ale administraţiei publice | V11: Alte transferuri | W11: Proiecte cu finanţare din fonduri externe nerambursabile | X11: Asistenţă socială | Y11: Alte cheltuieli | Z11: Cheltuieli de capital | AA11: Operatiuni financiare | AB11: Plăţi efectuate în anii precedenţi şi recuperate în anul curent | AC11: Servicii publice generale | AD11: Apărare, ordine publică şi siguranţă naţională | AE11: Învăţământ | AF11: Sănătate | AG11: Cultură, recreere şi religie | AH11: Asigurări şi asistenţă socială | AI11: Servicii şi dezvoltare publică, locuinţe, mediu şi ape | AJ11: Protectia mediului | AK11: Combustibili şi energie | AL11: Transporturi | AM11: Alte cheltuieli
D12: 00.01.02 | E12: 48.02 | F12: 04.02.01 | G12: 04.02.04 | H12: 11.02.01 | I12: 11.02.02 | J12: 11.02.05 | K12: 11.02.06 | L12: 11.02.07 | M12: 42.02 | N12: 45.02+48.02 | P12: 50.02 | Q12: 10 | R12: 20 | S12: 30 | T12: 40 | U12: 51 | V12: 55 | W12: 56 | X12: 57 | Y12: 59 | Z12: 70 | AA12: 79 | AB12: 84 | AC12: 50.02 | AD12: 59.02 | AE12: 65.02 | AF12: 66.02 | AG12: 67.02 | AH12: 68.02 | AI12: 69.02 | AJ12: 74.02 | AK12: 81.02 | AL12: 84.02
A13: A | D13: 1 | E13: 2 | F13: 3 | G13: 4 | H13: 5 | I13: 6 | J13: 7 | K13: 8 | L13: 9 | M13: 10 | N13: 11 | O13: 12 | P13: 13 | Q13: 14 | R13: 15 | S13: 16 | T13: 17 | U13: 18 | V13: 19 | W13: 20 | X13: 21 | Y13: 22 | Z13: 23 | AA13: 24 | AB13: 25 | AC13: 26 | AD13: 27 | AE13: 28 | AF13: 29 | AG13: 30 | AH13: 31 | AI13: 32 | AJ13: 33 | AK13: 34 | AL13: 35 | AM13: 36
A14: TOTAL JUDEŢ (A+B+C+D) | D14: =E14+SUM(H14:O14) -> 1751840131 | E14: =SUM(E15,E16,E33,E54) -> 757702615 | F14: =SUM(F15,F16,F33,F54) -> 377996666 | G14: =SUM(G15,G16,G33,G54) -> 131942244 | H14: =SUM(H15,H16,H33,H54) -> 71929898 | I14: =SUM(I15,I16,I33,I54) -> 512264612 | J14: =SUM(J15,J16,J33,J54) -> 20105655 | K14: =SUM(K15,K16,K33,K54) -> 70033300 | L14: =SUM(L15,L16,L33,L54) -> 0 | ... O14: =SUM(O15,O16,O33,O54) -> 11442965 | P14: =IF(SUM(Q14:AB14)=SUM(AC14:AM14),SUM(Q14:AB14)," EROARE ART/CAP") -> 1687518160 | Q14: =Q15+Q16+Q33+Q54 -> 620947653 | R14: =R15+R16+R33+R54 -> 299152244 | S14: =S15+S16+S33+S54 -> 2693485 | T14: =T15+T16+T33+T54 -> 41614616 | U14: =U15+U16+U33+U54 -> 68753585 | V14: =V15+V16+V33+V54 -> 5282593 | W14: =W15+W16+W33+W54 -> 223772308 | X14: =X15+X16+X33+X54 -> 140666502 | ... AM14: =AM15+AM16+AM33+AM54 -> 13944551
A15: A. Consiliul judeţean | D15: =E15+SUM(H15:O15) -> 339749699 | E15: 127803807 | F15: 80235147 | G15: 37286295 | H15: 71929898 | I15: 0 | J15: 2526000 | K15: 21464830 | L15: 0 | M15: 104020574 | N15: 11981490 | O15: 23100 | P15: =IF(SUM(Q15:AB15)=SUM(AC15:AM15),SUM(Q15:AB15)," EROARE ART/CAP") -> 347222160 | Q15: 54721850 | R15: 37237112 | S15: 1416065 | T15: 0 | U15: 47519921 | V15: 729806 | W15: 66292291 | X15: 103649775 | Y15: 6236260 | Z15: 21092364 | AA15: 8624704 | AB15: -297988 | AC15: 29754831 | AD15: 1231344 | AE15: 30943157 | AF15: 14862103 | AG15: 28615695 | AH15: 150416662 | AI15: 1475748 | AJ15: 51605812 | AK15: 0 | AL15: 29980195 | AM15: 8336613
A16: B. Total municipii | D16: =E16+SUM(H16:O16) -> 612535493 | E16: =SUM(E18:E32) -> 270776642 | F16: =SUM(F18:F32) -> 157481340 | G16: =SUM(G18:G32) -> 5318899 | H16: =SUM(H18:H32) -> 0 | I16: =SUM(I18:I32) -> 253843165 | J16: =SUM(J18:J32) -> 200000 | K16: =SUM(K18:K32) -> 4231310 | L16: =SUM(L18:L32) -> 0 | ... O16: =SUM(O18:O32) -> 1420326 | P16: =IF(SUM(Q16:AB16)=SUM(AC16:AM16),SUM(Q16:AB16)," EROARE ART/CAP") -> 592616819 | Q16: =SUM(Q18:Q32) -> 265551381 | R16: =SUM(R18:R32) -> 112784619 | S16: =SUM(S18:S32) -> 250435 | T16: =SUM(T18:T32) -> 41372977 | U16: =SUM(U18:U32) -> 14410984 | V16: =SUM(V18:V32) -> 3012272 | W16: =SUM(W18:W32) -> 96067305 | X16: =SUM(X18:X32) -> 13413199 | ... AM16: =SUM(AM18:AM32) -> 551667
A17: Nr crt | B17: Cod SIRUTA
A18: 1 | B18: 13169 | C18: Municipiul Pitesti | D18: =E18+SUM(H18:O18) -> 456560609 | E18: 217584871 | F18: 128246604 | G18: 3057245 | H18: 0 | I18: 169761581 | J18: 0 | K18: 1128610 | L18: 0 | M18: 21033128 | N18: 47048419 | O18: 4000 | P18: =IF(SUM(Q18:AB18)=SUM(AC18:AM18),SUM(Q18:AB18)," EROARE ART/CAP") -> 445650542 | Q18: 177909004 | R18: 90351983 | S18: 67281 | T18: 41372977 | U18: 9366546 | V18: 2567217 | W18: 80665416 | X18: 9992641 | Y18: 1527794 | Z18: 30770357 | AA18: 1555556 | AB18: -496230 | AC18: 18369641 | AD18: 7536370 | AE18: 183157132 | AF18: 2865731 | AG18: 31381377 | AH18: 17529540 | AI18: 81179323 | AJ18: 12074337 | AK18: 33672062 | AL18: 57348879 | AM18: 536150
A19: 2 | B19: 13490 | C19: Municipiul Campulung | D19: =E19+SUM(H19:O19) -> 73402414 | E19: 26678722 | F19: 13951895 | G19: 1496420 | H19: 0 | I19: 39928113 | J19: 200000 | K19: 2444720 | L19: 0 | M19: 2279930 | N19: 1741001 | O19: 129928 | P19: =IF(SUM(Q19:AB19)=SUM(AC19:AM19),SUM(Q19:AB19)," EROARE ART/CAP") -> 66527743 | Q19: 41538245 | R19: 10816703 | S19: 183154 | T19: 0 | U19: 2627930 | V19: 408927 | W19: 1590046 | X19: 1915963 | Y19: 349183 | Z19: 6969614 | AA19: 250800 | AB19: -122822 | AC19: 3984887 | AD19: 847995 | AE19: 42502386 | AF19: 2146418 | AG19: 3291408 | AH19: 2923106 | AI19: 1815065 | AJ19: 1278342 | AK19: 0 | AL19: 7722619 | AM19: 15517
A20: 3 | B20: 13622 | C20: Municipiul Curtea de Arges | D20: =E20+SUM(H20:O20) -> 82572470 | E20: 26513049 | F20: 15282841 | G20: 765234 | H20: 0 | I20: 44153471 | J20: 0 | K20: 657980 | L20: 0 | M20: 3657732 | N20: 6303840 | O20: 1286398 | P20: =IF(SUM(Q20:AB20)=SUM(AC20:AM20),SUM(Q20:AB20)," EROARE ART/CAP") -> 80438534 | Q20: 46104132 | R20: 11615933 | S20: 0 | T20: 0 | U20: 2416508 | V20: 36128 | W20: 13811843 | X20: 1504595 | Y20: 14222 | Z20: 4992892 | AA20: 0 | AB20: -57719 | AC20: 3121064 | AD20: 54482 | AE20: 43810935 | AF20: 1184950 | AG20: 2799104 | AH20: 3181072 | AI20: 19892977 | AJ20: 1732268 | AK20: 0 | AL20: 4661682 | AM20: 0
A21: 4 | D21: =E21+SUM(H21:O21) -> 0 | P21: =IF(SUM(Q21:AB21)=SUM(AC21:AM21),SUM(Q21:AB21)," EROARE ART/CAP") -> 0
A22: 5 | D22: =E22+SUM(H22:O22) -> 0 | P22: =IF(SUM(Q22:AB22)=SUM(AC22:AM22),SUM(Q22:AB22)," EROARE ART/CAP") -> 0
A23: 6 | D23: =E23+SUM(H23:O23) -> 0 | P23: =IF(SUM(Q23:AB23)=SUM(AC23:AM23),SUM(Q23:AB23)," EROARE ART/CAP") -> 0
A24: 7 | D24: =E24+SUM(H24:O24) -> 0 | P24: =IF(SUM(Q24:AB24)=SUM(AC24:AM24),SUM(Q24:AB24)," EROARE ART/CAP") -> 0
A25: 8 | D25: =E25+SUM(H25:O25) -> 0 | P25: =IF(SUM(Q25:AB25)=SUM(AC25:AM25),SUM(Q25:AB25)," EROARE ART/CAP") -> 0
A26: 9 | D26: =E26+SUM(H26:O26) -> 0 | P26: =IF(SUM(Q26:AB26)=SUM(AC26:AM26),SUM(Q26:AB26)," EROARE ART/CAP") -> 0
A27: 10 | D27: =E27+SUM(H27:O27) -> 0 | P27: =IF(SUM(Q27:AB27)=SUM(AC27:AM27),SUM(Q27:AB27)," EROARE ART/CAP") -> 0
A28: 11 | D28: =E28+SUM(H28:O28) -> 0 | P28: =IF(SUM(Q28:AB28)=SUM(AC28:AM28),SUM(Q28:AB28)," EROARE ART/CAP") -> 0
A29: 12 | D29: =E29+SUM(H29:O29) -> 0 | P29: =IF(SUM(Q29:AB29)=SUM(AC29:AM29),SUM(Q29:AB29)," EROARE ART/CAP") -> 0
A30: 13 | D30: =E30+SUM(H30:O30) -> 0 | P30: =IF(SUM(Q30:AB30)=SUM(AC30:AM30),SUM(Q30:AB30)," EROARE ART/CAP") -> 0
A31: 14 | D31: =E31+SUM(H31:O31) -> 0 | P31: =IF(SUM(Q31:AB31)=SUM(AC31:AM31),SUM(Q31:AB31)," EROARE ART/CAP") -> 0
A32: 15 | D32: =E32+SUM(H32:O32) -> 0 | P32: =IF(SUM(Q32:AB32)=SUM(AC32:AM32),SUM(Q32:AB32)," EROARE ART/CAP") -> 0
A33: C. Total oraşe | D33: =E33+SUM(H33:O33) -> 187111937 | E33: =SUM(E34:E53) -> 123892970 | F33: =SUM(F34:F53) -> 78758560 | G33: =SUM(G34:G53) -> 3268132 | H33: =SUM(H34:H53) -> 0 | I33: =SUM(I34:I53) -> 52867760 | J33: =SUM(J34:J53) -> 0 | K33: =SUM(K34:K53) -> 2779280 | L33: =SUM(L34:L53) -> 0 | ... O33: =SUM(O34:O53) -> 112095 | P33: =IF(SUM(Q33:AB33)=SUM(AC33:AM33),SUM(Q33:AB33)," EROARE ART/CAP") -> 166689953 | Q33: =SUM(Q34:Q53) -> 58735559 | R33: =SUM(R34:R53) -> 42348577 | S33: =SUM(S34:S53) -> 95394 | T33: =SUM(T34:T53) -> 0 | U33: =SUM(U34:U53) -> 5649638 | V33: =SUM(V34:V53) -> 223610 | W33: =SUM(W34:W53) -> 10411372 | X33: =SUM(X34:X53) -> 2554628 | ... AM33: =SUM(AM34:AM53) -> 840018
A34: 1 | B34: 13301 | C34: Orasul Mioveni | D34: =E34+SUM(H34:O34) -> 120443256 | E34: 94989066 | F34: 65036485 | G34: 779881 | H34: 0 | I34: 24124000 | J34: 0 | K34: 281220 | L34: 0 | M34: 832542 | N34: 128135 | O34: 88293 | P34: =IF(SUM(Q34:AB34)=SUM(AC34:AM34),SUM(Q34:AB34)," EROARE ART/CAP") -> 101313860 | Q34: 26910960 | R34: 32975468 | S34: 0 | T34: 0 | U34: 5081379 | V34: 0 | W34: 3350714 | X34: 652099 | Y34: 8567662 | Z34: 23934388 | AA34: 0 | AB34: -158810 | AC34: 6013713 | AD34: 2293914 | AE34: 26850450 | AF34: 6748536 | AG34: 25638382 | AH34: 3464798 | AI34: 12229400 | AJ34: 8473804 | AK34: 0 | AL34: 9600863 | AM34: 0
A35: 2 | B35: 13668 | C35: Orasul Costesti | D35: =E35+SUM(H35:O35) -> 22569464 | E35: 7063785 | F35: 3464405 | G35: 1074387 | H35: 0 | I35: 12442218 | J35: 0 | K35: 608440 | L35: 0 | M35: 950789 | N35: 1501834 | O35: 2398 | P35: =IF(SUM(Q35:AB35)=SUM(AC35:AM35),SUM(Q35:AB35)," EROARE ART/CAP") -> 22942751 | Q35: 13172280 | R35: 2652023 | S35: 359 | T35: 0 | U35: 0 | V35: 10000 | W35: 3584408 | X35: 491998 | Y35: 103895 | Z35: 2955724 | AA35: 15838 | AB35: -43774 | AC35: 2017440 | AD35: 21199 | AE35: 13397215 | AF35: 88772 | AG35: 877457 | AH35: 1046219 | AI35: 1862002 | AJ35: 137660 | AK35: 0 | AL35: 3494787 | AM35: 0
A36: 3 | B36: 13757 | C36: Orasul Topoloveni | D36: =E36+SUM(H36:O36) -> 21794205 | E36: 8724591 | F36: 4140592 | G36: 891570 | H36: 0 | I36: 7860417 | J36: 0 | K36: 1374920 | L36: 0 | M36: 2554846 | N36: 1258027 | O36: 21404 | P36: =IF(SUM(Q36:AB36)=SUM(AC36:AM36),SUM(Q36:AB36)," EROARE ART/CAP") -> 22554306 | Q36: 9100099 | R36: 3095509 | S36: 95035 | T36: 0 | U36: 568259 | V36: 213610 | W36: 2971995 | X36: 670842 | Y36: 154255 | Z36: 4598850 | AA36: 1122000 | AB36: -36148 | AC36: 4816245 | AD36: 28769 | AE36: 7420619 | AF36: 39915 | AG36: 3254829 | AH36: 1083291 | AI36: 3724970 | AJ36: 112879 | AK36: 672431 | AL36: 1332066 | AM36: 68292
A37: 4 | B37: 13392 | C37: Orasul Stefanesti | D37: =E37+SUM(H37:O37) -> 22305012 | E37: 13115528 | F37: 6117078 | G37: 522294 | H37: 0 | I37: 8441125 | J37: 0 | K37: 514700 | L37: 0 | M37: 90100 | N37: 143559 | O37: 0 | P37: =IF(SUM(Q37:AB37)=SUM(AC37:AM37),SUM(Q37:AB37)," EROARE ART/CAP") -> 19879036 | Q37: 9552220 | R37: 3625577 | S37: 0 | T37: 0 | U37: 0 | V37: 0 | W37: 504255 | X37: 739689 | Y37: 84418 | Z37: 5435736 | AA37: 0 | AB37: -62859 | AC37: 2053214 | AD37: 1546 | AE37: 7575053 | AF37: 71354 | AG37: 508460 | AH37: 1367010 | AI37: 3302869 | AJ37: 956043 | AK37: 0 | AL37: 3271761 | AM37: 771726
A38: 5 | D38: =E38+SUM(H38:O38) -> 0 | P38: =IF(SUM(Q38:AB38)=SUM(AC38:AM38),SUM(Q38:AB38)," EROARE ART/CAP") -> 0
A39: 6 | D39: =E39+SUM(H39:O39) -> 0 | P39: =IF(SUM(Q39:AB39)=SUM(AC39:AM39),SUM(Q39:AB39)," EROARE ART/CAP") -> 0
A40: 7 | D40: =E40+SUM(H40:O40) -> 0 | P40: =IF(SUM(Q40:AB40)=SUM(AC40:AM40),SUM(Q40:AB40)," EROARE ART/CAP") -> 0
A41: 8 | D41: =E41+SUM(H41:O41) -> 0 | P41: =IF(SUM(Q41:AB41)=SUM(AC41:AM41),SUM(Q41:AB41)," EROARE ART/CAP") -> 0
A42: 9 | D42: 0 | P42: =IF(SUM(Q42:AB42)=SUM(AC42:AM42),SUM(Q42:AB42)," EROARE ART/CAP") -> 0
A43: 10 | D43: 0 | P43: =IF(SUM(Q43:AB43)=SUM(AC43:AM43),SUM(Q43:AB43)," EROARE ART/CAP") -> 0
A44: 11 | D44: 0 | P44: =IF(SUM(Q44:AB44)=SUM(AC44:AM44),SUM(Q44:AB44)," EROARE ART/CAP") -> 0
A45: 12 | D45: 0 | P45: =IF(SUM(Q45:AB45)=SUM(AC45:AM45),SUM(Q45:AB45)," EROARE ART/CAP") -> 0
A46: 13 | D46: 0 | P46: =IF(SUM(Q46:AB46)=SUM(AC46:AM46),SUM(Q46:AB46)," EROARE ART/CAP") -> 0
A47: 14 | D47: 0 | P47: =IF(SUM(Q47:AB47)=SUM(AC47:AM47),SUM(Q47:AB47)," EROARE ART/CAP") -> 0
A48: 15 | D48: 0 | P48: =IF(SUM(Q48:AB48)=SUM(AC48:AM48),SUM(Q48:AB48)," EROARE ART/CAP") -> 0
A49: 16 | D49: 0 | P49: =IF(SUM(Q49:AB49)=SUM(AC49:AM49),SUM(Q49:AB49)," EROARE ART/CAP") -> 0
A50: 17 | D50: 0 | P50: =IF(SUM(Q50:AB50)=SUM(AC50:AM50),SUM(Q50:AB50)," EROARE ART/CAP") -> 0
A51: 18 | D51: 0 | P51: =IF(SUM(Q51:AB51)=SUM(AC51:AM51),SUM(Q51:AB51)," EROARE ART/CAP") -> 0
A52: 19 | D52: 0 | P52: =IF(SUM(Q52:AB52)=SUM(AC52:AM52),SUM(Q52:AB52)," EROARE ART/CAP") -> 0
A53: 20 | D53: 0 | P53: =IF(SUM(Q53:AB53)=SUM(AC53:AM53),SUM(Q53:AB53)," EROARE ART/CAP") -> 0
A54: D. Total comune | D54: =E54+SUM(H54:O54) -> 612443002 | E54: =SUM(E55:E149) -> 235229196 | F54: =SUM(F55:F149) -> 61521619 | G54: =SUM(G55:G149) -> 86068918 | H54: =SUM(H55:H149) -> 0 | I54: =SUM(I55:I149) -> 205553687 | J54: =SUM(J55:J149) -> 17379655 | K54: =SUM(K55:K149) -> 41557880 | L54: =SUM(L55:L149) -> 0 | ... O54: =SUM(O55:O149) -> 9887444 | P54: =IF(SUM(Q54:AB54)=SUM(AC54:AM54),SUM(Q54:AB54)," EROARE ART/CAP") -> 580989228 | Q54: =SUM(Q55:Q149) -> 241938863 | R54: =SUM(R55:R149) -> 106781936 | S54: =SUM(S55:S149) -> 931591 | T54: =SUM(T55:T149) -> 241639 | U54: =SUM(U55:U149) -> 1173042 | V54: =SUM(V55:V149) -> 1316905 | W54: =SUM(W55:W149) -> 51001340 | X54: =SUM(X55:X149) -> 21048900 | ... AM54: =SUM(AM55:AM149) -> 4216253
A55: 1 | B55: 13819 | C55: Comuna Albestii de Arges | D55: =E55+SUM(H55:O55) -> 7099301 | E55: 2302002 | F55: 357664 | G55: 1125624 | H55: 0 | I55: 3396814 | J55: 100000 | K55: 1133900 | L55: 0 | M55: 59063 | N55: 94627 | O55: 12895 | P55: =IF(SUM(Q55:AB55)=SUM(AC55:AM55),SUM(Q55:AB55)," EROARE ART/CAP") -> 8832599 | Q55: 3980835 | R55: 1635511 | S55: 37416 | T55: 0 | U55: 0 | V55: 119892 | W55: 78139 | X55: 280967 | Y55: 26000 | Z55: 872570 | AA55: 1916890 | AB55: -115621 | AC55: 1307743 | AD55: 31801 | AE55: 3113460 | AF55: 0 | AG55: 204674 | AH55: 502732 | AI55: 504842 | AJ55: 2661760 | AK55: 0 | AL55: 368389 | AM55: 137198
A56: 2 | B56: 13891 | C56: Comuna Albestii de Muscel | D56: =E56+SUM(H56:O56) -> 3163752 | E56: 1685770 | F56: 103124 | G56: 1124343 | H56: 0 | I56: 1067515 | J56: 90000 | K56: 118280 | L56: 0 | M56: 46728 | N56: 78119 | O56: 77340 | P56: =IF(SUM(Q56:AB56)=SUM(AC56:AM56),SUM(Q56:AB56)," EROARE ART/CAP") -> 2631220 | Q56: 1519548 | R56: 603746 | S56: 0 | T56: 0 | U56: 0 | V56: 0 | W56: 102622 | X56: 64436 | Y56: 1320 | Z56: 343474 | AA56: 0 | AB56: -3926 | AC56: 650925 | AD56: 0 | AE56: 933971 | AF56: 0 | AG56: 69603 | AH56: 329106 | AI56: 393304 | AJ56: 37492 | AK56: 0 | AL56: 114197 | AM56: 102622
A57: 3 | B57: 13935 | C57: Comuna Albota | D57: =E57+SUM(H57:O57) -> 6498280 | E57: 3492467 | F57: 1121228 | G57: 405600 | H57: 0 | I57: 2072754 | J57: 250000 | K57: 661380 | L57: 0 | M57: 18274 | N57: 0 | O57: 3405 | P57: =IF(SUM(Q57:AB57)=SUM(AC57:AM57),SUM(Q57:AB57)," EROARE ART/CAP") -> 5084162 | Q57: 2313652 | R57: 937017 | S57: 0 | T57: 0 | U57: 0 | V57: 291999 | W57: 0 | X57: 244380 | Y57: 0 | Z57: 1297114 | AA57: 0 | AB57: 0 | AC57: 772026 | AD57: 20220 | AE57: 1789583 | AF57: 8508 | AG57: 75308 | AH57: 397093 | AI57: 440254 | AJ57: 133390 | AK57: 0 | AL57: 1428200 | AM57: 19580
A58: 4 | B58: 13999 | C58: Comuna Aninoasa | D58: =E58+SUM(H58:O58) -> 5951538 | E58: 1923658 | F58: 409614 | G58: 1039305 | H58: 0 | I58: 1990713 | J58: 550000 | K58: 264180 | L58: 0 | M58: 1019492 | N58: 0 | O58: 203495 | P58: =IF(SUM(Q58:AB58)=SUM(AC58:AM58),SUM(Q58:AB58)," EROARE ART/CAP") -> 5186703 | Q58: 2341987 | R58: 872304 | S58: 0 | T58: 0 | U58: 23437 | V58: 3775 | W58: 913894 | X58: 134517 | Y58: 20000 | Z58: 880564 | AA58: 0 | AB58: -3775 | AC58: 732771 | AD58: 122633 | AE58: 1789944 | AF58: 0 | AG58: 93565 | AH58: 367550 | AI58: 281753 | AJ58: 1046836 | AK58: 0 | AL58: 751651 | AM58: 0
A59: 5 | B59: 14049 | C59: Comuna Arefu | D59: =E59+SUM(H59:O59) -> 9781219 | E59: 2135822 | F59: 583124 | G59: 412977 | H59: 0 | I59: 1386061 | J59: 300000 | K59: 601310 | L59: 0 | M59: 5243076 | N59: 114950 | O59: 0 | P59: =IF(SUM(Q59:AB59)=SUM(AC59:AM59),SUM(Q59:AB59)," EROARE ART/CAP") -> 9436589 | Q59: 1734102 | R59: 855642 | S59: 111167 | T59: 0 | U59: 0 | V59: 50000 | W59: 0 | X59: 123548 | Y59: 20800 | Z59: 6409956 | AA59: 166667 | AB59: -35293 | AC59: 932473 | AD59: 22483 | AE59: 1251967 | AF59: 0 | AG59: 58490 | AH59: 233688 | AI59: 290124 | AJ59: 9920 | AK59: 0 | AL59: 6637444 | AM59: 0
A60: 6 | B60: 13187 | C60: Comuna Bascov | D60: =E60+SUM(H60:O60) -> 18249029 | E60: 10773764 | F60: 5239404 | G60: 249316 | H60: 0 | I60: 4847758 | J60: 300000 | K60: 191940 | L60: 0 | M60: 632659 | N60: 1442513 | O60: 60395 | P60: =IF(SUM(Q60:AB60)=SUM(AC60:AM60),SUM(Q60:AB60)," EROARE ART/CAP") -> 18568337 | Q60: 5523878 | R60: 5188721 | S60: 11724 | T60: 137625 | U60: 627109 | V60: 239188 | W60: 4077042 | X60: 889520 | Y60: 612240 | Z60: 1006872 | AA60: 254628 | AB60: -210 | AC60: 2042311 | AD60: 28290 | AE60: 8872077 | AF60: 0 | AG60: 1364910 | AH60: 1380235 | AI60: 1128519 | AJ60: 1080292 | AK60: 403684 | AL60: 2060509 | AM60: 207510
A61: 7 | B61: 14085 | C61: Comuna Babana | D61: =E61+SUM(H61:O61) -> 5226344 | E61: 1865120 | F61: 184303 | G61: 1053971 | H61: 0 | I61: 1792519 | J61: 240000 | K61: 475850 | L61: 0 | M61: 783555 | N61: 0 | O61: 69300 | P61: =IF(SUM(Q61:AB61)=SUM(AC61:AM61),SUM(Q61:AB61)," EROARE ART/CAP") -> 5332286 | Q61: 2341298 | R61: 1393147 | S61: 0 | T61: 0 | U61: 0 | V61: 0 | W61: 0 | X61: 180905 | Y61: 0 | Z61: 1418119 | AA61: 0 | AB61: -1183 | AC61: 1096532 | AD61: 105026 | AE61: 1571519 | AF61: 109288 | AG61: 55857 | AH61: 395926 | AI61: 197814 | AJ61: 0 | AK61: 0 | AL61: 1800324 | AM61: 0
A62: 8 | B62: 14165 | C62: Comuna Baiculesti | D62: =E62+SUM(H62:O62) -> 7841883 | E62: 2820841 | F62: 910008 | G62: 921737 | H62: 0 | I62: 3880635 | J62: 19816 | K62: 1079600 | L62: 0 | M62: 40991 | N62: 0 | O62: 0 | P62: =IF(SUM(Q62:AB62)=SUM(AC62:AM62),SUM(Q62:AB62)," EROARE ART/CAP") -> 7410901 | Q62: 4264495 | R62: 1492050 | S62: 0 | T62: 0 | U62: 0 | V62: 0 | W62: 0 | X62: 343431 | Y62: 169999 | Z62: 1147080 | AA62: 0 | AB62: -6154 | AC62: 1292829 | AD62: 119196 | AE62: 3877754 | AF62: 0 | AG62: 277208 | AH62: 551253 | AI62: 372267 | AJ62: 257132 | AK62: 0 | AL62: 530362 | AM62: 132900
A63: 9 | B63: 14272 | C63: Comuna Balilesti | D63: =E63+SUM(H63:O63) -> 6787191 | E63: 1992371 | F63: 215818 | G63: 1067257 | H63: 0 | I63: 2375721 | J63: 134804 | K63: 521460 | L63: 0 | M63: 1306474 | N63: 420499 | O63: 35862 | P63: =IF(SUM(Q63:AB63)=SUM(AC63:AM63),SUM(Q63:AB63)," EROARE ART/CAP") -> 6384378 | Q63: 2996834 | R63: 1012472 | S63: 0 | T63: 0 | U63: 100215 | V63: 0 | W63: 538042 | X63: 173230 | Y63: 31355 | Z63: 1556163 | AA63: 0 | AB63: -23933 | AC63: 1097160 | AD63: 16515 | AE63: 3542313 | AF63: 17935 | AG63: 378004 | AH63: 449600 | AI63: 520440 | AJ63: 103084 | AK63: 0 | AL63: 259327 | AM63: 0
A64: 10 | B64: 14352 | C64: Comuna Beleti-Negresti | D64: =E64+SUM(H64:O64) -> 3286136 | E64: 1645117 | F64: 88581 | G64: 1196125 | H64: 0 | I64: 1208022 | J64: 0 | K64: 60080 | L64: 0 | M64: 369991 | N64: 0 | O64: 2926 | P64: =IF(SUM(Q64:AB64)=SUM(AC64:AM64),SUM(Q64:AB64)," EROARE ART/CAP") -> 2953739 | Q64: 1588440 | R64: 543517 | S64: 0 | T64: 0 | U64: 0 | V64: 0 | W64: 0 | X64: 99614 | Y64: 11000 | Z64: 785972 | AA64: 0 | AB64: -74804 | AC64: 806423 | AD64: 30994 | AE64: 1032583 | AF64: 0 | AG64: 82768 | AH64: 317439 | AI64: 525581 | AJ64: 89158 | AK64: 0 | AL64: 68793 | AM64: 0
A65: 11 | B65: 14405 | C65: Comuna Berevoesti | D65: =E65+SUM(H65:O65) -> 6196801 | E65: 2520457 | F65: 953774 | G65: 477223 | H65: 0 | I65: 2704913 | J65: 497665 | K65: 440200 | L65: 0 | M65: 29966 | N65: 0 | O65: 3600 | P65: =IF(SUM(Q65:AB65)=SUM(AC65:AM65),SUM(Q65:AB65)," EROARE ART/CAP") -> 5810354 | Q65: 3136810 | R65: 1248609 | S65: 0 | T65: 0 | U65: 249929 | V65: 1743 | W65: 0 | X65: 235322 | Y65: 40000 | Z65: 908195 | AA65: 0 | AB65: -10254 | AC65: 1001874 | AD65: 32630 | AE65: 2431717 | AF65: 9986 | AG65: 385896 | AH65: 494667 | AI65: 557091 | AJ65: 103525 | AK65: 0 | AL65: 745424 | AM65: 47544
A66: 12 | B66: 14450 | C66: Comuna Birla | D66: =E66+SUM(H66:O66) -> 8032465 | E66: 2359941 | F66: 699120 | G66: 634599 | H66: 0 | I66: 3785764 | J66: 100000 | K66: 1042070 | L66: 0 | M66: 182609 | N66: 562081 | O66: 0 | P66: =IF(SUM(Q66:AB66)=SUM(AC66:AM66),SUM(Q66:AB66)," EROARE ART/CAP") -> 7544792 | Q66: 4207615 | R66: 1733963 | S66: 0 | T66: 0 | U66: 0 | V66: 0 | W66: 0 | X66: 272432 | Y66: 18005 | Z66: 1326892 | AA66: 0 | AB66: -14115 | AC66: 990506 | AD66: 130270 | AE66: 3695545 | AF66: 0 | AG66: 127823 | AH66: 717219 | AI66: 1311427 | AJ66: 89616 | AK66: 0 | AL66: 388332 | AM66: 94054
... A149: 95 | B149: 20063 | C149: Comuna Bughea de Sus | D149: =E149+SUM(H149:O149) -> 4191093 | E149: 1834033 | F149: 119644 | G149: 1396894 | H149: 0 | I149: 1303694 | J149: 280000 | K149: 154160 | L149: 0 | M149: 165376 | N149: 434096 | O149: 19734 | P149: =IF(SUM(Q149:AB149)=SUM(AC149:AM149),SUM(Q149:AB149)," EROARE ART/CAP") -> 3253813 | Q149: 1724178 | R149: 540297 | S149: 0 | T149: 0 | U149: 0 | V149: 0 | W149: 566540 | X149: 218523 | Y149: 0 | Z149: 236262 | AA149: 0 | AB149: -31987 | AC149: 667803 | AD149: 7209 | AE149: 1059782 | AF149: 15766 | AG149: 44196 | AH149: 370482 | AI149: 202431 | AJ149: 88452 | AK149: 0 | AL149: 231152 | AM149: 566540

Sheet 4
AK1: ANEXA nr. 24
B2: Judeţul BACAU
B3: Perioada: 31.12.2015
L5: SITUAŢIA PRIVIND EXECUŢIA VENITURILOR ŞI CHELTUIELILOR BUGETELOR LOCALE PE UNITĂŢI ADMINISTRATIV-TERITORIALE
AM7: - lei -
A9: DENUMIREA UNITĂŢILOR ADMINISTRATIV-TERITORIALE (în ordine alfabetică) | D9: VENITURI | E9: VENITURI PROPRII | H9: Sume defalcate din TVA pentru finanţarea cheltuielilor descentralizate la nivelul judeţelor | I9: Sume defalcate din TVA pentru finanţarea cheltuielilor descentralizate la nivelul comunelor, oraşelor, municipiilor, sectoarelor şi municipiului Bucureşti | J9: Sume defalcate din TVA pentru drumuri | K9: Sume defalcate din TVA pentru echilibrarea bugetelor locale | L9: Sume defalcate din TVA pentru finanţarea Programului de dezvoltare a infrastructurii şi a bazelor sportive din spaţiul rural | M9: Subvenţii | N9: Sume primite de la UE/alti donatori in contul platilor efectuate si prefinantari | O9: Alte venituri | P9: CHELTUIELI | Q9: d i n c a r e: pe titluri de cheltuieli | AC9: d i n c a r e: pe parti si capitole de cheltuieli
D10: TOTALE | F10: din care: | P10: TOTALE
D11: (col.2+5+...+11) | E11: TOTAL | F11: Cote defalcate din impozitul pe venit | G11: Sume alocate din cotele defalcate din impozitul pe venit pentru echilibrarea bugetelor locale | P11: (col.14+...+24 - 25) (col.26+...+34) | Q11: Cheltuieli de personal | R11: Bunuri şi servicii | S11: Dobânzi | T11: Subvenţii | U11: Transferuri între unităţi ale administraţiei publice | V11: Alte transferuri | W11: Proiecte cu finanţare din fonduri externe nerambursabile | X11: Asistenţă socială | Y11: Alte cheltuieli | Z11: Cheltuieli de capital | AA11: Operatiuni financiare | AB11: Plăţi efectuate în anii precedenţi şi recuperate în anul curent | AC11: Servicii publice generale | AD11: Apărare, ordine publică şi siguranţă naţională | AE11: Învăţământ | AF11: Sănătate | AG11: Cultură, recreere şi religie | AH11: Asigurări şi asistenţă socială | AI11: Servicii şi dezvoltare publică, locuinţe, mediu şi ape | AJ11: Protectia mediului | AK11: Combustibili şi energie | AL11: Transporturi | AM11: Alte cheltuieli
D12: 00.01.02 | E12: 48.02 | F12: 04.02.01 | G12: 04.02.04 | H12: 11.02.01 | I12: 11.02.02 | J12: 11.02.05 | K12: 11.02.06 | L12: 11.02.07 | M12: 42.02 | N12: 45.02+48.02 | P12: 50.02 | Q12: 10 | R12: 20 | S12: 30 | T12: 40 | U12: 51 | V12: 55 | W12: 56 | X12: 57 | Y12: 59 | Z12: 70 | AA12: 79 | AB12: 84 | AC12: 50.02 | AD12: 59.02 | AE12: 65.02 | AF12: 66.02 | AG12: 67.02 | AH12: 68.02 | AI12: 69.02 | AJ12: 74.02 | AK12: 81.02 | AL12: 84.02
A13: A | D13: 1 | E13: 2 | F13: 3 | G13: 4 | H13: 5 | I13: 6 | J13: 7 | K13: 8 | L13: 9 | M13: 10 | N13: 11 | O13: 12 | P13: 13 | Q13: 14 | R13: 15 | S13: 16 | T13: 17 | U13: 18 | V13: 19 | W13: 20 | X13: 21 | Y13: 22 | Z13: 23 | AA13: 24 | AB13: 25 | AC13: 26 | AD13: 27 | AE13: 28 | AF13: 29 | AG13: 30 | AH13: 31 | AI13: 32 | AJ13: 33 | AK13: 34 | AL13: 35 | AM13: 36
A14: TOTAL JUDEŢ (A+B+C+D) | D14: =E14+SUM(H14:O14) -> 1543215676 | E14: =SUM(E15,E16,E33,E54) -> 491187174 | F14: =SUM(F15,F16,F33,F54) -> 212119132 | G14: =SUM(G15,G16,G33,G54) -> 74295097 | H14: =SUM(H15,H16,H33,H54) -> 77844748 | I14: =SUM(I15,I16,I33,I54) -> 427331412 | J14: =SUM(J15,J16,J33,J54) -> 21041276 | K14: =SUM(K15,K16,K33,K54) -> 114487990 | L14: =SUM(L15,L16,L33,L54) -> 0 | ... O14: =SUM(O15,O16,O33,O54) -> 16147131 | P14: =IF(SUM(Q14:AB14)=SUM(AC14:AM14),SUM(Q14:AB14)," EROARE ART/CAP") -> 1509276382 | Q14: =Q15+Q16+Q33+Q54 -> 528215217 | R14: =R15+R16+R33+R54 -> 285332056 | S14: =S15+S16+S33+S54 -> 9193795 | T14: =T15+T16+T33+T54 -> 12026161 | U14: =U15+U16+U33+U54 -> 50869777 | V14: =V15+V16+V33+V54 -> 8080177 | W14: =W15+W16+W33+W54 -> 252069483 | X14: =X15+X16+X33+X54 -> 121068129 | ... AM14: =AM15+AM16+AM33+AM54 -> 20611935
A15: A. Consiliul judeţean | D15: =E15+SUM(H15:O15) -> 276155028 | E15: 76972388 | F15: 45026177 | G15: 28309000 | H15: 77844748 | I15: 0 | J15: 10559000 | K15: 22189000 | L15: 0 | M15: 74734136 | N15: 9393688 | O15: 4462068 | P15: =IF(SUM(Q15:AB15)=SUM(AC15:AM15),SUM(Q15:AB15)," EROARE ART/CAP") -> 281827710 | Q15: 62508268 | R15: 48091002 | S15: 1464870 | T15: 0 | U15: 23660271 | V15: 4846612 | W15: 17197229 | X15: 79072978 | Y15: 9088126 | Z15: 7230461 | AA15: 28667893 | AB15: 0 | AC15: 45885646 | AD15: 986702 | AE15: 28265527 | AF15: 10611052 | AG15: 18934554 | AH15: 126246439 | AI15: 174860 | AJ15: 17858084 | AK15: 0 | AL15: 28714896 | AM15: 4149950
A16: B. Total municipii | D16: =E16+SUM(H16:O16) -> 521222347 | E16: =SUM(E18:E32) -> 237043885 | F16: =SUM(F18:F32) -> 120145205 | G16: =SUM(G18:G32) -> 1267181 | H16: =SUM(H18:H32) -> 0 | I16: =SUM(I18:I32) -> 190997547 | J16: =SUM(J18:J32) -> 0 | K16: =SUM(K18:K32) -> 3506000 | L16: =SUM(L18:L32) -> 0 | ... O16: =SUM(O18:O32) -> 3410506 | P16: =IF(SUM(Q16:AB16)=SUM(AC16:AM16),SUM(Q16:AB16)," EROARE ART/CAP") -> 522748666 | Q16: =SUM(Q18:Q32) -> 198665530 | R16: =SUM(R18:R32) -> 116454817 | S16: =SUM(S18:S32) -> 6547900 | T16: =SUM(T18:T32) -> 11966851 | U16: =SUM(U18:U32) -> 21739009 | V16: =SUM(V18:V32) -> 2364236 | W16: =SUM(W18:W32) -> 101546451 | X16: =SUM(X18:X32) -> 15910938 | ... AM16: =SUM(AM18:AM32) -> 97266
A17: Nr crt | B17: Cod SIRUTA
A18: 1 | B18: 20297 | C18: MUNICIPIUL BACAU | D18: =E18+SUM(H18:O18) -> 392878325 | E18: 178422499 | F18: 94285280 | G18: 54672 | H18: 0 | I18: 131604394 | J18: 0 | K18: 1987000 | L18: 0 | M18: 49161511 | N18: 31555611 | O18: 147310 | P18: =IF(SUM(Q18:AB18)=SUM(AC18:AM18),SUM(Q18:AB18)," EROARE ART/CAP") -> 392854564 | Q18: 131045518 | R18: 81606908 | S18: 4790725 | T18: 11927612 | U18: 19015774 | V18: 2364236 | W18: 95727254 | X18: 12395411 | Y18: 11594465 | Z18: 14527539 | AA18: 9257021 | AB18: -1397899 | AC18: 25350153 | AD18: 8790045 | AE18: 126898819 | AF18: 3786230 | AG18: 35135625 | AH18: 30491728 | AI18: 9314278 | AJ18: 20508956 | AK18: 102571416 | AL18: 30007314 | AM18: 0
A19: 2 | B19: 20563 | C19: MUNICIPIUL ONESTI | D19: =E19+SUM(H19:O19) -> 82053639 | E19: 37642944 | F19: 16941489 | G19: 11689 | H19: 0 | I19: 40308059 | J19: 0 | K19: 318000 | L19: 0 | M19: 950344 | N19: 1925215 | O19: 909077 | P19: =IF(SUM(Q19:AB19)=SUM(AC19:AM19),SUM(Q19:AB19)," EROARE ART/CAP") -> 83632082 | Q19: 44184110 | R19: 26029100 | S19: 1357175 | T19: 39239 | U19: 830000 | V19: 0 | W19: 4597696 | X19: 1752366 | Y19: 148835 | Z19: 2270856 | AA19: 2501722 | AB19: -79017 | AC19: 9105929 | AD19: 103229 | AE19: 40839582 | AF19: 2248403 | AG19: 3171356 | AH19: 7592160 | AI19: 19149584 | AJ19: 0 | AK19: 0 | AL19: 1421839 | AM19: 0
A20: 3 | B20: 20876 | C20: MUNICIPIUL MOINESTI | D20: =E20+SUM(H20:O20) -> 46290383 | E20: 20978442 | F20: 8918436 | G20: 1200820 | H20: 0 | I20: 19085094 | J20: 0 | K20: 1201000 | L20: 0 | M20: 1876395 | N20: 795333 | O20: 2354119 | P20: =IF(SUM(Q20:AB20)=SUM(AC20:AM20),SUM(Q20:AB20)," EROARE ART/CAP") -> 46262020 | Q20: 23435902 | R20: 8818809 | S20: 400000 | T20: 0 | U20: 1893235 | V20: 0 | W20: 1221501 | X20: 1763161 | Y20: 690985 | Z20: 6944664 | AA20: 1140000 | AB20: -46237 | AC20: 5330042 | AD20: 732641 | AE20: 17473166 | AF20: 1708541 | AG20: 3599237 | AH20: 6057810 | AI20: 5644097 | AJ20: 1325590 | AK20: 0 | AL20: 4293630 | AM20: 97266
A21: 4 | D21: =E21+SUM(H21:O21) -> 0 | P21: =IF(SUM(Q21:AB21)=SUM(AC21:AM21),SUM(Q21:AB21)," EROARE ART/CAP") -> 0
A22: 5 | D22: =E22+SUM(H22:O22) -> 0 | P22: =IF(SUM(Q22:AB22)=SUM(AC22:AM22),SUM(Q22:AB22)," EROARE ART/CAP") -> 0
A23: 6 | D23: =E23+SUM(H23:O23) -> 0 | P23: =IF(SUM(Q23:AB23)=SUM(AC23:AM23),SUM(Q23:AB23)," EROARE ART/CAP") -> 0
A24: 7 | D24: =E24+SUM(H24:O24) -> 0 | P24: =IF(SUM(Q24:AB24)=SUM(AC24:AM24),SUM(Q24:AB24)," EROARE ART/CAP") -> 0
A25: 8 | D25: =E25+SUM(H25:O25) -> 0 | P25: =IF(SUM(Q25:AB25)=SUM(AC25:AM25),SUM(Q25:AB25)," EROARE ART/CAP") -> 0
A26: 9 | D26: =E26+SUM(H26:O26) -> 0 | P26: =IF(SUM(Q26:AB26)=SUM(AC26:AM26),SUM(Q26:AB26)," EROARE ART/CAP") -> 0
A27: 10 | D27: =E27+SUM(H27:O27) -> 0 | P27: =IF(SUM(Q27:AB27)=SUM(AC27:AM27),SUM(Q27:AB27)," EROARE ART/CAP") -> 0
A28: 11 | D28: =E28+SUM(H28:O28) -> 0 | P28: =IF(SUM(Q28:AB28)=SUM(AC28:AM28),SUM(Q28:AB28)," EROARE ART/CAP") -> 0
A29: 12 | D29: =E29+SUM(H29:O29) -> 0 | P29: =IF(SUM(Q29:AB29)=SUM(AC29:AM29),SUM(Q29:AB29)," EROARE ART/CAP") -> 0
A30: 13 | D30: =E30+SUM(H30:O30) -> 0 | P30: =IF(SUM(Q30:AB30)=SUM(AC30:AM30),SUM(Q30:AB30)," EROARE ART/CAP") -> 0
A31: 14 | D31: =E31+SUM(H31:O31) -> 0 | P31: =IF(SUM(Q31:AB31)=SUM(AC31:AM31),SUM(Q31:AB31)," EROARE ART/CAP") -> 0
A32: 15 | D32: =E32+SUM(H32:O32) -> 0 | P32: =IF(SUM(Q32:AB32)=SUM(AC32:AM32),SUM(Q32:AB32)," EROARE ART/CAP") -> 0
A33: C. Total oraşe | D33: =E33+SUM(H33:O33) -> 164563485 | E33: =SUM(E34:E53) -> 42241145 | F33: =SUM(F34:F53) -> 16408927 | G33: =SUM(G34:G53) -> 3595641 | H33: =SUM(H34:H53) -> 0 | I33: =SUM(I34:I53) -> 45822946 | J33: =SUM(J34:J53) -> 0 | K33: =SUM(K34:K53) -> 8035320 | L33: =SUM(L34:L53) -> 0 | ... O33: =SUM(O34:O53) -> 2678771 | P33: =IF(SUM(Q33:AB33)=SUM(AC33:AM33),SUM(Q33:AB33)," EROARE ART/CAP") -> 168908969 | Q33: =SUM(Q34:Q53) -> 51493037 | R33: =SUM(R34:R53) -> 23192736 | S33: =SUM(S34:S53) -> 736496 | T33: =SUM(T34:T53) -> 59310 | U33: =SUM(U34:U53) -> 1924437 | V33: =SUM(V34:V53) -> 765308 | W33: =SUM(W34:W53) -> 75169895 | X33: =SUM(X34:X53) -> 3809276 | ... AM33: =SUM(AM34:AM53) -> 14020701
A34: 1 | B34: 20778 | C34: ORASUL BUHUSI | D34: =E34+SUM(H34:O34) -> 28723928 | E34: 8922516 | F34: 3824612 | G34: 34113 | H34: 0 | I34: 10703759 | J34: 0 | K34: 3462320 | L34: 0 | M34: 2115799 | N34: 2812630 | O34: 706904 | P34: =IF(SUM(Q34:AB34)=SUM(AC34:AM34),SUM(Q34:AB34)," EROARE ART/CAP") -> 28974390 | Q34: 12541534 | R34: 5583079 | S34: 0 | T34: 0 | U34: 1376320 | V34: 0 | W34: 6346604 | X34: 838176 | Y34: 108998 | Z34: 2179679 | AA34: 0 | AB34: 0 | AC34: 2552045 | AD34: 655026 | AE34: 9759059 | AF34: 1370410 | AG34: 594107 | AH34: 1587055 | AI34: 10453125 | AJ34: 1093963 | AK34: 0 | AL34: 688010 | AM34: 221590
A35: 2 | B35: 20821 | C35: ORASUL COMANESTI | D35: =E35+SUM(H35:O35) -> 89111450 | E35: 13888815 | F35: 6090747 | G35: 23786 | H35: 0 | I35: 16182556 | J35: 0 | K35: 1254000 | L35: 0 | M35: 17054746 | N35: 40639216 | O35: 92117 | P35: =IF(SUM(Q35:AB35)=SUM(AC35:AM35),SUM(Q35:AB35)," EROARE ART/CAP") -> 93374588 | Q35: 17963889 | R35: 5149654 | S35: 69000 | T35: 0 | U35: 0 | V35: 83769 | W35: 67112432 | X35: 1309708 | Y35: 201056 | Z35: 1389628 | AA35: 150000 | AB35: -54548 | AC35: 2627124 | AD35: 773805 | AE35: 14628608 | AF35: 12837914 | AG35: 803474 | AH35: 2721997 | AI35: 1078775 | AJ35: 1435234 | AK35: 0 | AL35: 43019727 | AM35: 13447930
A36: 3 | B36: 22166 | C36: ORASUL DARMANESTI | D36: =E36+SUM(H36:O36) -> 17904698 | E36: 5645640 | F36: 1307567 | G36: 1449032 | H36: 0 | I36: 7451476 | J36: 0 | K36: 1567000 | L36: 0 | M36: 1793153 | N36: 987821 | O36: 459608 | P36: =IF(SUM(Q36:AB36)=SUM(AC36:AM36),SUM(Q36:AB36)," EROARE ART/CAP") -> 17644209 | Q36: 8057952 | R36: 3314188 | S36: 24150 | T36: 0 | U36: 185000 | V36: 681539 | W36: 1461936 | X36: 970184 | Y36: 269000 | Z36: 2684947 | AA36: 0 | AB36: -4687 | AC36: 1963989 | AD36: 291853 | AE36: 8062020 | AF36: 81387 | AG36: 998059 | AH36: 1397956 | AI36: 1424774 | AJ36: 1559799 | AK36: 0 | AL36: 1844372 | AM36: 20000
A37: 4 | B37: 20910 | C37: ORASUL SLANIC MOLDOVA | D37: =E37+SUM(H37:O37) -> 9704200 | E37: 5443442 | F37: 493173 | G37: 2083217 | H37: 0 | I37: 2265742 | J37: 0 | K37: 1420000 | L37: 0 | M37: 134759 | N37: 0 | O37: 440257 | P37: =IF(SUM(Q37:AB37)=SUM(AC37:AM37),SUM(Q37:AB37)," EROARE ART/CAP") -> 9682874 | Q37: 3152972 | R37: 4067310 | S37: 368318 | T37: 59310 | U37: 130517 | V37: 0 | W37: 0 | X37: 174626 | Y37: 11500 | Z37: 1190321 | AA37: 528000 | AB37: 0 | AC37: 2618419 | AD37: 296571 | AE37: 1885722 | AF37: 0 | AG37: 816686 | AH37: 599398 | AI37: 642381 | AJ37: 1262122 | AK37: 0 | AL37: 1552027 | AM37: 9548
A38: 5 | B38: 20965 | C38: ORASUL TG. OCNA | D38: =E38+SUM(H38:O38) -> 19119209 | E38: 8340732 | F38: 4692828 | G38: 5493 | H38: 0 | I38: 9219413 | J38: 0 | K38: 332000 | L38: 0 | M38: 145967 | N38: 101212 | O38: 979885 | P38: =IF(SUM(Q38:AB38)=SUM(AC38:AM38),SUM(Q38:AB38)," EROARE ART/CAP") -> 19232908 | Q38: 9776690 | R38: 5078505 | S38: 275028 | T38: 0 | U38: 232600 | V38: 0 | W38: 248923 | X38: 516582 | Y38: 30000 | Z38: 2208467 | AA38: 904336 | AB38: -38223 | AC38: 3598009 | AD38: 261735 | AE38: 8730369 | AF38: 185568 | AG38: 1416220 | AH38: 742787 | AI38: 1327345 | AJ38: 444724 | AK38: 0 | AL38: 2204518 | AM38: 321633
A39: 6 | D39: =E39+SUM(H39:O39) -> 0 | P39: =IF(SUM(Q39:AB39)=SUM(AC39:AM39),SUM(Q39:AB39)," EROARE ART/CAP") -> 0
A40: 7 | D40: =E40+SUM(H40:O40) -> 0 | P40: =IF(SUM(Q40:AB40)=SUM(AC40:AM40),SUM(Q40:AB40)," EROARE ART/CAP") -> 0
A41: 8 | D41: =E41+SUM(H41:O41) -> 0 | P41: =IF(SUM(Q41:AB41)=SUM(AC41:AM41),SUM(Q41:AB41)," EROARE ART/CAP") -> 0
A42: 9 | D42: 0 | P42: =IF(SUM(Q42:AB42)=SUM(AC42:AM42),SUM(Q42:AB42)," EROARE ART/CAP") -> 0
A43: 10 | D43: 0 | P43: =IF(SUM(Q43:AB43)=SUM(AC43:AM43),SUM(Q43:AB43)," EROARE ART/CAP") -> 0
A44: 11 | D44: 0 | P44: =IF(SUM(Q44:AB44)=SUM(AC44:AM44),SUM(Q44:AB44)," EROARE ART/CAP") -> 0
A45: 12 | D45: 0 | P45: =IF(SUM(Q45:AB45)=SUM(AC45:AM45),SUM(Q45:AB45)," EROARE ART/CAP") -> 0
A46: 13 | D46: 0 | P46: =IF(SUM(Q46:AB46)=SUM(AC46:AM46),SUM(Q46:AB46)," EROARE ART/CAP") -> 0
A47: 14 | D47: 0 | P47: =IF(SUM(Q47:AB47)=SUM(AC47:AM47),SUM(Q47:AB47)," EROARE ART/CAP") -> 0
A48: 15 | D48: 0 | P48: =IF(SUM(Q48:AB48)=SUM(AC48:AM48),SUM(Q48:AB48)," EROARE ART/CAP") -> 0
A49: 16 | D49: 0 | P49: =IF(SUM(Q49:AB49)=SUM(AC49:AM49),SUM(Q49:AB49)," EROARE ART/CAP") -> 0
A50: 17 | D50: 0 | P50: =IF(SUM(Q50:AB50)=SUM(AC50:AM50),SUM(Q50:AB50)," EROARE ART/CAP") -> 0
A51: 18 | D51: 0 | P51: =IF(SUM(Q51:AB51)=SUM(AC51:AM51),SUM(Q51:AB51)," EROARE ART/CAP") -> 0
A52: 19 | D52: 0 | P52: =IF(SUM(Q52:AB52)=SUM(AC52:AM52),SUM(Q52:AB52)," EROARE ART/CAP") -> 0
A53: 20 | D53: 0 | P53: =IF(SUM(Q53:AB53)=SUM(AC53:AM53),SUM(Q53:AB53)," EROARE ART/CAP") -> 0
A54: D. Total comune | D54: =E54+SUM(H54:O54) -> 581274816 | E54: =SUM(E55:E143) -> 134929756 | F54: =SUM(F55:F143) -> 30538823 | G54: =SUM(G55:G143) -> 41123275 | H54: =SUM(H55:H143) -> 0 | I54: =SUM(I55:I143) -> 190510919 | J54: =SUM(J55:J143) -> 10482276 | K54: =SUM(K55:K143) -> 80757670 | L54: =SUM(L55:L143) -> 0 | ... O54: =SUM(O55:O143) -> 5595786 | P54: =IF(SUM(Q54:AB54)=SUM(AC54:AM54),SUM(Q54:AB54)," EROARE ART/CAP") -> 535791037 | Q54: =SUM(Q55:Q143) -> 215548382 | R54: =SUM(R55:R143) -> 97593501 | S54: =SUM(S55:S143) -> 444529 | T54: =SUM(T55:T143) -> 0 | U54: =SUM(U55:U143) -> 3546060 | V54: =SUM(V55:V143) -> 104021 | W54: =SUM(W55:W143) -> 58155908 | X54: =SUM(X55:X143) -> 22274937 | ... AM54: =SUM(AM55:AM143) -> 2344018
A55: 1 | B55: 21007 | C55: COMUNA AGAS | D55: =E55+SUM(H55:O55) -> 9863825 | E55: 1527896 | F55: 336946 | G55: 302297 | H55: 0 | I55: 3153320 | J55: 160500 | K55: 1319000 | L55: 0 | M55: 2551405 | N55: 1025496 | O55: 126208 | P55: =IF(SUM(Q55:AB55)=SUM(AC55:AM55),SUM(Q55:AB55)," EROARE ART/CAP") -> 9978620 | Q55: 3260942 | R55: 1142055 | S55: 0 | T55: 0 | U55: 37387 | V55: 0 | W55: 789073 | X55: 443371 | Y55: 0 | Z55: 3905792 | AA55: 400000 | AB55: 0 | AC55: 1030716 | AD55: 46799 | AE55: 2806651 | AF55: 0 | AG55: 77566 | AH55: 515614 | AI55: 199006 | AJ55: 166091 | AK55: 0 | AL55: 4732079 | AM55: 404098
A56: 2 | B56: 21098 | C56: COMUNA ARDEOANI | D56: =E56+SUM(H56:O56) -> 2858620 | E56: 1189643 | F56: 256019 | G56: 513681 | H56: 0 | I56: 1088954 | J56: 93500 | K56: 455000 | L56: 0 | M56: 14450 | N56: 0 | O56: 17073 | P56: =IF(SUM(Q56:AB56)=SUM(AC56:AM56),SUM(Q56:AB56)," EROARE ART/CAP") -> 2468723 | Q56: 1362560 | R56: 610329 | S56: 0 | T56: 0 | U56: 81778 | V56: 0 | W56: 0 | X56: 165438 | Y56: 25130 | Z56: 229827 | AA56: 0 | AB56: -6339 | AC56: 808124 | AD56: 40077 | AE56: 920729 | AF56: 0 | AG56: 25763 | AH56: 212625 | AI56: 180606 | AJ56: 49104 | AK56: 0 | AL56: 231695 | AM56: 0
A57: 3 | B57: 21123 | C57: COMUNA ASAU | D57: =E57+SUM(H57:O57) -> 11325946 | E57: 2011752 | F57: 530261 | G57: 229118 | H57: 0 | I57: 3087901 | J57: 143000 | K57: 1413000 | L57: 0 | M57: 3372861 | N57: 1173389 | O57: 124043 | P57: =IF(SUM(Q57:AB57)=SUM(AC57:AM57),SUM(Q57:AB57)," EROARE ART/CAP") -> 11008485 | Q57: 3872481 | R57: 1918970 | S57: 0 | T57: 0 | U57: 75584 | V57: 0 | W57: 1811463 | X57: 180399 | Y57: 69981 | Z57: 3084868 | AA57: 0 | AB57: -5261 | AC57: 1177392 | AD57: 222952 | AE57: 3143365 | AF57: 0 | AG57: 105430 | AH57: 660159 | AI57: 1270444 | AJ57: 219800 | AK57: 0 | AL57: 4208943 | AM57: 0
A58: 4 | B58: 21196 | C58: COMUNA BALCANI | D58: =E58+SUM(H58:O58) -> 9412837 | E58: 1569588 | F58: 270704 | G58: 402458 | H58: 0 | I58: 3623102 | J58: 117000 | K58: 1474000 | L58: 0 | M58: 1988471 | N58: 561448 | O58: 79228 | P58: =IF(SUM(Q58:AB58)=SUM(AC58:AM58),SUM(Q58:AB58)," EROARE ART/CAP") -> 8999074 | Q58: 4013037 | R58: 1777394 | S58: 10806 | T58: 0 | U58: 53867 | V58: 0 | W58: 447811 | X58: 345117 | Y58: 73469 | Z58: 1916511 | AA58: 361062 | AB58: 0 | AC58: 1153001 | AD58: 153105 | AE58: 3230474 | AF58: 6483 | AG58: 230696 | AH58: 738923 | AI58: 131078 | AJ58: 158878 | AK58: 0 | AL58: 3185111 | AM58: 11325
A59: 5 | B59: 21249 | C59: COMUNA BERESTI-BISTRITA | D59: =E59+SUM(H59:O59) -> 5146571 | E59: 1411416 | F59: 223892 | G59: 556420 | H59: 0 | I59: 929467 | J59: 111500 | K59: 402000 | L59: 0 | M59: 2182253 | N59: 71521 | O59: 38414 | P59: =IF(SUM(Q59:AB59)=SUM(AC59:AM59),SUM(Q59:AB59)," EROARE ART/CAP") -> 4561690 | Q59: 1173403 | R59: 680823 | S59: 19429 | T59: 0 | U59: 847 | V59: 0 | W59: 0 | X59: 130386 | Y59: 22463 | Z59: 1843633 | AA59: 690706 | AB59: 0 | AC59: 682659 | AD59: 0 | AE59: 881791 | AF59: 0 | AG59: 43094 | AH59: 130386 | AI59: 160037 | AJ59: 277643 | AK59: 0 | AL59: 2386080 | AM59: 0
A60: 6 | B60: 21338 | C60: COMUNA BERESTI-TAZLAU | D60: =E60+SUM(H60:O60) -> 11060554 | E60: 1499451 | F60: 304811 | G60: 209146 | H60: 0 | I60: 3710812 | J60: 123500 | K60: 1777000 | L60: 0 | M60: 3022064 | N60: 860678 | O60: 67049 | P60: =IF(SUM(Q60:AB60)=SUM(AC60:AM60),SUM(Q60:AB60)," EROARE ART/CAP") -> 11242680 | Q60: 4112978 | R60: 1519576 | S60: 0 | T60: 0 | U60: 24000 | V60: 0 | W60: 1625913 | X60: 323610 | Y60: 0 | Z60: 3639652 | AA60: 0 | AB60: -3049 | AC60: 1167192 | AD60: 127973 | AE60: 3612308 | AF60: 0 | AG60: 416682 | AH60: 602207 | AI60: 1693971 | AJ60: 163681 | AK60: 0 | AL60: 3458666 | AM60: 0
A61: 7 | B61: 21418 | C61: COMUNA BERZUNTI | D61: =E61+SUM(H61:O61) -> 5010857 | E61: 1259696 | F61: 165803 | G61: 657341 | H61: 0 | I61: 2099509 | J61: 67000 | K61: 1061000 | L61: 0 | M61: 514806 | N61: 0 | O61: 8846 | P61: =IF(SUM(Q61:AB61)=SUM(AC61:AM61),SUM(Q61:AB61)," EROARE ART/CAP") -> 4980763 | Q61: 2236009 | R61: 1415350 | S61: 0 | T61: 0 | U61: 82000 | V61: 0 | W61: 0 | X61: 526845 | Y61: 112023 | Z61: 608536 | AA61: 0 | AB61: 0 | AC61: 989320 | AD61: 139416 | AE61: 1819304 | AF61: 24749 | AG61: 161409 | AH61: 614487 | AI61: 305131 | AJ61: 80142 | AK61: 0 | AL61: 846805 | AM61: 0
A62: 8 | B62: 21454 | C62: COMUNA BARSANESTI | D62: =E62+SUM(H62:O62) -> 4663239 | E62: 1352523 | F62: 166577 | G62: 671522 | H62: 0 | I62: 1943416 | J62: 153500 | K62: 696000 | L62: 0 | M62: 133417 | N62: 341224 | O62: 43159 | P62: =IF(SUM(Q62:AB62)=SUM(AC62:AM62),SUM(Q62:AB62)," EROARE ART/CAP") -> 3940450 | Q62: 2156978 | R62: 807730 | S62: 0 | T62: 0 | U62: 44000 | V62: 0 | W62: 415224 | X62: 271133 | Y62: 0 | Z62: 247795 | AA62: 0 | AB62: -2410 | AC62: 761053 | AD62: 69524 | AE62: 1923182 | AF62: 22718 | AG62: 0 | AH62: 352259 | AI62: 120513 | AJ62: 0 | AK62: 0 | AL62: 691201 | AM62: 0
A63: 9 | B63: 21506 | C63: U. A. T. BLAGESTI | D63: =E63+SUM(H63:O63) -> 11806714 | E63: 2046110 | F63: 1050895 | G63: 481533 | H63: 0 | I63: 3651065 | J63: 86000 | K63: 1536000 | L63: 0 | M63: 2656524 | N63: 1817431 | O63: 13584 | P63: =IF(SUM(Q63:AB63)=SUM(AC63:AM63),SUM(Q63:AB63)," EROARE ART/CAP") -> 11620272 | Q63: 4029853 | R63: 2800258 | S63: 0 | T63: 0 | U63: 0 | V63: 0 | W63: 2544019 | X63: 380273 | Y63: 0 | Z63: 1892437 | AA63: 0 | AB63: -26568 | AC63: 5114992 | AD63: 158121 | AE63: 3098085 | AF63: 26278 | AG63: 250261 | AH63: 701693 | AI63: 98039 | AJ63: 143493 | AK63: 0 | AL63: 2029310 | AM63: 0
A64: 10 | B64: 21560 | C64: COMUNA BOGDANESTI | D64: =E64+SUM(H64:O64) -> 4099151 | E64: 1691294 | F64: 558911 | G64: 477500 | H64: 0 | I64: 1009192 | J64: 70500 | K64: 421000 | L64: 0 | M64: 874485 | N64: 0 | O64: 32680 | P64: =IF(SUM(Q64:AB64)=SUM(AC64:AM64),SUM(Q64:AB64)," EROARE ART/CAP") -> 3426748 | Q64: 1249962 | R64: 787606 | S64: 0 | T64: 0 | U64: 110752 | V64: 0 | W64: 0 | X64: 215365 | Y64: 20000 | Z64: 1043730 | AA64: 0 | AB64: -667 | AC64: 659169 | AD64: 8511 | AE64: 1040397 | AF64: 0 | AG64: 61120 | AH64: 243198 | AI64: 159030 | AJ64: 0 | AK64: 0 | AL64: 1247011 | AM64: 8312
A65: 11 | B65: 21597 | C65: COMUNA BRUSTUROASA | D65: =E65+SUM(H65:O65) -> 4237049 | E65: 1120363 | F65: 137725 | G65: 629478 | H65: 0 | I65: 1707141 | J65: 94000 | K65: 564000 | L65: 0 | M65: 234923 | N65: 450706 | O65: 65916 | P65: =IF(SUM(Q65:AB65)=SUM(AC65:AM65),SUM(Q65:AB65)," EROARE ART/CAP") -> 3842860 | Q65: 2005577 | R65: 671988 | S65: 3067 | T65: 0 | U65: 70589 | V65: 0 | W65: 0 | X65: 349736 | Y65: 0 | Z65: 267476 | AA65: 474427 | AB65: 0 | AC65: 982348 | AD65: 672406 | AE65: 1545188 | AF65: 0 | AG65: 34133 | AH65: 494264 | AI65: 28372 | AJ65: 1334 | AK65: 0 | AL65: 84815 | AM65: 0
A66: 12 | B66: 21668 | C66: COMUNA BUHOCI | D66: =E66+SUM(H66:O66) -> 5053832 | E66: 1402666 | F66: 218289 | G66: 579810 | H66: 0 | I66: 2489040 | J66: 118500 | K66: 792000 | L66: 0 | M66: 220119 | N66: 0 | O66: 31507 | P66: =IF(SUM(Q66:AB66)=SUM(AC66:AM66),SUM(Q66:AB66)," EROARE ART/CAP") -> 4470627 | Q66: 2804359 | R66: 759887 | S66: 0 | T66: 0 | U66: 40000 | V66: 0 | W66: 76102 | X66: 332303 | Y66: 0 | Z66: 457976 | AA66: 0 | AB66: 0 | AC66: 680608 | AD66: 4023 | AE66: 2412712 | AF66: 0 | AG66: 0 | AH66: 556456 | AI66: 135603 | AJ66: 204843 | AK66: 0 | AL66: 476382 | AM66: 0
... A139: 85 | B139: 26379 | C139: COMUNA ITESTI | D139: =E139+SUM(H139:O139) -> 3160965 | E139: 1369794 | F139: 217418 | G139: 630600 | H139: 0 | I139: 654205 | J139: 119800 | K139: 520000 | L139: 0 | M139: 478496 | N139: 0 | O139: 18670 | P139: =IF(SUM(Q139:AB139)=SUM(AC139:AM139),SUM(Q139:AB139)," EROARE ART/CAP") -> 3157296 | Q139: 1044432 | R139: 833552 | S139: 0 | T139: 0 | U139: 0 | V139: 0 | W139: 0 | X139: 60851 | Y139: 11185 | Z139: 1214057 | AA139: 0 | AB139: -6781 | AC139: 695392 | AD139: 58348 | AE139: 846369 | AF139: 20034 | AG139: 13423 | AH139: 125495 | AI139: 669649 | AJ139: 113937 | AK139: 0 | AL139: 614649 | AM139: 0
A140: 86 | D140: =E140+SUM(H140:O140) -> 0 | P140: =IF(SUM(Q140:AB140)=SUM(AC140:AM140),SUM(Q140:AB140)," EROARE ART/CAP") -> 0
A141: 87 | D141: =E141+SUM(H141:O141) -> 0 | P141: =IF(SUM(Q141:AB141)=SUM(AC141:AM141),SUM(Q141:AB141)," EROARE ART/CAP") -> 0
A142: 88 | D142: =E142+SUM(H142:O142) -> 0 | P142: =IF(SUM(Q142:AB142)=SUM(AC142:AM142),SUM(Q142:AB142)," EROARE ART/CAP") -> 0
A143: 89 | D143: =E143+SUM(H143:O143) -> 0 | P143: =IF(SUM(Q143:AB143)=SUM(AC143:AM143),SUM(Q143:AB143)," EROARE ART/CAP") -> 0

Sheet 5
AK1: ANEXA nr. 24
B2: Judeţul BIHOR
B3: Perioada: 31.12.2015
L5: SITUAŢIA PRIVIND EXECUŢIA VENITURILOR ŞI CHELTUIELILOR BUGETELOR LOCALE PE UNITĂŢI ADMINISTRATIV-TERITORIALE
AM7: - lei -
A9: DENUMIREA UNITĂŢILOR ADMINISTRATIV-TERITORIALE (în ordine alfabetică) | D9: VENITURI | E9: VENITURI PROPRII | H9: Sume defalcate din TVA pentru finanţarea cheltuielilor descentralizate la nivelul judeţelor | I9: Sume defalcate din TVA pentru finanţarea cheltuielilor descentralizate la nivelul comunelor, oraşelor, municipiilor, sectoarelor şi municipiului Bucureşti | J9: Sume defalcate din TVA pentru drumuri | K9: Sume defalcate din TVA pentru echilibrarea bugetelor locale | L9: Sume defalcate din TVA pentru finanţarea Programului de dezvoltare a infrastructurii şi a bazelor sportive din spaţiul rural | M9: Subvenţii | N9: Sume primite de la UE/alti donatori in contul platilor efectuate si prefinantari | O9: Alte venituri | P9: CHELTUIELI | Q9: d i n c a r e: pe titluri de cheltuieli | AC9: d i n c a r e: pe parti si capitole de cheltuieli
D10: TOTALE | F10: din care: | P10: TOTALE
D11: (col.2+5+...+11) | E11: TOTAL | F11: Cote defalcate din impozitul pe venit | G11: Sume alocate din cotele defalcate din impozitul pe venit pentru echilibrarea bugetelor locale | P11: (col.14+...+24 - 25) (col.26+...+34) | Q11: Cheltuieli de personal | R11: Bunuri şi servicii | S11: Dobânzi | T11: Subvenţii | U11: Transferuri între unităţi ale administraţiei publice | V11: Alte transferuri | W11: Proiecte cu finanţare din fonduri externe nerambursabile | X11: Asistenţă socială | Y11: Alte cheltuieli | Z11: Cheltuieli de capital | AA11: Operatiuni financiare | AB11: Plăţi efectuate în anii precedenţi şi recuperate în anul curent | AC11: Servicii publice generale | AD11: Apărare, ordine publică şi siguranţă naţională | AE11: Învăţământ | AF11: Sănătate | AG11: Cultură, recreere şi religie | AH11: Asigurări şi asistenţă socială | AI11: Servicii şi dezvoltare publică, locuinţe, mediu şi ape | AJ11: Protectia mediului | AK11: Combustibili şi energie | AL11: Transporturi | AM11: Alte cheltuieli
D12: 00.01.02 | E12: 48.02 | F12: 04.02.01 | G12: 04.02.04 | H12: 11.02.01 | I12: 11.02.02 | J12: 11.02.05 | K12: 11.02.06 | L12: 11.02.07 | M12: 42.02 | N12: 45.02+48.02 | P12: 50.02 | Q12: 10 | R12: 20 | S12: 30 | T12: 40 | U12: 51 | V12: 55 | W12: 56 | X12: 57 | Y12: 59 | Z12: 70 | AA12: 79 | AB12: 84 | AC12: 50.02 | AD12: 59.02 | AE12: 65.02 | AF12: 66.02 | AG12: 67.02 | AH12: 68.02 | AI12: 69.02 | AJ12: 74.02 | AK12: 81.02 | AL12: 84.02
A13: A | D13: 1 | E13: 2 | F13: 3 | G13: 4 | H13: 5 | I13: 6 | J13: 7 | K13: 8 | L13: 9 | M13: 10 | N13: 11 | O13: 12 | P13: 13 | Q13: 14 | R13: 15 | S13: 16 | T13: 17 | U13: 18 | V13: 19 | W13: 20 | X13: 21 | Y13: 22 | Z13: 23 | AA13: 24 | AB13: 25 | AC13: 26 | AD13: 27 | AE13: 28 | AF13: 29 | AG13: 30 | AH13: 31 | AI13: 32 | AJ13: 33 | AK13: 34 | AL13: 35 | AM13: 36
A14: TOTAL JUDEŢ (A+B+C+D) | D14: =E14+SUM(H14:O14) -> 2014900419 | E14: =SUM(E15,E16,E33,E54) -> 643135317 | F14: =SUM(F15,F16,F33,F54) -> 287158823 | G14: =SUM(G15,G16,G33,G54) -> 100232000 | H14: =SUM(H15,H16,H33,H54) -> 86730000 | I14: =SUM(I15,I16,I33,I54) -> 417978620 | J14: =SUM(J15,J16,J33,J54) -> 20088725 | K14: =SUM(K15,K16,K33,K54) -> 116833437 | L14: =SUM(L15,L16,L33,L54) -> 0 | ... O14: =SUM(O15,O16,O33,O54) -> 16257153 | P14: =IF(SUM(Q14:AB14)=SUM(AC14:AM14),SUM(Q14:AB14)," EROARE ART/CAP") -> 1953977986 | Q14: =Q15+Q16+Q33+Q54 -> 496351879 | R14: =R15+R16+R33+R54 -> 314471565 | S14: =S15+S16+S33+S54 -> 11566358 | T14: =T15+T16+T33+T54 -> 43556819 | U14: =U15+U16+U33+U54 -> 138809183 | V14: =V15+V16+V33+V54 -> 20710175 | W14: =W15+W16+W33+W54 -> 623780717 | X14: =X15+X16+X33+X54 -> 45368417 | ... AM14: =AM15+AM16+AM33+AM54 -> 57005797
A15: A. Consiliul judeţean | D15: =E15+SUM(H15:O15) -> 419861699 | E15: 95423780 | F15: 60951890 | G15: 31166456 | H15: 86730000 | I15: 0 | J15: 12642000 | K15: 25511630 | L15: 0 | M15: 121196310 | N15: 77668251 | O15: 689728 | P15: =IF(SUM(Q15:AB15)=SUM(AC15:AM15),SUM(Q15:AB15)," EROARE ART/CAP") -> 387823400 | Q15: 57939402 | R15: 53442746 | S15: 2551609 | T15: 0 | U15: 119864720 | V15: 10424909 | W15: 107404607 | X15: 9352726 | Y15: 9445798 | Z15: 14580282 | AA15: 3587374 | AB15: -770773 | AC15: 13118378 | AD15: 906147 | AE15: 45100945 | AF15: 2007310 | AG15: 39927096 | AH15: 132328798 | AI15: 0 | AJ15: 50883929 | AK15: 0 | AL15: 91440657 | AM15: 12110140
A16: B. Total municipii | D16: =E16+SUM(H16:O16) -> 921207655 | E16: =SUM(E18:E32) -> 333555105 | F16: =SUM(F18:F32) -> 162191325 | G16: =SUM(G18:G32) -> 13331852 | H16: =SUM(H18:H32) -> 0 | I16: =SUM(I18:I32) -> 208189288 | J16: =SUM(J18:J32) -> 300000 | K16: =SUM(K18:K32) -> 11969700 | L16: =SUM(L18:L32) -> 0 | ... O16: =SUM(O18:O32) -> 2722940 | P16: =IF(SUM(Q16:AB16)=SUM(AC16:AM16),SUM(Q16:AB16)," EROARE ART/CAP") -> 902559103 | Q16: =SUM(Q18:Q32) -> 209097989 | R16: =SUM(R18:R32) -> 117228830 | S16: =SUM(S18:S32) -> 7823875 | T16: =SUM(T18:T32) -> 43247316 | U16: =SUM(U18:U32) -> 15309919 | V16: =SUM(V18:V32) -> 8347813 | W16: =SUM(W18:W32) -> 395795001 | X16: =SUM(X18:X32) -> 15542517 | ... AM16: =SUM(AM18:AM32) -> 27810716
A17: Nr crt | B17: Cod SIRUTA
A18: 1 | B18: 26804 | C18: BEIUS | D18: =E18+SUM(H18:O18) -> 40628498 | E18: 18665774 | F18: 6767191 | G18: 6464827 | H18: 0 | I18: 15529700 | J18: 0 | K18: 4071710 | L18: 0 | M18: 708023 | N18: 1648791 | O18: 4500 | P18: =IF(SUM(Q18:AB18)=SUM(AC18:AM18),SUM(Q18:AB18)," EROARE ART/CAP") -> 28623206 | Q18: 16148794 | R18: 5714359 | S18: 0 | T18: 0 | U18: 735002 | V18: 1000 | W18: 2593738 | X18: 581882 | Y18: 820769 | Z18: 2144933 | AA18: 0 | AB18: -117271 | AC18: 3778233 | AD18: 4894 | AE18: 15778560 | AF18: 3063577 | AG18: 2083217 | AH18: 945198 | AI18: 1106707 | AJ18: 595620 | AK18: 59247 | AL18: 403570 | AM18: 804383
A19: 2 | B19: 26877 | C19: MARGHITA | D19: =E19+SUM(H19:O19) -> 39595081 | E19: 19216253 | F19: 7747736 | G19: 5453363 | H19: 0 | I19: 15518320 | J19: 0 | K19: 3475680 | L19: 0 | M19: 152532 | N19: 623294 | O19: 609002 | P19: =IF(SUM(Q19:AB19)=SUM(AC19:AM19),SUM(Q19:AB19)," EROARE ART/CAP") -> 39009843 | Q19: 16411137 | R19: 12973471 | S19: 0 | T19: 0 | U19: 2570500 | V19: 0 | W19: 2551300 | X19: 757498 | Y19: 422837 | Z19: 3340198 | AA19: 0 | AB19: -17098 | AC19: 3752857 | AD19: 586646 | AE19: 19174463 | AF19: 636672 | AG19: 5352837 | AH19: 1513726 | AI19: 2557156 | AJ19: 579656 | AK19: 0 | AL19: 4399803 | AM19: 456027
A20: 3 | B20: 26564 | C20: ORADEA | D20: =E20+SUM(H20:O20) -> 804819821 | E20: 277378142 | F20: 139861327 | G20: 911948 | H20: 0 | I20: 161467668 | J20: 0 | K20: 3490360 | L20: 0 | M20: 166655115 | N20: 194391524 | O20: 1437012 | P20: =IF(SUM(Q20:AB20)=SUM(AC20:AM20),SUM(Q20:AB20)," EROARE ART/CAP") -> 801749554 | Q20: 160508842 | R20: 91178089 | S20: 7823875 | T20: 43247316 | U20: 10810430 | V20: 8346813 | W20: 387932951 | X20: 13036622 | Y20: 2245880 | Z20: 25207909 | AA20: 54806703 | AB20: -3395876 | AC20: 26232758 | AD20: 3275993 | AE20: 165250580 | AF20: 12563547 | AG20: 55006437 | AH20: 24862312 | AI20: 80895717 | AJ20: 17264432 | AK20: 268335024 | AL20: 124229460 | AM20: 23833294
A21: 4 | B21: 26975 | C21: SALONTA | D21: =E21+SUM(H21:O21) -> 36164255 | E21: 18294936 | F21: 7815071 | G21: 501714 | H21: 0 | I21: 15673600 | J21: 300000 | K21: 931950 | L21: 0 | M21: 291343 | N21: 0 | O21: 672426 | P21: =IF(SUM(Q21:AB21)=SUM(AC21:AM21),SUM(Q21:AB21)," EROARE ART/CAP") -> 33176500 | Q21: 16029216 | R21: 7362911 | S21: 0 | T21: 0 | U21: 1193987 | V21: 0 | W21: 2717012 | X21: 1166515 | Y21: 283300 | Z21: 4463331 | AA21: 0 | AB21: -39772 | AC21: 2627464 | AD21: 26814 | AE21: 16332750 | AF21: 503906 | AG21: 1283960 | AH21: 1827677 | AI21: 3032139 | AJ21: 2172818 | AK21: 0 | AL21: 2651960 | AM21: 2717012
A22: 5 | D22: =E22+SUM(H22:O22) -> 0 | P22: =IF(SUM(Q22:AB22)=SUM(AC22:AM22),SUM(Q22:AB22)," EROARE ART/CAP") -> 0
A23: 6 | D23: =E23+SUM(H23:O23) -> 0 | P23: =IF(SUM(Q23:AB23)=SUM(AC23:AM23),SUM(Q23:AB23)," EROARE ART/CAP") -> 0
A24: 7 | D24: =E24+SUM(H24:O24) -> 0 | P24: =IF(SUM(Q24:AB24)=SUM(AC24:AM24),SUM(Q24:AB24)," EROARE ART/CAP") -> 0
A25: 8 | D25: =E25+SUM(H25:O25) -> 0 | P25: =IF(SUM(Q25:AB25)=SUM(AC25:AM25),SUM(Q25:AB25)," EROARE ART/CAP") -> 0
A26: 9 | D26: =E26+SUM(H26:O26) -> 0 | P26: =IF(SUM(Q26:AB26)=SUM(AC26:AM26),SUM(Q26:AB26)," EROARE ART/CAP") -> 0
A27: 10 | D27: =E27+SUM(H27:O27) -> 0 | P27: =IF(SUM(Q27:AB27)=SUM(AC27:AM27),SUM(Q27:AB27)," EROARE ART/CAP") -> 0
A28: 11 | D28: =E28+SUM(H28:O28) -> 0 | P28: =IF(SUM(Q28:AB28)=SUM(AC28:AM28),SUM(Q28:AB28)," EROARE ART/CAP") -> 0
A29: 12 | D29: =E29+SUM(H29:O29) -> 0 | P29: =IF(SUM(Q29:AB29)=SUM(AC29:AM29),SUM(Q29:AB29)," EROARE ART/CAP") -> 0
A30: 13 | D30: =E30+SUM(H30:O30) -> 0 | P30: =IF(SUM(Q30:AB30)=SUM(AC30:AM30),SUM(Q30:AB30)," EROARE ART/CAP") -> 0
A31: 14 | D31: =E31+SUM(H31:O31) -> 0 | P31: =IF(SUM(Q31:AB31)=SUM(AC31:AM31),SUM(Q31:AB31)," EROARE ART/CAP") -> 0
A32: 15 | D32: =E32+SUM(H32:O32) -> 0 | P32: =IF(SUM(Q32:AB32)=SUM(AC32:AM32),SUM(Q32:AB32)," EROARE ART/CAP") -> 0
